{"text_format":"1","workbook":"xlsx","n_sheets":4,"sheets":["Zdroj","Prepočet","Súradnice","Kritická"],"not_rendered":{"charts":3,"images":0,"macros":1,"external_links":0,"defined_names":3,"comments":0,"pivot_tables":0},"unopened":[],"bounds":{"document_bytes":16777216,"sheet_cells":100000,"rows_first":2000,"rows_last":500,"rows_between":2000,"halvings":0,"cell_chars":16384,"cell_head_chars":4096},"cells_cut":0,"cells_raw":0,"read":"whole","date_system":"1900"}

{"sheet":"Zdroj","index":0,"n_rows":17,"n_cols":45,"rows_kept":17,"cut":false,"hidden":false,"merged":[[0,13,0,27],[0,29,0,43]]}
[null,null,null,null,null,null,null,null,null,null,null,null,null,"Zaťaženie náprav",null,null,null,null,null,null,null,null,null,null,null,null,null,null,null,"Rázvor náprav"]
["Poradové číslo","Ťahač","Náves","Dĺžka","Šírka ","Výška","Znížená výška","Celková hmotnosť","Hmotnosť ťahača","Hmotnosť návesu","Hmotnosť nákladu","Počet náprav","Suma rázvorov",1,2,3,4,5,6,7,8,9,10,11,12,13,14,15,"Súčet zaťažení náprav",1,2,3,4,5,6,7,8,9,10,11,12,13,14,15,"Súčet rázvorov"]
[1,"Mercedes Benz","Goldhofer",18,2.75,4.2,null,83,10.5,17.5,null,8,15.64,9.3000000000000007,10.85,10.85,10.4,10.4,10.4,10.4,10.4,null,null,null,null,null,null,null,{"$f":"SUM(N3:AB3)","v":83},0,3.45,1.35,5.6,1.31,1.31,1.31,1.31,null,null,null,null,null,null,null,{"$f":"SUM(AD3:AR3)","v":15.640000000000002}]
[2,"MERCEDES","GOLDHOFER",22,4,4.5,4.4000000000000004,99,13.7,27.1,null,9,21.26,7.8,11.4,11.4,11.4,11.4,11.4,11.4,11.4,11.4,null,null,null,null,null,null,{"$f":"SUM(N4:AB4)","v":99.000000000000014},0,2.6,1.36,1.36,10.5,1.36,1.36,1.36,1.36,null,null,null,null,null,null,{"$f":"SUM(AD4:AR4)","v":21.259999999999998}]
[3,"T-815 8x8","P 50N",21.8,3.6,3.7,null,92.4,30.2,16.2,null,10,15.27,7.55,7.55,7.55,7.55,10.36,10.36,10.36,10.36,10.36,10.36,null,null,null,null,null,92.36,0,1.65,2.87,1.45,2.2999999999999998,1.4,1.4,1.4,1.4,1.4,null,null,null,null,null,{"$f":"SUM(AD5:AR5)","v":15.270000000000001}]
[4,"Mercedes","Goldhofer",27,4,4.5,null,100,13.86,35.9,null,12,24.62,5,7,8,8,9,9,9,9,9,9,9,9,null,null,null,100,0,2.5499999999999998,1.35,1.35,3.7,1.36,1.36,7.47,1.36,1.36,1.36,1.4,null,null,null,24.619999999999994]
[5,"Liebherr",null,16.5,3,4,null,96,96,0,null,8,12.4,12,12,12,12,12,12,12,12,null,null,null,null,null,null,null,96,0,1.6,2.8,1.6,1.6,1.6,1.6,1.6,null,null,null,null,null,null,null,12.399999999999999]
[6,"Man","Faymonville",23,5,4,4,115,13,27,null,12,24.59,5,7,8,8,9,9,9,9,9,9,9,9,null,null,null,100,0,2.5499999999999998,1.35,3.7,1.36,1.36,7.47,1.36,1.36,1.36,1.36,1.36,null,null,null,24.589999999999996]
[7,"MAN TGX","Goldhofer",22,3.5,4.2,null,74.739999999999995,11.79,26.95,null,12,20.329999999999998,7.5,7.5,10,10,10,10,10,10,10,10,10,10,null,null,null,115,0,2.6,1.45,1.41,5,1.41,1.41,1.41,1.41,1.41,1.41,1.41,null,null,null,20.330000000000002]
[8,"MAN TGX","Goldhofer",22,3.5,4.2,null,74.739999999999995,10,26.95,null,10,21.03,8,7.5,7.5,7,7.5,7,7.5,8,7,7.74,null,null,null,null,null,74.739999999999995,0,2.63,1.46,1.46,2.2400000000000002,1.36,7.8,1.36,1.36,1.36,null,null,null,null,null,21.029999999999998]
[9,"MERCEDES","GOLDHOFER",42,3.5,4.5,4.4000000000000004,72,12.5,22.5,null,9,38.75,8,8,8,8,8,8,8,8,8,null,null,null,null,null,null,72,0,2.59,1.36,1.36,28,1.36,1.36,1.36,1.36,null,null,null,null,null,null,38.75]
[10,"Iveco","Faymonville",26,3.8,4.7,null,60,12.88,15.12,null,7,18.98,6,8,9,10,9,9,9,null,null,null,null,null,null,null,null,60,0,2.4,1.33,11.2,1.36,1.36,null,null,null,null,null,null,null,null,null,17.649999999999999]
[11,"Volvo","Nooteboom",22,7.1,4,null,82,11.17,23.7,null,9,19.350000000000001,7,8,9.5,9.5,9.6,9.6,9,9.6,9.6,null,null,null,null,null,null,81.399999999999991,0,2.2799999999999998,1.32,1.36,7.14,1.81,1.81,1.81,1.81,null,null,null,null,null,null,19.34]
[12,"Volvo","Nicolas",22,3.5,4.8,null,99,10.5,22,null,11,19.12,5,8,10,9.5,9.5,9.5,9.5,9.5,9.5,9.5,9.5,null,null,null,null,99,0,3.4,1.37,3.5,1.55,1.55,1.55,1.55,1.55,1.55,1.55,null,null,null,null,19.120000000000005]
[13,"Mercedes","Goldhofer",24,4.25,4.4000000000000004,null,98,12.15,26.75,null,14,21.85,5,7,8,6,7,7,7,7,7,7,7,7,5,7,null,94,0,2.5499999999999998,1.35,1.35,3.1,1.5,1.5,1.5,1.5,1.5,1.5,1.5,1.5,1.5,null,21.85]
[14,"MAN TGA","GoldhoferSTZ-L5-60/80",20,4.3,4.2,null,73.16,9.4,16.760000000000002,null,8,14.94,6.65,9.5,9.5,9.5,9.5,9.5,9.5,9.5,null,null,null,null,null,null,null,73.150000000000006,0,3.6,1.4,4.5,1.36,1.36,1.36,1.36,null,null,null,null,null,null,null,14.939999999999998]
[15,"DAF","Broshuis",20.100000000000001,2.5499999999999998,4,4,77,10.93,19.149999999999999,null,7,17.04,8,11.5,11.5,11.5,11.5,11.5,11.5,null,null,null,null,null,null,null,null,77,0,3.9,1.4,6.1,1.85,1.85,1.94,null,null,null,null,null,null,null,null,17.04]

{"sheet":"Prepočet","index":1,"n_rows":134,"n_cols":55,"rows_kept":134,"cut":false,"hidden":true,"merged":[[25,4,25,18],[44,27,44,28],[44,29,44,30],[79,53,79,54],[79,62,79,63],[79,59,79,60],[44,35,44,36],[44,37,44,38],[44,43,44,44],[44,45,44,46]]}
[null,null,null,15]
[null,"id",15,null,1,2,3,4,5,6,7,8,9,10,11,12,13,14,15,16,17,18,19,20,21,22,23,24,25,26,27,28,29,30]
[null,"axle","axle load","wheelbase [mm]","1np",null,"2np",null,"3np",null,"4np",null,"5np",null,"6np",null,"7np",null,"8np",null,"9np",null,"10np",null,"11np",null,"12np",null,"13np",null,"14np",null,"15np"]
[null,1,{"$f":"TRANSPOSE(E89:S89)","v":8},0,{"$f":"IF(C4=\"\",\"\",C4)","v":8},0]
[null,2,11.5,{"$f":"TRANSPOSE(F90:S90)","v":3.9},{"$f":"IF(C5=\"\",\"\",C5)","v":11.5},0,{"$f":"IF($C5=\"\",\"\",SUM($C4:$C5))","v":19.5},{"$f":"IF($D5=\"\",\"\",$D5)","v":3.9}]
[null,3,11.5,1.4,11.5,0,{"$f":"IF($C6=\"\",\"\",SUM($C5:$C6))","v":23},{"$f":"IF($D6=\"\",\"\",$D6)","v":1.4},{"$f":"IF($C6=\"\",\"\",SUM($C4:$C6))","v":31},{"$f":"IF($D6=\"\",\"\",SUM($D5:$D6))","v":5.3}]
[null,4,11.5,6.1,11.5,0,23,6.1,{"$f":"IF($C7=\"\",\"\",SUM($C5:$C7))","v":34.5},{"$f":"IF($D7=\"\",\"\",SUM($D6:$D7))","v":7.5},{"$f":"IF($C7=\"\",\"\",SUM($C4:$C7))","v":42.5},{"$f":"IF($D7=\"\",\"\",SUM($D5:$D7))","v":11.399999999999999}]
[null,5,11.5,1.85,11.5,0,23,1.85,34.5,7.9499999999999993,{"$f":"IF($C8=\"\",\"\",SUM($C5:$C8))","v":46},{"$f":"IF($D8=\"\",\"\",SUM($D6:$D8))","v":9.35},{"$f":"IF($C8=\"\",\"\",SUM($C4:$C8))","v":54},{"$f":"IF($D8=\"\",\"\",SUM($D5:$D8))","v":13.249999999999998}]
[null,6,11.5,1.85,11.5,0,23,1.85,34.5,3.7,46,9.7999999999999989,{"$f":"IF($C9=\"\",\"\",SUM($C5:$C9))","v":57.5},{"$f":"IF($D9=\"\",\"\",SUM($D6:$D9))","v":11.2},{"$f":"IF($C9=\"\",\"\",SUM($C4:$C9))","v":65.5},{"$f":"IF($D9=\"\",\"\",SUM($D5:$D9))","v":15.099999999999998}]
[null,7,11.5,1.94,11.5,0,23,1.94,34.5,3.79,46,5.6400000000000006,57.5,11.739999999999998,{"$f":"IF($C10=\"\",\"\",SUM($C5:$C10))","v":69},{"$f":"IF($D10=\"\",\"\",SUM($D6:$D10))","v":13.139999999999999},{"$f":"IF($C10=\"\",\"\",SUM($C4:$C10))","v":77},{"$f":"IF($D10=\"\",\"\",SUM($D5:$D10))","v":17.04}]
[null,8,"","","",0,"","","","","","","","","","",{"$f":"IF($C11=\"\",\"\",SUM($C5:$C11))","v":""},{"$f":"IF($D11=\"\",\"\",SUM($D6:$D11))","v":""},{"$f":"IF($C11=\"\",\"\",SUM($C4:$C11))","v":""},{"$f":"IF($D11=\"\",\"\",SUM($D5:$D11))","v":""}]
[null,9,"","","",0,"","","","","","","","","","","","",{"$f":"IF($C12=\"\",\"\",SUM($C5:$C12))","v":""},{"$f":"IF($D12=\"\",\"\",SUM($D6:$D12))","v":""},{"$f":"IF($C12=\"\",\"\",SUM($C4:$C12))","v":""},{"$f":"IF($D12=\"\",\"\",SUM($D5:$D12))","v":""}]
[null,10,"","","",0,"","","","","","","","","","","","","","",{"$f":"IF($C13=\"\",\"\",SUM($C5:$C13))","v":""},{"$f":"IF($D13=\"\",\"\",SUM($D6:$D13))","v":""},{"$f":"IF($C13=\"\",\"\",SUM($C4:$C13))","v":""},{"$f":"IF($D13=\"\",\"\",SUM($D5:$D13))","v":""}]
[null,11,"","","",0,"","","","","","","","","","","","","","","","",{"$f":"IF($C14=\"\",\"\",SUM($C5:$C14))","v":""},{"$f":"IF($D14=\"\",\"\",SUM($D6:$D14))","v":""},{"$f":"IF($C14=\"\",\"\",SUM($C4:$C14))","v":""},{"$f":"IF($D14=\"\",\"\",SUM($D5:$D14))","v":""}]
[null,12,"","","",0,"","","","","","","","","","","","","","","","","","",{"$f":"IF($C15=\"\",\"\",SUM($C5:$C15))","v":""},{"$f":"IF($D15=\"\",\"\",SUM($D6:$D15))","v":""},{"$f":"IF($C15=\"\",\"\",SUM($C4:$C15))","v":""},{"$f":"IF($D15=\"\",\"\",SUM($D5:$D15))","v":""}]
[null,13,"","","",0,"","","","","","","","","","","","","","","","","","","","",{"$f":"IF($C16=\"\",\"\",SUM($C5:$C16))","v":""},{"$f":"IF($D16=\"\",\"\",SUM($D6:$D16))","v":""},{"$f":"IF($C16=\"\",\"\",SUM($C4:$C16))","v":""},{"$f":"IF($D16=\"\",\"\",SUM($D5:$D16))","v":""}]
[null,14,"","","",0,"","","","","","","","","","","","","","","","","","","","","","",{"$f":"IF($C17=\"\",\"\",SUM($C5:$C17))","v":""},{"$f":"IF($D17=\"\",\"\",SUM($D6:$D17))","v":""},{"$f":"IF($C17=\"\",\"\",SUM($C4:$C17))","v":""},{"$f":"IF($D17=\"\",\"\",SUM($D5:$D17))","v":""}]
[null,15,"","","",0,"","","","","","","","","","","","","","","","","","","","","","","","",{"$f":"IF($C18=\"\",\"\",SUM($C5:$C18))","v":""},{"$f":"IF($D18=\"\",\"\",SUM($D6:$D18))","v":""},{"$f":"IF($C18=\"\",\"\",SUM($C4:$C18))","v":""},{"$f":"IF($D18=\"\",\"\",SUM($D5:$D18))","v":""}]
[null,"Suma",{"$f":"SUM(C4:C18)","v":77},{"$f":"SUM(D4:D18)","v":17.04}]
[]
[null,"min",{"$f":"MIN(C4:C18)","v":8},{"$f":"MIN(D4:D18)","v":0},8,0,19.5,1.4,31,3.7,42.5,5.6400000000000006,54,11.2,65.5,13.139999999999999,77,17.04,0,0,0,0,0,0,0,0,0,0,0,0,0,0,0,0]
[null,"max",{"$f":"MAX(C4:C18)","v":11.5},{"$f":"MAX(D4:D18)","v":6.1},11.5,0,23,6.1,34.5,7.9499999999999993,46,11.399999999999999,57.5,13.249999999999998,69,15.099999999999998,77,17.04,0,0,0,0,0,0,0,0,0,0,0,0,0,0,0,0]
[]
[]
[]
[null,null,null,null,"AXLE LOAD"]
[null,null,null,null,null,15,14,13,12,11,10,9,8,7,6,5,4,3,2]
[null,null,null,null,1,2,3,4,5,6,7,8,9,10,11,12,13,14,15]
[null,1,null,null,{"$f":"E4","v":8},null,null,null,null,null,null,null,null,null,null,null,null,null,null,1]
[null,2,null,null,11.5,{"$f":"IF($E30=\"\",\"\",SUM($E29:$E30))","v":19.5},null,null,null,null,null,null,null,null,null,null,null,null,null,2]
[null,3,null,null,11.5,23,{"$f":"IF($E31=\"\",\"\",SUM($E29:$E31))","v":31},null,null,null,null,null,null,null,null,null,null,null,null,3]
[null,4,null,null,11.5,23,34.5,{"$f":"IF($E32=\"\",\"\",SUM($E29:$E32))","v":42.5},null,null,null,null,null,null,null,null,null,null,null,4]
[null,5,null,null,11.5,23,34.5,46,{"$f":"IF($E33=\"\",\"\",SUM($E29:$E33))","v":54},null,null,null,null,null,null,null,null,null,null,5]
[null,6,null,null,11.5,23,34.5,46,57.5,{"$f":"IF($E34=\"\",\"\",SUM($E29:$E34))","v":65.5},null,null,null,null,null,null,null,null,null,6]
[null,7,null,null,11.5,23,34.5,46,57.5,69,{"$f":"IF($E35=\"\",\"\",SUM($E29:$E35))","v":77},null,null,null,null,null,null,null,null,7]
[null,8,null,null,"","","","","","","",{"$f":"IF($E36=\"\",\"\",SUM($E29:$E36))","v":""},null,null,null,null,null,null,null,8]
[null,9,null,null,"","","","","","","","",{"$f":"IF($E37=\"\",\"\",SUM($E29:$E37))","v":""},null,null,null,null,null,null,9]
[null,10,null,null,"","","","","","","","","",{"$f":"IF($E38=\"\",\"\",SUM($E29:$E38))","v":""},null,null,null,null,null,10]
[null,11,null,null,"","","","","","","","","","",{"$f":"IF($E39=\"\",\"\",SUM($E29:$E39))","v":""},null,null,null,null,11]
[null,12,null,null,"","","","","","","","","","",{"$f":"IF($E40=\"\",\"\",SUM($E30:$E40))","v":""},{"$f":"IF($E40=\"\",\"\",SUM($E29:$E40))","v":""},null,null,null,12]
[null,13,null,null,"","","","","","","","","","",{"$f":"IF($E41=\"\",\"\",SUM($E31:$E41))","v":""},{"$f":"IF($E41=\"\",\"\",SUM($E30:$E41))","v":""},{"$f":"IF($E41=\"\",\"\",SUM($E29:$E41))","v":""},null,null,13]
[null,14,null,null,"","","","","","","","","","",{"$f":"IF($E42=\"\",\"\",SUM($E32:$E42))","v":""},{"$f":"IF($E42=\"\",\"\",SUM($E31:$E42))","v":""},{"$f":"IF($E42=\"\",\"\",SUM($E30:$E42))","v":""},{"$f":"IF($E42=\"\",\"\",SUM($E29:$E42))","v":""},null,14]
[null,15,null,null,"","","","","","","","","","",{"$f":"IF($E43=\"\",\"\",SUM($E33:$E43))","v":""},{"$f":"IF($E43=\"\",\"\",SUM($E32:$E43))","v":""},{"$f":"IF($E43=\"\",\"\",SUM($E31:$E43))","v":""},{"$f":"IF($E43=\"\",\"\",SUM($E30:$E43))","v":""},{"$f":"IF($E43=\"\",\"\",SUM($E29:$E43))","v":""},15]
[null,null,"MAX",null,{"$f":"MAX(E29:E43)","v":11.5},{"$f":"MAX(F29:F43)","v":23},34.5,46,57.5,69,77,0,0,0,0,0,0,0,0]
[null,null,null,null,null,{"$f":"IF(F30=\"\",\"\",VLOOKUP(F44,F$29:$T$43,F27,FALSE))","v":3},{"$f":"IF(G31=\"\",\"\",VLOOKUP(G44,G$29:$T$43,G27,FALSE))","v":4},{"$f":"IF(H32=\"\",\"\",VLOOKUP(H44,H$29:$T$43,H27,FALSE))","v":5},{"$f":"IF(I33=\"\",\"\",VLOOKUP(I44,I$29:$T$43,I27,FALSE))","v":6},{"$f":"IF(J34=\"\",\"\",VLOOKUP(J44,J$29:$T$43,J27,FALSE))","v":7},{"$f":"IF(K35=\"\",\"\",VLOOKUP(K44,K$29:$T$43,K27,FALSE))","v":7},{"$f":"IF(L36=\"\",\"\",VLOOKUP(L44,L$29:$T$43,L27,FALSE))","v":""},{"$f":"IF(M37=\"\",\"\",VLOOKUP(M44,M$29:$T$43,M27,FALSE))","v":""},{"$f":"IF(N38=\"\",\"\",VLOOKUP(N44,N$29:$T$43,N27,FALSE))","v":""},{"$f":"IF(O39=\"\",\"\",VLOOKUP(O44,O$29:$T$43,O27,FALSE))","v":""},{"$f":"IF(P40=\"\",\"\",VLOOKUP(P44,P$29:$T$43,P27,FALSE))","v":""},{"$f":"IF(Q41=\"\",\"\",VLOOKUP(Q44,Q$29:$T$43,Q27,FALSE))","v":""},{"$f":"IF(R42=\"\",\"\",VLOOKUP(R44,R$29:$T$43,R27,FALSE))","v":""},{"$f":"IF(S43=\"\",\"\",VLOOKUP(S44,S$29:$T$43,S27,FALSE))","v":""},null,null,null,null,null,null,null,null,"t/m",null,"t/m",null,null,null,null,null,"m",null,"m",null,null,null,null,null,"x",null,"x"]
[null,null,null,null,"AXLE WHEELBASE",null,null,null,null,null,null,null,null,null,null,null,null,null,null,null,null,null,null,null,null,null,null,"X","M","X","M",null,null,null,null,"X","M","X","M",null,null,null,null,"X","M","X","M"]
[null,null,null,null,null,15,14,13,12,11,10,9,8,7,6,5,4,3,2,null,null,null,null,null,1,{"$f":"TRANSPOSE(E85:S85)","v":0},1,{"$f":"E64","v":0},{"$f":"E44","v":11.5},{"$f":"AB47","v":0},{"$f":"AC47","v":11.5},null,1,{"$f":"TRANSPOSE(E45:S45)","v":0},1,{"$f":"E64","v":0},{"$f":"E44","v":11.5},{"$f":"AJ47","v":0},{"$f":"AK47","v":11.5},null,1,{"$f":"TRANSPOSE(E65:S65)","v":0},1,{"$f":"E64","v":0},{"$f":"E44","v":11.5},{"$f":"AR47","v":0},{"$f":"AS47","v":11.5}]
[null,null,null,null,1,2,3,4,5,6,7,8,9,10,11,12,13,14,15,null,null,null,null,null,2,3,2,{"$f":"IF(Z48=\"\",\"\",INDEX($E$49:$S$63,Z48,AA48))","v":1.4},{"$f":"IF(Z48=\"\",\"\",INDEX($E$29:$S$43,Z48,AA48))","v":23},{"$f":"AB48","v":1.4},{"$f":"AC47","v":11.5},null,2,3,2,{"$f":"IF(AH48=\"\",\"\",INDEX($E$49:$S$63,AH48,AI48))","v":1.4},{"$f":"IF(AH48=\"\",\"\",INDEX($E$29:$S$43,AH48,AI48))","v":23},{"$f":"AJ48","v":1.4},{"$f":"AK47","v":11.5},null,2,3,2,{"$f":"IF(AP48=\"\",\"\",INDEX($E$49:$S$63,AP48,AQ48))","v":1.4},{"$f":"IF(AP48=\"\",\"\",INDEX($E$29:$S$43,AP48,AQ48))","v":23},{"$f":"AR48","v":1.4},{"$f":"AS47","v":11.5}]
[null,1,null,null,null,null,null,null,null,null,null,null,null,null,null,null,null,null,null,1,null,null,null,null,3,6,3,3.7,34.5,{"$f":"AB48","v":1.4},{"$f":"AC48","v":23},null,3,4,3,7.5,34.5,{"$f":"AJ48","v":1.4},{"$f":"AK48","v":23},null,3,6,3,3.7,34.5,{"$f":"AR48","v":1.4},{"$f":"AS48","v":23}]
[null,2,null,null,null,{"$f":"IF(D5=\"\",\"\",D5)","v":3.9},null,null,null,null,null,null,null,null,null,null,null,null,null,2,null,null,null,null,4,7,4,5.6400000000000006,46,{"$f":"AB49","v":3.7},{"$f":"AC48","v":23},null,4,5,4,9.35,46,{"$f":"AJ49","v":7.5},{"$f":"AK48","v":23},null,4,7,4,5.6400000000000006,46,{"$f":"AR49","v":3.7},{"$f":"AS48","v":23}]
[null,3,null,null,null,1.4,{"$f":"IF($F51=\"\",\"\",SUM($F50:$F51))","v":5.3},null,null,null,null,null,null,null,null,null,null,null,null,3,null,null,null,null,5,6,5,11.2,57.5,{"$f":"AB49","v":3.7},{"$f":"AC49","v":34.5},null,5,6,5,11.2,57.5,{"$f":"AJ49","v":7.5},{"$f":"AK49","v":34.5},null,5,6,5,11.2,57.5,{"$f":"AR49","v":3.7},{"$f":"AS49","v":34.5}]
[null,4,null,null,null,6.1,7.5,{"$f":"IF($F52=\"\",\"\",SUM($F50:$F52))","v":11.399999999999999},null,null,null,null,null,null,null,null,null,null,null,4,null,null,null,null,6,7,6,13.139999999999999,69,{"$f":"AB50","v":5.6400000000000006},{"$f":"AC49","v":34.5},null,6,7,6,13.139999999999999,69,{"$f":"AJ50","v":9.35},{"$f":"AK49","v":34.5},null,6,7,6,13.139999999999999,69,{"$f":"AR50","v":5.6400000000000006},{"$f":"AS49","v":34.5}]
[null,5,null,null,null,1.85,7.9499999999999993,9.35,{"$f":"IF($F53=\"\",\"\",SUM($F50:$F53))","v":13.249999999999998},null,null,null,null,null,null,null,null,null,null,5,null,null,null,null,7,7,7,17.04,77,{"$f":"AB50","v":5.6400000000000006},{"$f":"AC50","v":46},null,7,7,7,17.04,77,{"$f":"AJ50","v":9.35},{"$f":"AK50","v":46},null,7,7,7,17.04,77,{"$f":"AR50","v":5.6400000000000006},{"$f":"AS50","v":46}]
[null,6,null,null,null,1.85,3.7,9.7999999999999989,11.2,{"$f":"IF($F54=\"\",\"\",SUM($F50:$F54))","v":15.099999999999998},null,null,null,null,null,null,null,null,null,6,null,null,null,null,8,"",8,"","",{"$f":"AB51","v":11.2},{"$f":"AC50","v":46},null,8,"",8,"","",{"$f":"AJ51","v":11.2},{"$f":"AK50","v":46},null,8,"",8,"","",{"$f":"AR51","v":11.2},{"$f":"AS50","v":46}]
[null,7,null,null,null,1.94,3.79,5.6400000000000006,11.739999999999998,13.139999999999999,{"$f":"IF($F55=\"\",\"\",SUM($F50:$F55))","v":17.04},null,null,null,null,null,null,null,null,7,null,null,null,null,9,"",9,"","",{"$f":"AB51","v":11.2},{"$f":"AC51","v":57.5},null,9,"",9,"","",{"$f":"AJ51","v":11.2},{"$f":"AK51","v":57.5},null,9,"",9,"","",{"$f":"AR51","v":11.2},{"$f":"AS51","v":57.5}]
[null,8,null,null,null,"","","","","","",{"$f":"IF($F56=\"\",\"\",SUM($F50:$F56))","v":""},null,null,null,null,null,null,null,8,null,null,null,null,10,"",10,"","",{"$f":"AB52","v":13.139999999999999},{"$f":"AC51","v":57.5},null,10,"",10,"","",{"$f":"AJ52","v":13.139999999999999},{"$f":"AK51","v":57.5},null,10,"",10,"","",{"$f":"AR52","v":13.139999999999999},{"$f":"AS51","v":57.5}]
[null,9,null,null,null,"","","","","","","",{"$f":"IF($F57=\"\",\"\",SUM($F50:$F57))","v":""},null,null,null,null,null,null,9,null,null,null,null,11,"",11,"","",{"$f":"AB52","v":13.139999999999999},{"$f":"AC52","v":69},null,11,"",11,"","",{"$f":"AJ52","v":13.139999999999999},{"$f":"AK52","v":69},null,11,"",11,"","",{"$f":"AR52","v":13.139999999999999},{"$f":"AS52","v":69}]
[null,10,null,null,null,"","","","","","","","",{"$f":"IF($F58=\"\",\"\",SUM($F50:$F58))","v":""},null,null,null,null,null,10,null,null,null,null,12,"",12,"","",{"$f":"AB53","v":17.04},{"$f":"AC52","v":69},null,12,"",12,"","",{"$f":"AJ53","v":17.04},{"$f":"AK52","v":69},null,12,"",12,"","",{"$f":"AR53","v":17.04},{"$f":"AS52","v":69}]
[null,11,null,null,null,"","","","","","","","","",{"$f":"IF($F59=\"\",\"\",SUM($F50:$F59))","v":""},null,null,null,null,11,null,null,null,null,13,"",13,"","",{"$f":"AB53","v":17.04},{"$f":"AC53","v":77},null,13,"",13,"","",{"$f":"AJ53","v":17.04},{"$f":"AK53","v":77},null,13,"",13,"","",{"$f":"AR53","v":17.04},{"$f":"AS53","v":77}]
[null,12,null,null,null,"","","","","","","","","",{"$f":"IF($F60=\"\",\"\",SUM($F51:$F60))","v":""},{"$f":"IF($F60=\"\",\"\",SUM($F50:$F60))","v":""},null,null,null,12,null,null,null,null,14,"",14,"","",{"$f":"AB54","v":""},{"$f":"AC53","v":77},null,14,"",14,"","",{"$f":"AJ54","v":""},{"$f":"AK53","v":77},null,14,"",14,"","",{"$f":"AR54","v":""},{"$f":"AS53","v":77}]
[null,13,null,null,null,"","","","","","","","","",{"$f":"IF($F61=\"\",\"\",SUM($F52:$F61))","v":""},{"$f":"IF($F61=\"\",\"\",SUM($F51:$F61))","v":""},{"$f":"IF($F61=\"\",\"\",SUM($F50:$F61))","v":""},null,null,13,null,null,null,null,15,"",15,"","",{"$f":"AB54","v":""},{"$f":"AC54","v":""},null,15,"",15,"","",{"$f":"AJ54","v":""},{"$f":"AK54","v":""},null,15,"",15,"","",{"$f":"AR54","v":""},{"$f":"AS54","v":""}]
[null,14,null,null,null,"","","","","","","","","",{"$f":"IF($F62=\"\",\"\",SUM($F53:$F62))","v":""},{"$f":"IF($F62=\"\",\"\",SUM($F52:$F62))","v":""},{"$f":"IF($F62=\"\",\"\",SUM($F51:$F62))","v":""},{"$f":"IF($F62=\"\",\"\",SUM($F50:$F62))","v":""},null,14,null,null,null,null,null,null,null,null,null,{"$f":"AB55","v":""},{"$f":"AC54","v":""},null,null,null,null,null,null,{"$f":"AJ55","v":""},{"$f":"AK54","v":""},null,null,null,null,null,null,{"$f":"AR55","v":""},{"$f":"AS54","v":""}]
[null,15,null,null,null,"","","","","","","","","",{"$f":"IF($F63=\"\",\"\",SUM($F54:$F63))","v":""},{"$f":"IF($F63=\"\",\"\",SUM($F53:$F63))","v":""},{"$f":"IF($F63=\"\",\"\",SUM($F52:$F63))","v":""},{"$f":"IF($F63=\"\",\"\",SUM($F51:$F63))","v":""},{"$f":"IF($F63=\"\",\"\",SUM($F50:$F63))","v":""},15,null,null,null,null,null,null,null,null,null,{"$f":"AB55","v":""},{"$f":"AC55","v":""},null,null,null,null,null,null,{"$f":"AJ55","v":""},{"$f":"AK55","v":""},null,null,null,null,null,null,{"$f":"AR55","v":""},{"$f":"AS55","v":""}]
[null,null,"MIN",null,{"$f":"MIN(E49:E63)","v":0},{"$f":"MIN(F49:F63)","v":1.4},3.7,5.6400000000000006,11.2,13.139999999999999,17.04,0,0,0,0,0,0,0,0,null,null,null,null,null,null,null,null,null,null,{"$f":"AB56","v":""},{"$f":"AC55","v":""},null,null,null,null,null,null,{"$f":"AJ56","v":""},{"$f":"AK55","v":""},null,null,null,null,null,null,{"$f":"AR56","v":""},{"$f":"AS55","v":""}]
[null,null,null,null,null,{"$f":"IF(F50=\"\",\"\",VLOOKUP(F64,F$49:$T$63,F47,FALSE))","v":3},{"$f":"IF(G51=\"\",\"\",VLOOKUP(G64,G$49:$T$63,G47,FALSE))","v":6},{"$f":"IF(H52=\"\",\"\",VLOOKUP(H64,H$49:$T$63,H47,FALSE))","v":7},{"$f":"IF(I53=\"\",\"\",VLOOKUP(I64,I$49:$T$63,I47,FALSE))","v":6},{"$f":"IF(J54=\"\",\"\",VLOOKUP(J64,J$49:$T$63,J47,FALSE))","v":7},{"$f":"IF(K55=\"\",\"\",VLOOKUP(K64,K$49:$T$63,K47,FALSE))","v":7},{"$f":"IF(L56=\"\",\"\",VLOOKUP(L64,L$49:$T$63,L47,FALSE))","v":""},{"$f":"IF(M57=\"\",\"\",VLOOKUP(M64,M$49:$T$63,M47,FALSE))","v":""},{"$f":"IF(N58=\"\",\"\",VLOOKUP(N64,N$49:$T$63,N47,FALSE))","v":""},{"$f":"IF(O59=\"\",\"\",VLOOKUP(O64,O$49:$T$63,O47,FALSE))","v":""},{"$f":"IF(P60=\"\",\"\",VLOOKUP(P64,P$49:$T$63,P47,FALSE))","v":""},{"$f":"IF(Q61=\"\",\"\",VLOOKUP(Q64,Q$49:$T$63,Q47,FALSE))","v":""},{"$f":"IF(R62=\"\",\"\",VLOOKUP(R64,R$49:$T$63,R47,FALSE))","v":""},{"$f":"IF(S63=\"\",\"\",VLOOKUP(S64,S$49:$T$63,S47,FALSE))","v":""},null,null,null,null,null,null,null,null,null,null,{"$f":"AB56","v":""},{"$f":"AC56","v":""},null,null,null,null,null,null,{"$f":"AJ56","v":""},{"$f":"AK56","v":""},null,null,null,null,null,null,{"$f":"AR56","v":""},{"$f":"AS56","v":""}]
[null,null,null,null,"LOAD t/m",null,null,null,null,null,null,null,null,null,null,null,null,null,null,null,null,null,null,null,null,null,null,null,null,{"$f":"AB57","v":""},null,null,null,null,null,null,null,{"$f":"AJ57","v":""},null,null,null,null,null,null,null,{"$f":"AR57","v":""}]
[null,null,null,null,null,15,14,13,12,11,10,9,8,7,6,5,4,3,2,null,null,null,null,null,null,null,null,null,null,{"$f":"AB57","v":""},{"$f":"AC57","v":""}]
[null,null,null,null,1,2,3,4,5,6,7,8,9,10,11,12,13,14,15,null,null,null,null,null,null,null,null,null,null,{"$f":"AB58","v":""},{"$f":"AC57","v":""}]
[null,1,null,null,null,null,null,null,null,null,null,null,null,null,null,null,null,null,null,1]
[null,2,null,null,null,{"$f":"IF($C5=\"\",\"\",F30/F50)","v":5},null,null,null,null,null,null,null,null,null,null,null,null,null,2]
[null,3,null,null,null,16.428571428571431,{"$f":"IF($C6=\"\",\"\",G31/G51)","v":5.8490566037735849},null,null,null,null,null,null,null,null,null,null,null,null,3]
[null,4,null,null,null,3.7704918032786887,4.5999999999999996,{"$f":"IF($C7=\"\",\"\",H32/H52)","v":3.7280701754385968},null,null,null,null,null,null,null,null,null,null,null,4]
[null,5,null,null,null,12.432432432432432,4.3396226415094343,4.9197860962566846,{"$f":"IF($C8=\"\",\"\",I33/I53)","v":4.0754716981132084},null,null,null,null,null,null,null,null,null,null,5]
[null,6,null,null,null,12.432432432432432,9.3243243243243246,4.6938775510204085,5.1339285714285721,{"$f":"IF($C9=\"\",\"\",J34/J54)","v":4.3377483443708611},null,null,null,null,null,null,null,null,null,6]
[null,7,null,null,null,11.855670103092784,9.1029023746701849,8.1560283687943258,4.8977853492333905,5.2511415525114158,{"$f":"IF($C10=\"\",\"\",K35/K55)","v":4.518779342723005},null,null,null,null,null,null,null,null,7]
[null,8,null,null,null,"","","","","","",{"$f":"IF($C11=\"\",\"\",L36/L56)","v":""},null,null,null,null,null,null,null,8]
[null,9,null,null,null,"","","","","","","",{"$f":"IF($C12=\"\",\"\",M37/M57)","v":""},null,null,null,null,null,null,9]
[null,10,null,null,null,"","","","","","","","",{"$f":"IF($C13=\"\",\"\",N38/N58)","v":""},null,null,null,null,null,10]
[null,11,null,null,null,"","","","","","","","","",{"$f":"IF($C14=\"\",\"\",O39/O59)","v":""},null,null,null,null,11,null,null,null,null,null,null,null,null,null,null,null,null,null,null,null,null,null,null,null,null,null,null,null,null,null,null,null,null,null,null,{"$f":"Zdroj!AQ80","v":0}]
[null,12,null,null,null,"","","","","","","","","",{"$f":"IF($C15=\"\",\"\",O40/O60)","v":""},{"$f":"IF($C15=\"\",\"\",P40/P60)","v":""},null,null,null,12,null,null,null,null,null,null,null,null,null,null,null,null,null,null,null,null,null,null,null,null,null,null,null,null,null,null,null,null,null,null,null,null,null,"súradnice"]
[null,13,null,null,null,"","","","","","","","","",{"$f":"IF($C16=\"\",\"\",O41/O61)","v":""},{"$f":"IF($C16=\"\",\"\",P41/P61)","v":""},{"$f":"IF($C16=\"\",\"\",Q41/Q61)","v":""},null,null,13,null,null,null,null,null,null,null,null,null,null,null,null,null,"x","m","m/x",null,"x","m","m/x","m*x",null,"x","m","m/x","m*x",null,"x","m",null,"x","m",null,"x","m"]
[null,14,null,null,null,"","","","","","","","","",{"$f":"IF($C17=\"\",\"\",O42/O62)","v":""},{"$f":"IF($C17=\"\",\"\",P42/P62)","v":""},{"$f":"IF($C17=\"\",\"\",Q42/Q62)","v":""},{"$f":"IF($C17=\"\",\"\",R42/R62)","v":""},null,14,null,null,null,null,null,null,null,null,null,{"$f":"IF(AB47=\"\",\"\",AB47)","v":0},{"$f":"IF(AC47=\"\",\"\",AC47)","v":11.5},{"$f":"IF(AD82=0,AE82,IF(AD82=\"\",\"\",AE82/AD82))","v":11.5},null,0,11.5,11.5,null,0,11.5,11.5,{"$f":"IF(AL82=\"\",\"\",AL82*AM82)","v":0},null,0,11.5,11.5,0,null,{"$f":"AQ82","v":0},{"$f":"AR82","v":11.5},null,0,11.5,null,{"$f":"IF(AY82=\"\",\"\",AY82)","v":0},{"$f":"IF(AZ82=\"\",\"\",AZ82)","v":11.5}]
[null,15,null,null,null,"","","","","","","","","",{"$f":"IF($C18=\"\",\"\",O43/O63)","v":""},{"$f":"IF($C18=\"\",\"\",P43/P63)","v":""},{"$f":"IF($C18=\"\",\"\",Q43/Q63)","v":""},{"$f":"IF($C18=\"\",\"\",R43/R63)","v":""},{"$f":"IF($C18=\"\",\"\",S43/S63)","v":""},15,null,null,null,null,null,null,null,null,null,1.4,23,{"$f":"IF(AD83=0,AE83,IF(AD83=\"\",\"\",AE83/AD83))","v":16.428571428571431},null,0,11.5,11.5,null,0,11.5,11.5,0,null,0,11.5,11.5,0,null,{"$f":"IF($AR83>MAX($AR$82:AR82),AQ83,\"\")","v":""},{"$f":"IF($AR83>MAX($AR$82:AR82),AR83,\"\")","v":""},null,1.4,23,null,{"$f":"IF(AY83=\"\",\"\",AY83)","v":1.4},{"$f":"IF(AZ83=\"\",\"\",AZ82)","v":11.5}]
[null,null,"MAX",null,{"$f":"MAX(E69:E80)","v":0},{"$f":"MAX(F69:F83)","v":16.428571428571431},9.3243243243243246,8.1560283687943258,5.1339285714285721,5.2511415525114158,4.518779342723005,0,0,0,0,0,0,0,{"$f":"MAX(S69:S83)","v":0},null,null,null,null,null,null,null,null,null,null,3.7,34.5,9.3243243243243246,null,0,11.5,11.5,null,0,11.5,11.5,0,null,1.4,23,16.428571428571431,32.199999999999996,null,{"$f":"IF($AR84>MAX($AR$82:AR83),AQ84,\"\")","v":1.4},{"$f":"IF($AR84>MAX($AR$82:AR83),AR84,\"\")","v":23},null,3.7,34.5,null,{"$f":"IF(AY83=\"\",\"\",AY83)","v":1.4},{"$f":"IF(AZ83=\"\",\"\",AZ83)","v":23}]
[null,null,null,null,null,{"$f":"IF(F70=\"\",\"\",VLOOKUP(F84,F$69:$T$83,F67,FALSE))","v":3},{"$f":"IF(G71=\"\",\"\",VLOOKUP(G84,G$69:$T$83,G67,FALSE))","v":6},{"$f":"IF(H72=\"\",\"\",VLOOKUP(H84,H$69:$T$83,H67,FALSE))","v":7},{"$f":"IF(I73=\"\",\"\",VLOOKUP(I84,I$69:$T$83,I67,FALSE))","v":6},{"$f":"IF(J74=\"\",\"\",VLOOKUP(J84,J$69:$T$83,J67,FALSE))","v":7},{"$f":"IF(K75=\"\",\"\",VLOOKUP(K84,K$69:$T$83,K67,FALSE))","v":7},{"$f":"IF(L76=\"\",\"\",VLOOKUP(L84,L$69:$T$83,L67,FALSE))","v":""},{"$f":"IF(M77=\"\",\"\",VLOOKUP(M84,M$69:$T$83,M67,FALSE))","v":""},{"$f":"IF(N78=\"\",\"\",VLOOKUP(N84,N$69:$T$83,N67,FALSE))","v":""},{"$f":"IF(O79=\"\",\"\",VLOOKUP(O84,O$69:$T$83,O67,FALSE))","v":""},{"$f":"IF(P80=\"\",\"\",VLOOKUP(P84,P$69:$T$83,P67,FALSE))","v":""},{"$f":"IF(Q81=\"\",\"\",VLOOKUP(Q84,Q$69:$T$83,Q67,FALSE))","v":""},{"$f":"IF(R82=\"\",\"\",VLOOKUP(R84,R$69:$T$83,R67,FALSE))","v":""},{"$f":"IF(S83=\"\",\"\",VLOOKUP(S84,S$69:$T$83,S67,FALSE))","v":""},null,null,null,null,null,null,null,null,null,null,5.6400000000000006,46,8.1560283687943258,null,1.4,23,16.428571428571431,null,1.4,23,16.428571428571431,32.199999999999996,null,3.7,34.5,9.3243243243243246,127.65,null,{"$f":"IF($AR85>MAX($AR$82:AR84),AQ85,\"\")","v":3.7},{"$f":"IF($AR85>MAX($AR$82:AR84),AR85,\"\")","v":34.5},null,5.6400000000000006,46,null,{"$f":"IF(AY84=\"\",\"\",AY84)","v":3.7},{"$f":"IF(AZ84=\"\",\"\",AZ83)","v":23}]
[null,null,null,null,14,15,16,17,18,19,20,21,22,23,24,25,26,27,28,null,null,null,null,null,null,null,null,null,null,11.2,57.5,5.1339285714285721,null,1.4,23,16.428571428571431,null,1.4,23,16.428571428571431,32.199999999999996,null,5.6400000000000006,46,8.1560283687943258,259.44000000000005,null,{"$f":"IF($AR86>MAX($AR$82:AR85),AQ86,\"\")","v":5.6400000000000006},{"$f":"IF($AR86>MAX($AR$82:AR85),AR86,\"\")","v":46},null,11.2,57.5,null,{"$f":"IF(AY84=\"\",\"\",AY84)","v":3.7},{"$f":"IF(AZ84=\"\",\"\",AZ84)","v":34.5}]
[null,null,"m",{"$f":"VLOOKUP(C2,Zdroj!A3:A997,1,FALSE)","v":15},{"$f":"INDEX(Zdroj!$A$3:$AT$17,Prepočet!$D$87,E86)","v":8},{"$f":"INDEX(Zdroj!$A$3:$AT$17,Prepočet!$D$87,F86)","v":11.5},{"$f":"INDEX(Zdroj!$A$3:$AT$17,Prepočet!$D$87,G86)","v":11.5},{"$f":"INDEX(Zdroj!$A$3:$AT$17,Prepočet!$D$87,H86)","v":11.5},{"$f":"INDEX(Zdroj!$A$3:$AT$17,Prepočet!$D$87,I86)","v":11.5},{"$f":"INDEX(Zdroj!$A$3:$AT$17,Prepočet!$D$87,J86)","v":11.5},{"$f":"INDEX(Zdroj!$A$3:$AT$17,Prepočet!$D$87,K86)","v":11.5},{"$f":"INDEX(Zdroj!$A$3:$AT$17,Prepočet!$D$87,L86)","v":0},{"$f":"INDEX(Zdroj!$A$3:$AT$17,Prepočet!$D$87,M86)","v":0},{"$f":"INDEX(Zdroj!$A$3:$AT$17,Prepočet!$D$87,N86)","v":0},{"$f":"INDEX(Zdroj!$A$3:$AT$17,Prepočet!$D$87,O86)","v":0},{"$f":"INDEX(Zdroj!$A$3:$AT$17,Prepočet!$D$87,P86)","v":0},{"$f":"INDEX(Zdroj!$A$3:$AT$17,Prepočet!$D$87,Q86)","v":0},{"$f":"INDEX(Zdroj!$A$3:$AT$17,Prepočet!$D$87,R86)","v":0},{"$f":"INDEX(Zdroj!$A$3:$AT$17,Prepočet!$D$87,S86)","v":0},null,null,null,null,null,null,null,null,null,null,13.139999999999999,69,5.2511415525114158,null,1.4,23,16.428571428571431,null,1.4,23,16.428571428571431,32.199999999999996,null,7.5,34.5,4.5999999999999996,258.75,null,{"$f":"IF($AR87>MAX($AR$82:AR86),AQ87,\"\")","v":""},{"$f":"IF($AR87>MAX($AR$82:AR86),AR87,\"\")","v":""},null,13.139999999999999,69,null,{"$f":"IF(AY85=\"\",\"\",AY85)","v":5.6400000000000006},{"$f":"IF(AZ85=\"\",\"\",AZ84)","v":34.5}]
[null,null,"x",{"$f":"VLOOKUP(C2,Zdroj!A3:A998,1,FALSE)","v":15},{"$f":"INDEX(Zdroj!$A$3:$AT$17,Prepočet!$D$87,E86+16)","v":0},{"$f":"INDEX(Zdroj!$A$3:$AT$17,Prepočet!$D$87,F86+16)","v":3.9},{"$f":"INDEX(Zdroj!$A$3:$AT$17,Prepočet!$D$87,G86+16)","v":1.4},{"$f":"INDEX(Zdroj!$A$3:$AT$17,Prepočet!$D$87,H86+16)","v":6.1},{"$f":"INDEX(Zdroj!$A$3:$AT$17,Prepočet!$D$87,I86+16)","v":1.85},{"$f":"INDEX(Zdroj!$A$3:$AT$17,Prepočet!$D$87,J86+16)","v":1.85},{"$f":"INDEX(Zdroj!$A$3:$AT$17,Prepočet!$D$87,K86+16)","v":1.94},{"$f":"INDEX(Zdroj!$A$3:$AT$17,Prepočet!$D$87,L86+16)","v":0},{"$f":"INDEX(Zdroj!$A$3:$AT$17,Prepočet!$D$87,M86+16)","v":0},{"$f":"INDEX(Zdroj!$A$3:$AT$17,Prepočet!$D$87,N86+16)","v":0},{"$f":"INDEX(Zdroj!$A$3:$AT$17,Prepočet!$D$87,O86+16)","v":0},{"$f":"INDEX(Zdroj!$A$3:$AT$17,Prepočet!$D$87,P86+16)","v":0},{"$f":"INDEX(Zdroj!$A$3:$AT$17,Prepočet!$D$87,Q86+16)","v":0},{"$f":"INDEX(Zdroj!$A$3:$AT$17,Prepočet!$D$87,R86+16)","v":0},{"$f":"INDEX(Zdroj!$A$3:$AT$17,Prepočet!$D$87,S86+16)","v":0},null,null,null,null,null,null,null,null,null,null,17.04,77,4.518779342723005,null,3.7,34.5,9.3243243243243246,null,3.7,34.5,9.3243243243243246,127.65,null,9.35,46,4.9197860962566846,430.09999999999997,null,{"$f":"IF($AR88>MAX($AR$82:AR87),AQ88,\"\")","v":""},{"$f":"IF($AR88>MAX($AR$82:AR87),AR88,\"\")","v":""},null,17.04,77,null,{"$f":"IF(AY85=\"\",\"\",AY85)","v":5.6400000000000006},{"$f":"IF(AZ85=\"\",\"\",AZ85)","v":46}]
[null,null,"m",null,{"$f":"IF(E87=0,\"\",E87)","v":8},{"$f":"IF(F87=0,\"\",F87)","v":11.5},11.5,11.5,11.5,11.5,11.5,"","","","","","","","",null,null,null,null,null,null,null,null,null,null,"","","",null,3.7,34.5,9.3243243243243246,null,3.7,34.5,9.3243243243243246,{"$f":"IF(AL89=\"\",\"\",AL89*AM89)","v":127.65},null,11.2,57.5,5.1339285714285721,644,null,{"$f":"IF($AR89>MAX($AR$82:AR88),AQ89,\"\")","v":11.2},{"$f":"IF($AR89>MAX($AR$82:AR88),AR89,\"\")","v":57.5},null,"","",null,{"$f":"IF(AY86=\"\",\"\",AY86)","v":11.2},{"$f":"IF(AZ86=\"\",\"\",AZ85)","v":46}]
[null,null,"x",null,{"$f":"IF(E88=0,\"\",E88)","v":""},3.9,1.4,6.1,1.85,1.85,1.94,"","","","","","","","",null,null,null,null,null,null,null,null,null,null,"","","",null,5.6400000000000006,46,8.1560283687943258,null,5.6400000000000006,46,8.1560283687943258,259.44000000000005,null,13.139999999999999,69,5.2511415525114158,906.66,null,{"$f":"IF($AR90>MAX($AR$82:AR89),AQ90,\"\")","v":13.139999999999999},{"$f":"IF($AR90>MAX($AR$82:AR89),AR90,\"\")","v":69},null,"","",null,{"$f":"IF(AY86=\"\",\"\",AY86)","v":11.2},{"$f":"IF(AZ86=\"\",\"\",AZ86)","v":57.5}]
[null,null,null,null,null,null,null,null,null,null,null,null,null,null,null,null,null,null,null,null,null,null,null,null,null,null,null,null,null,"","","",null,5.6400000000000006,46,8.1560283687943258,null,5.6400000000000006,46,8.1560283687943258,259.44000000000005,null,17.04,77,4.518779342723005,1312.08,null,{"$f":"IF($AR91>MAX($AR$82:AR90),AQ91,\"\")","v":17.04},{"$f":"IF($AR91>MAX($AR$82:AR90),AR91,\"\")","v":77},null,"","",null,{"$f":"IF(AY87=\"\",\"\",AY87)","v":13.139999999999999},{"$f":"IF(AZ87=\"\",\"\",AZ86)","v":57.5}]
[null,null,null,null,null,null,null,null,null,null,null,null,null,null,null,null,null,null,null,null,null,null,null,null,null,null,null,null,null,"","","",null,7.5,34.5,4.5999999999999996,null,7.5,34.5,4.5999999999999996,258.75,null,"","","","",null,{"$f":"IF($AR92>MAX($AR$82:AR91),AQ92,\"\")","v":""},{"$f":"IF($AR92>MAX($AR$82:AR91),AR92,\"\")","v":""},null,"","",null,{"$f":"IF(AY87=\"\",\"\",AY87)","v":13.139999999999999},{"$f":"IF(AZ87=\"\",\"\",AZ87)","v":69}]
[null,null,null,null,null,null,null,null,null,null,null,null,null,null,null,null,null,null,null,null,null,null,null,null,null,null,null,null,null,"","","",null,9.35,46,4.9197860962566846,null,9.35,46,4.9197860962566846,430.09999999999997,null,null,null,null,null,null,{"$f":"IF($AR93>MAX($AR$82:AR92),AQ93,\"\")","v":""},{"$f":"IF($AR93>MAX($AR$82:AR92),AR93,\"\")","v":""},null,"","",null,{"$f":"IF(AY88=\"\",\"\",AY88)","v":17.04},{"$f":"IF(AZ88=\"\",\"\",AZ87)","v":69}]
[null,null,null,null,null,null,null,null,null,null,null,null,null,null,null,null,null,null,null,null,null,null,null,null,null,null,null,null,null,"","","",null,11.2,57.5,5.1339285714285721,null,11.2,57.5,5.1339285714285721,644,null,null,null,null,null,null,{"$f":"IF($AR94>MAX($AR$82:AR93),AQ94,\"\")","v":""},{"$f":"IF($AR94>MAX($AR$82:AR93),AR94,\"\")","v":""},null,"","",null,{"$f":"IF(AY88=\"\",\"\",AY88)","v":17.04},{"$f":"IF(AZ88=\"\",\"\",AZ88)","v":77}]
[null,null,null,null,null,null,null,null,null,null,null,null,null,null,null,null,null,null,null,null,null,null,null,null,null,null,null,null,null,"","","",null,11.2,57.5,5.1339285714285721,null,11.2,57.5,5.1339285714285721,644,null,null,null,null,null,null,{"$f":"IF($AR95>MAX($AR$82:AR94),AQ95,\"\")","v":""},{"$f":"IF($AR95>MAX($AR$82:AR94),AR95,\"\")","v":""},null,"","",null,{"$f":"IF(AY89=\"\",\"\",AY89)","v":""},{"$f":"IF(AZ89=\"\",\"\",AZ88)","v":""}]
[null,null,null,null,null,null,null,null,null,null,null,null,null,null,null,null,null,null,null,null,null,null,null,null,null,null,null,null,null,"","","",null,11.2,57.5,5.1339285714285721,null,11.2,57.5,5.1339285714285721,644,null,null,null,null,null,null,{"$f":"IF($AR96>MAX($AR$82:AR95),AQ96,\"\")","v":""},{"$f":"IF($AR96>MAX($AR$82:AR95),AR96,\"\")","v":""},null,"","",null,{"$f":"IF(AY89=\"\",\"\",AY89)","v":""},{"$f":"IF(AZ89=\"\",\"\",AZ89)","v":""}]
[null,null,null,null,null,null,null,null,null,null,null,null,null,null,null,null,null,null,null,null,null,null,null,null,null,null,null,null,null,{"$f":"IF(AJ47=\"\",\"\",AJ47)","v":0},{"$f":"IF(AK47=\"\",\"\",AK47)","v":11.5},{"$f":"IF(AD97=0,AE97,IF(AD97=\"\",\"\",AE97/AD97))","v":11.5},null,13.139999999999999,69,5.2511415525114158,null,13.139999999999999,69,5.2511415525114158,906.66,null,null,null,null,null,null,{"$f":"IF($AR97>MAX($AR$82:AR96),AQ97,\"\")","v":""},{"$f":"IF($AR97>MAX($AR$82:AR96),AR97,\"\")","v":""},null,"","",null,{"$f":"IF(AY90=\"\",\"\",AY90)","v":""},{"$f":"IF(AZ90=\"\",\"\",AZ89)","v":""}]
[null,null,null,null,null,null,null,null,null,null,null,null,null,null,null,null,null,null,null,null,null,null,null,null,null,null,null,null,null,1.4,23,16.428571428571431,null,13.139999999999999,69,5.2511415525114158,null,13.139999999999999,69,5.2511415525114158,906.66,null,null,null,null,null,null,{"$f":"IF($AR98>MAX($AR$82:AR97),AQ98,\"\")","v":""},{"$f":"IF($AR98>MAX($AR$82:AR97),AR98,\"\")","v":""},null,"","",null,{"$f":"IF(AY90=\"\",\"\",AY90)","v":""},{"$f":"IF(AZ90=\"\",\"\",AZ90)","v":""}]
[null,null,null,null,null,null,null,null,null,null,null,null,null,null,null,null,null,null,null,null,null,null,null,null,null,null,null,null,null,7.5,34.5,4.5999999999999996,null,13.139999999999999,69,5.2511415525114158,null,13.139999999999999,69,5.2511415525114158,906.66,null,null,null,null,null,null,{"$f":"IF($AR99>MAX($AR$82:AR98),AQ99,\"\")","v":""},{"$f":"IF($AR99>MAX($AR$82:AR98),AR99,\"\")","v":""},null,"","",null,{"$f":"IF(AY91=\"\",\"\",AY91)","v":""},{"$f":"IF(AZ91=\"\",\"\",AZ90)","v":""}]
[null,null,null,null,null,null,null,null,null,null,null,null,null,null,null,null,null,null,null,null,null,null,null,null,null,null,null,null,null,9.35,46,4.9197860962566846,null,17.04,77,4.518779342723005,null,17.04,77,4.518779342723005,1312.08,null,null,null,null,null,null,{"$f":"IF($AR100>MAX($AR$82:AR99),AQ100,\"\")","v":""},{"$f":"IF($AR100>MAX($AR$82:AR99),AR100,\"\")","v":""},null,"","",null,{"$f":"IF(AY91=\"\",\"\",AY91)","v":""},{"$f":"IF(AZ91=\"\",\"\",AZ91)","v":""}]
[null,null,null,null,null,null,null,null,null,null,null,null,null,null,null,null,null,null,null,null,null,null,null,null,null,null,null,null,null,11.2,57.5,5.1339285714285721,null,17.04,77,4.518779342723005,null,17.04,77,4.518779342723005,1312.08,null,null,null,null,null,null,{"$f":"IF($AR101>MAX($AR$82:AR100),AQ101,\"\")","v":""},{"$f":"IF($AR101>MAX($AR$82:AR100),AR101,\"\")","v":""},null,"","",null,{"$f":"IF(AY92=\"\",\"\",AY92)","v":""},{"$f":"IF(AZ92=\"\",\"\",AZ91)","v":""}]
[null,null,null,null,null,null,null,null,null,null,null,null,null,null,null,null,null,null,null,null,null,null,null,null,null,null,null,null,null,13.139999999999999,69,5.2511415525114158,null,17.04,77,4.518779342723005,null,17.04,77,4.518779342723005,1312.08,null,null,null,null,null,null,{"$f":"IF($AR102>MAX($AR$82:AR101),AQ102,\"\")","v":""},{"$f":"IF($AR102>MAX($AR$82:AR101),AR102,\"\")","v":""},null,"","",null,{"$f":"IF(AY92=\"\",\"\",AY92)","v":""},{"$f":"IF(AZ92=\"\",\"\",AZ92)","v":""}]
[null,null,null,null,null,null,null,null,null,null,null,null,null,null,null,null,null,null,null,null,null,null,null,null,null,null,null,null,null,17.04,77,4.518779342723005,null,"","","",null,"","","","",null,null,null,null,null,null,{"$f":"IF($AR103>MAX($AR$82:AR102),AQ103,\"\")","v":""},{"$f":"IF($AR103>MAX($AR$82:AR102),AR103,\"\")","v":""},null,"","",null,{"$f":"IF(AY93=\"\",\"\",AY93)","v":""},{"$f":"IF(AZ93=\"\",\"\",AZ92)","v":""}]
[null,null,null,null,null,null,null,null,null,null,null,null,null,null,null,null,null,null,null,null,null,null,null,null,null,null,null,null,null,"","","",null,"","","",null,"","","","",null,null,null,null,null,null,{"$f":"IF($AR104>MAX($AR$82:AR103),AQ104,\"\")","v":""},{"$f":"IF($AR104>MAX($AR$82:AR103),AR104,\"\")","v":""},null,"","",null,{"$f":"IF(AY93=\"\",\"\",AY93)","v":""},{"$f":"IF(AZ93=\"\",\"\",AZ93)","v":""}]
[null,null,null,null,null,null,null,null,null,null,null,null,null,null,null,null,null,null,null,null,null,null,null,null,null,null,null,null,null,"","","",null,"","","",null,"","","","",null,null,null,null,null,null,{"$f":"IF($AR105>MAX($AR$82:AR104),AQ105,\"\")","v":""},{"$f":"IF($AR105>MAX($AR$82:AR104),AR105,\"\")","v":""},null,"","",null,{"$f":"IF(AY94=\"\",\"\",AY94)","v":""},{"$f":"IF(AZ94=\"\",\"\",AZ93)","v":""}]
[null,null,null,null,null,null,null,null,null,null,null,null,null,null,null,null,null,null,null,null,null,null,null,null,null,null,null,null,null,"","","",null,"","","",null,"","","","",null,null,null,null,null,null,{"$f":"IF($AR106>MAX($AR$82:AR105),AQ106,\"\")","v":""},{"$f":"IF($AR106>MAX($AR$82:AR105),AR106,\"\")","v":""},null,"","",null,{"$f":"IF(AY94=\"\",\"\",AY94)","v":""},{"$f":"IF(AZ94=\"\",\"\",AZ94)","v":""}]
[null,null,null,null,null,null,null,null,null,null,null,null,null,null,null,null,null,null,null,null,null,null,null,null,null,null,null,null,null,"","","",null,"","","",null,"","","","",null,null,null,null,null,null,{"$f":"IF($AR107>MAX($AR$82:AR106),AQ107,\"\")","v":""},{"$f":"IF($AR107>MAX($AR$82:AR106),AR107,\"\")","v":""},null,"","",null,{"$f":"IF(AY95=\"\",\"\",AY95)","v":""},{"$f":"IF(AZ95=\"\",\"\",AZ94)","v":""}]
[null,null,null,null,null,null,null,null,null,null,null,null,null,null,null,null,null,null,null,null,null,null,null,null,null,null,null,null,null,"","","",null,"","","",null,"","","","",null,null,null,null,null,null,{"$f":"IF($AR108>MAX($AR$82:AR107),AQ108,\"\")","v":""},{"$f":"IF($AR108>MAX($AR$82:AR107),AR108,\"\")","v":""},null,"","",null,{"$f":"IF(AY95=\"\",\"\",AY95)","v":""},{"$f":"IF(AZ95=\"\",\"\",AZ95)","v":""}]
[null,null,null,null,null,null,null,null,null,null,null,null,null,null,null,null,null,null,null,null,null,null,null,null,null,null,null,null,null,"","","",null,"","","",null,"","","","",null,null,null,null,null,null,{"$f":"IF($AR109>MAX($AR$82:AR108),AQ109,\"\")","v":""},{"$f":"IF($AR109>MAX($AR$82:AR108),AR109,\"\")","v":""},null,"","",null,{"$f":"IF(AY96=\"\",\"\",AY96)","v":""},{"$f":"IF(AZ96=\"\",\"\",AZ95)","v":""}]
[null,null,null,null,null,null,null,null,null,null,null,null,null,null,null,null,null,null,null,null,null,null,null,null,null,null,null,null,null,"","","",null,"","","",null,"","","","",null,null,null,null,null,null,{"$f":"IF($AR110>MAX($AR$82:AR109),AQ110,\"\")","v":""},{"$f":"IF($AR110>MAX($AR$82:AR109),AR110,\"\")","v":""},null,"","",null,{"$f":"IF(AY96=\"\",\"\",AY96)","v":""},{"$f":"IF(AZ96=\"\",\"\",AZ96)","v":""}]
[null,null,null,null,null,null,null,null,null,null,null,null,null,null,null,null,null,null,null,null,null,null,null,null,null,null,null,null,null,"","","",null,"","","",null,"","","","",null,null,null,null,null,null,{"$f":"IF($AR111>MAX($AR$82:AR110),AQ111,\"\")","v":""},{"$f":"IF($AR111>MAX($AR$82:AR110),AR111,\"\")","v":""},null,"","",null,{"$f":"IF(AY97=\"\",\"\",AY97)","v":""},{"$f":"IF(AZ97=\"\",\"\",AZ96)","v":""}]
[null,null,null,null,null,null,null,null,null,null,null,null,null,null,null,null,null,null,null,null,null,null,null,null,null,null,null,null,null,{"$f":"IF(AR47=\"\",\"\",AR47)","v":0},{"$f":"IF(AS47=\"\",\"\",AS47)","v":11.5},11.5,null,"","","",null,"","","","",null,null,null,null,null,null,{"$f":"IF($AR112>MAX($AR$82:AR111),AQ112,\"\")","v":""},{"$f":"IF($AR112>MAX($AR$82:AR111),AR112,\"\")","v":""},null,"","",null,{"$f":"IF(AY97=\"\",\"\",AY97)","v":""},{"$f":"IF(AZ97=\"\",\"\",AZ97)","v":""}]
[null,null,null,null,null,null,null,null,null,null,null,null,null,null,null,null,null,null,null,null,null,null,null,null,null,null,null,null,null,1.4,23,16.428571428571431,null,"","","",null,"","","","",null,null,null,null,null,null,{"$f":"IF($AR113>MAX($AR$82:AR112),AQ113,\"\")","v":""},{"$f":"IF($AR113>MAX($AR$82:AR112),AR113,\"\")","v":""},null,"","",null,{"$f":"IF(AY98=\"\",\"\",AY98)","v":""},{"$f":"IF(AZ98=\"\",\"\",AZ97)","v":""}]
[null,null,null,null,null,null,null,null,null,null,null,null,null,null,null,null,null,null,null,null,null,null,null,null,null,null,null,null,null,3.7,34.5,9.3243243243243246,null,"","","",null,"","","","",null,null,null,null,null,null,{"$f":"IF($AR114>MAX($AR$82:AR113),AQ114,\"\")","v":""},{"$f":"IF($AR114>MAX($AR$82:AR113),AR114,\"\")","v":""},null,"","",null,{"$f":"IF(AY98=\"\",\"\",AY98)","v":""},{"$f":"IF(AZ98=\"\",\"\",AZ98)","v":""}]
[null,null,null,null,null,null,null,null,null,null,null,null,null,null,null,null,null,null,null,null,null,null,null,null,null,null,null,null,null,5.6400000000000006,46,8.1560283687943258,null,"","","",null,"","","","",null,null,null,null,null,null,{"$f":"IF($AR115>MAX($AR$82:AR114),AQ115,\"\")","v":""},{"$f":"IF($AR115>MAX($AR$82:AR114),AR115,\"\")","v":""},null,"","",null,{"$f":"IF(AY99=\"\",\"\",AY99)","v":""},{"$f":"IF(AZ99=\"\",\"\",AZ98)","v":""}]
[null,null,null,null,null,null,null,null,null,null,null,null,null,null,null,null,null,null,null,null,null,null,null,null,null,null,null,null,null,11.2,57.5,5.1339285714285721,null,"","","",null,"","","","",null,null,null,null,null,null,{"$f":"IF($AR116>MAX($AR$82:AR115),AQ116,\"\")","v":""},{"$f":"IF($AR116>MAX($AR$82:AR115),AR116,\"\")","v":""},null,"","",null,{"$f":"IF(AY99=\"\",\"\",AY99)","v":""},{"$f":"IF(AZ99=\"\",\"\",AZ99)","v":""}]
[null,null,null,null,null,null,null,null,null,null,null,null,null,null,null,null,null,null,null,null,null,null,null,null,null,null,null,null,null,13.139999999999999,69,5.2511415525114158,null,"","","",null,"","","","",null,null,null,null,null,null,{"$f":"IF($AR117>MAX($AR$82:AR116),AQ117,\"\")","v":""},{"$f":"IF($AR117>MAX($AR$82:AR116),AR117,\"\")","v":""},null,"","",null,{"$f":"IF(AY100=\"\",\"\",AY100)","v":""},{"$f":"IF(AZ100=\"\",\"\",AZ99)","v":""}]
[null,null,null,null,null,null,null,null,null,null,null,null,null,null,null,null,null,null,null,null,null,null,null,null,null,null,null,null,null,17.04,77,4.518779342723005,null,"","","",null,"","","","",null,null,null,null,null,null,{"$f":"IF($AR118>MAX($AR$82:AR117),AQ118,\"\")","v":""},{"$f":"IF($AR118>MAX($AR$82:AR117),AR118,\"\")","v":""},null,"","",null,{"$f":"IF(AY100=\"\",\"\",AY100)","v":""},{"$f":"IF(AZ100=\"\",\"\",AZ100)","v":""}]
[null,null,null,null,null,null,null,null,null,null,null,null,null,null,null,null,null,null,null,null,null,null,null,null,null,null,null,null,null,"","","",null,"","","",null,"","","","",null,null,null,null,null,null,{"$f":"IF($AR119>MAX($AR$82:AR118),AQ119,\"\")","v":""},{"$f":"IF($AR119>MAX($AR$82:AR118),AR119,\"\")","v":""},null,"","",null,{"$f":"IF(AY101=\"\",\"\",AY101)","v":""},{"$f":"IF(AZ101=\"\",\"\",AZ100)","v":""}]
[null,null,null,null,null,null,null,null,null,null,null,null,null,null,null,null,null,null,null,null,null,null,null,null,null,null,null,null,null,"","","",null,"","","",null,"","","","",null,null,null,null,null,null,{"$f":"IF($AR120>MAX($AR$82:AR119),AQ120,\"\")","v":""},{"$f":"IF($AR120>MAX($AR$82:AR119),AR120,\"\")","v":""},null,"","",null,{"$f":"IF(AY101=\"\",\"\",AY101)","v":""},{"$f":"IF(AZ101=\"\",\"\",AZ101)","v":""}]
[null,null,null,null,null,null,null,null,null,null,null,null,null,null,null,null,null,null,null,null,null,null,null,null,null,null,null,null,null,"","","",null,"","","",null,"","","","",null,null,null,null,null,null,{"$f":"IF($AR121>MAX($AR$82:AR120),AQ121,\"\")","v":""},{"$f":"IF($AR121>MAX($AR$82:AR120),AR121,\"\")","v":""},null,"","",null,{"$f":"IF(AY102=\"\",\"\",AY102)","v":""},{"$f":"IF(AZ102=\"\",\"\",AZ101)","v":""}]
[null,null,null,null,null,null,null,null,null,null,null,null,null,null,null,null,null,null,null,null,null,null,null,null,null,null,null,null,null,"","","",null,"","","",null,"","","","",null,null,null,null,null,null,{"$f":"IF($AR122>MAX($AR$82:AR121),AQ122,\"\")","v":""},{"$f":"IF($AR122>MAX($AR$82:AR121),AR122,\"\")","v":""},null,"","",null,{"$f":"IF(AY102=\"\",\"\",AY102)","v":""},{"$f":"IF(AZ102=\"\",\"\",AZ102)","v":""}]
[null,null,null,null,null,null,null,null,null,null,null,null,null,null,null,null,null,null,null,null,null,null,null,null,null,null,null,null,null,"","","",null,"","","",null,"","","","",null,null,null,null,null,null,{"$f":"IF($AR123>MAX($AR$82:AR122),AQ123,\"\")","v":""},{"$f":"IF($AR123>MAX($AR$82:AR122),AR123,\"\")","v":""},null,"","",null,{"$f":"IF(AY103=\"\",\"\",AY103)","v":""},{"$f":"IF(AZ103=\"\",\"\",AZ102)","v":""}]
[null,null,null,null,null,null,null,null,null,null,null,null,null,null,null,null,null,null,null,null,null,null,null,null,null,null,null,null,null,"","","",null,"","","",null,"","","","",null,null,null,null,null,null,{"$f":"IF($AR124>MAX($AR$82:AR123),AQ124,\"\")","v":""},{"$f":"IF($AR124>MAX($AR$82:AR123),AR124,\"\")","v":""},null,"","",null,{"$f":"IF(AY103=\"\",\"\",AY103)","v":""},{"$f":"IF(AZ103=\"\",\"\",AZ103)","v":""}]
[null,null,null,null,null,null,null,null,null,null,null,null,null,null,null,null,null,null,null,null,null,null,null,null,null,null,null,null,null,"","","",null,"","","",null,"","","","",null,null,null,null,null,null,{"$f":"IF($AR125>MAX($AR$82:AR124),AQ125,\"\")","v":""},{"$f":"IF($AR125>MAX($AR$82:AR124),AR125,\"\")","v":""},null,"","",null,{"$f":"IF(AY104=\"\",\"\",AY104)","v":""},{"$f":"IF(AZ104=\"\",\"\",AZ103)","v":""}]
[null,null,null,null,null,null,null,null,null,null,null,null,null,null,null,null,null,null,null,null,null,null,null,null,null,null,null,null,null,"","","",null,"","","",null,"","","","",null,null,null,null,null,null,{"$f":"IF($AR126>MAX($AR$82:AR125),AQ126,\"\")","v":""},{"$f":"IF($AR126>MAX($AR$82:AR125),AR126,\"\")","v":""},null,"","",null,{"$f":"IF(AY104=\"\",\"\",AY104)","v":""},{"$f":"IF(AZ104=\"\",\"\",AZ104)","v":""}]
[null,null,null,null,null,null,null,null,null,null,null,null,null,null,null,null,null,null,null,null,null,null,null,null,null,null,null,null,null,null,null,null,null,null,null,null,null,null,null,null,null,null,null,null,null,null,null,null,null,null,null,null,null,{"$f":"IF(AY105=\"\",\"\",AY105)","v":""},{"$f":"IF(AZ105=\"\",\"\",AZ104)","v":""}]
[null,null,null,null,null,null,null,null,null,null,null,null,null,null,null,null,null,null,null,null,null,null,null,null,null,null,null,null,null,null,null,null,null,null,null,null,null,null,null,null,null,null,null,null,null,null,null,null,null,null,null,null,null,{"$f":"IF(AY105=\"\",\"\",AY105)","v":""},{"$f":"IF(AZ105=\"\",\"\",AZ105)","v":""}]
[null,null,null,null,null,null,null,null,null,null,null,null,null,null,null,null,null,null,null,null,null,null,null,null,null,null,null,null,null,null,null,null,null,null,null,null,null,null,null,null,null,null,null,null,null,null,null,null,null,null,null,null,null,{"$f":"IF(AY106=\"\",\"\",AY106)","v":""},{"$f":"IF(AZ106=\"\",\"\",AZ105)","v":""}]
[null,null,null,null,null,null,null,null,null,null,null,null,null,null,null,null,null,null,null,null,null,null,null,null,null,null,null,null,null,null,null,null,null,null,null,null,null,null,null,null,null,null,null,null,null,null,null,null,null,null,null,null,null,{"$f":"IF(AY106=\"\",\"\",AY106)","v":""},{"$f":"IF(AZ106=\"\",\"\",AZ106)","v":""}]
[null,null,null,null,null,null,null,null,null,null,null,null,null,null,null,null,null,null,null,null,null,null,null,null,null,null,null,null,null,null,null,null,null,null,null,null,null,null,null,null,null,null,null,null,null,null,null,null,null,null,null,null,null,{"$f":"IF(AY107=\"\",\"\",AY107)","v":""},{"$f":"IF(AZ107=\"\",\"\",AZ106)","v":""}]
[null,null,null,null,null,null,null,null,null,null,null,null,null,null,null,null,null,null,null,null,null,null,null,null,null,null,null,null,null,null,null,null,null,null,null,null,null,null,null,null,null,null,null,null,null,null,null,null,null,null,null,null,null,{"$f":"IF(AY107=\"\",\"\",AY107)","v":""},{"$f":"IF(AZ107=\"\",\"\",AZ107)","v":""}]
[null,null,null,null,null,null,null,null,null,null,null,null,null,null,null,null,null,null,null,null,null,null,null,null,null,null,null,null,null,null,null,null,null,null,null,null,null,null,null,null,null,null,null,null,null,null,null,null,null,null,null,null,null,{"$f":"IF(AY108=\"\",\"\",AY108)","v":""},{"$f":"IF(AZ108=\"\",\"\",AZ107)","v":""}]
[null,null,null,null,null,null,null,null,null,null,null,null,null,null,null,null,null,null,null,null,null,null,null,null,null,null,null,null,null,null,null,null,null,null,null,null,null,null,null,null,null,null,null,null,null,null,null,null,null,null,null,null,null,null,{"$f":"IF(AZ108=\"\",\"\",AZ108)","v":""}]

{"sheet":"Súradnice","index":2,"n_rows":84,"n_cols":71,"rows_kept":84,"cut":false,"hidden":true,"merged":[]}
[]
[null,"ID",1,null,2,null,3,null,4,null,5,null,6,null,7,null,8,null,9,null,10,null,11,null,12,null,13,null,14,null,15]
[null,null,"x","m","x","m","x","m","x","m","x","m","x","m","x","m","x","m","x","m","x","m","x","m","x","m","x","m","x","m","x"]
[1,null,0,10.85,0,11.4,0,10.36,0,9,0,12,0,9,0,10,0,8,0,8,0,10,0,9.6,0,10,0,8,0,9.5,1,1,2,null,3,null,4,null,5,null,6,null,7,null,8,null,9,null,10,null,11,null,12,null,13,null,14,null,15]
[2,null,1.31,10.85,1.36,11.4,1.4,10.36,1.35,9,1.6,12,1.35,9,1.41,10,1.36,8,1.36,8,1.33,10,1.32,9.6,1.37,10,1.35,8,1.36,9.5,1,1]
[3,null,1.31,20.8,1.36,22.8,1.4,20.72,1.35,15,1.6,24,1.35,15,1.41,20,1.36,15.5,1.36,16,1.33,17,1.32,17.5,1.37,18,1.35,16,1.36,19,0,10.85,0,11.4,0,10.36,0,9,0,12,0,9,0,10,0,8,0,8,0,10,0,9.6,0,10,0,8,0,9.5,0,11.5]
[4,null,1.35,20.8,2.72,22.8,2.8,20.72,1.36,15,3.2,24,1.36,15,2.82,20,2.72,15.5,2.72,16,2.72,17,1.36,17.5,3.1,18,2.7,16,2.72,19,1.31,10.85,1.36,11.4,1.4,10.36,1.35,9,1.6,12,1.35,9,1.41,10,1.36,8,1.36,8,1.33,10,1.32,9.6,1.37,10,1.35,8,1.36,9.5,1.4,11.5]
[5,null,1.35,21.7,2.72,34.200000000000003,2.8,31.08,1.36,18,3.2,36,1.36,18,2.82,30,2.72,22.740000000000002,2.72,24,2.72,28,1.36,19,3.1,28.5,2.7,23,2.72,28.5,1.31,20.8,1.36,22.8,1.4,20.72,1.35,15,1.6,24,1.35,15,1.41,20,1.36,15.5,1.36,16,1.33,17,1.32,17.5,1.37,18,1.35,15,1.36,19,1.4,23]
[6,null,2.62,21.7,4.08,34.200000000000003,4.1999999999999993,31.08,2.7,18,4.8000000000000007,36,2.72,18,4.2299999999999995,30,4.08,22.740000000000002,4.08,24,13.889999999999999,28,1.81,19,4.6500000000000004,28.5,4.5,23,4.08,28.5,1.35,20.8,2.72,22.8,2.8,20.72,1.36,15,3.2,24,1.36,15,2.82,20,2.72,15.5,2.72,16,2.72,17,1.36,17.5,3.1,18,2.7,15,2.72,19,3.7,23]
[7,null,2.62,31.200000000000003,4.08,45.6,4.1999999999999993,41.44,2.7,23,4.8000000000000007,48,2.72,27,4.2299999999999995,40,4.08,30.240000000000002,4.08,32,13.889999999999999,36,1.81,19.2,4.6500000000000004,38,4.5,28,4.08,38,1.35,21.7,2.72,34.200000000000003,2.8,31.08,1.36,18,3.2,36,1.36,18,2.82,30,2.72,22.740000000000002,2.72,24,2.72,28,1.36,19,3.1,28.5,2.7,21,2.72,28.5,3.7,34.5]
[8,null,3.93,31.200000000000003,5.44,45.6,5.6,41.44,2.72,23,6.4,48,4.08,27,5.64,40,6.5200000000000005,30.240000000000002,5.44,32,13.919999999999998,36,2.68,19.2,6.2,38,5.8000000000000007,28,5.44,38,2.62,21.7,4.08,34.200000000000003,4.1999999999999993,31.08,2.7,18,4.8000000000000007,36,2.72,18,4.2299999999999995,30,4.08,22.740000000000002,4.08,24,13.889999999999999,28,1.81,19,4.6500000000000004,28.5,4.5,21,4.08,28.5,5.6400000000000006,34.5]
[9,null,3.93,41.6,5.44,57,5.6,51.8,2.72,27,6.4,60,4.08,36,5.64,50,6.5200000000000005,36.5,5.44,40,13.919999999999998,37,2.68,27,6.2,47.5,5.8000000000000007,30,5.44,47.5,2.62,31.200000000000003,4.08,45.6,4.1999999999999993,41.44,2.7,23,4.8000000000000007,48,2.72,27,4.2299999999999995,40,4.08,30.240000000000002,4.08,32,13.889999999999999,36,1.81,19.2,4.6500000000000004,38,4.5,28,4.08,38,5.6400000000000006,46]
[10,null,5.24,41.6,15.939999999999998,57,7,51.8,4.08,27,8,60,5.44,36,7.05,50,7.79,36.5,33.44,40,15.249999999999998,37,3.62,27,7.75,47.5,6,30,9.94,47.5,3.93,31.200000000000003,5.44,45.6,5.6,41.44,2.72,23,6.4,48,4.08,27,5.64,40,6.5200000000000005,30.240000000000002,5.44,32,13.919999999999998,36,2.68,19.2,6.2,38,6,28,5.44,38,11.2,46]
[11,null,5.24,52,15.939999999999998,68.400000000000006,7,62.16,4.08,36,8,72,5.44,45,7.05,60,7.79,37.5,33.44,48,15.249999999999998,45,3.62,28.799999999999997,7.75,57,6,35,9.94,57,3.93,41.6,5.44,57,5.6,51.8,2.72,27,6.4,60,4.08,36,5.64,50,6.5200000000000005,36.5,5.44,40,13.919999999999998,37,2.68,27,6.2,47.5,6,35,5.44,47.5,11.2,57.5]
[12,null,9.57,52,17.299999999999997,68.400000000000006,9.3000000000000007,62.16,5.48,36,10.799999999999999,72,6.8000000000000007,45,8.4599999999999991,60,9.15,37.5,34.799999999999997,48,17.649999999999999,45,4.96,28.799999999999997,9.3000000000000007,57,7.3000000000000007,35,11.34,57,5.24,41.6,15.939999999999998,57,7,51.8,4.08,27,8,60,5.44,36,7.05,50,7.79,36.5,33.44,40,15.249999999999998,37,4.96,27,7.75,47.5,7.5,35,9.94,47.5,13.139999999999999,57.5]
[13,null,9.57,52.9,17.299999999999997,79.800000000000011,9.3000000000000007,69.709999999999994,5.48,45,10.799999999999999,84,6.8000000000000007,54,8.4599999999999991,70,9.15,44.5,34.799999999999997,56,17.649999999999999,51,4.96,34,9.3000000000000007,66.5,7.3000000000000007,37,11.34,66.5,5.24,52,15.939999999999998,68.400000000000006,7,62.16,4.08,36,8,72,5.44,45,7.05,60,7.79,37.5,33.44,48,15.249999999999998,45,4.96,34,7.75,57,7.5,42,9.94,57,13.139999999999999,69]
[14,null,10.840000000000002,52.9,18.66,79.800000000000011,10.750000000000002,69.709999999999994,9.120000000000001,45,12.399999999999999,84,14.269999999999998,54,9.8699999999999992,70,13.239999999999998,44.5,36.159999999999997,56,null,null,5.43,34,10.850000000000001,66.5,7.5,37,14.939999999999998,66.5,9.57,52,17.299999999999997,68.400000000000006,9.3000000000000007,62.16,5.48,36,10.799999999999999,72,6.8000000000000007,45,8.4599999999999991,60,9.15,37.5,34.799999999999997,48,17.649999999999999,45,5.43,34,9.3000000000000007,57,9,42,11.34,57,17.04,69]
[15,null,10.840000000000002,62.849999999999994,18.66,91.200000000000017,10.750000000000002,77.260000000000005,9.120000000000001,50,12.399999999999999,96,14.269999999999998,63,9.8699999999999992,80,13.239999999999998,44.74,36.159999999999997,64,null,null,5.43,38.4,10.850000000000001,76,7.5,42,14.939999999999998,73.150000000000006,9.57,52.9,17.299999999999997,79.800000000000011,9.3000000000000007,69.709999999999994,5.48,45,10.799999999999999,84,6.8000000000000007,54,8.4599999999999991,70,9.15,44.5,34.799999999999997,56,17.649999999999999,51,5.43,37.800000000000004,9.3000000000000007,66.5,9,49,11.34,66.5,17.04,77]
[16,null,10.88,62.849999999999994,21.259999999999998,91.200000000000017,13.620000000000001,77.260000000000005,11.669999999999998,50,null,null,15.629999999999997,63,14.870000000000001,80,15.479999999999999,44.74,38.75,64,null,null,7.24,38.4,12.800000000000002,76,8.8000000000000007,42,null,null,10.840000000000002,52.9,18.66,79.800000000000011,10.750000000000002,69.709999999999994,9.120000000000001,45,12.399999999999999,84,14.269999999999998,54,9.8699999999999992,70,13.239999999999998,44.5,36.159999999999997,56,null,null,7.24,37.800000000000004,10.850000000000001,66.5,10.5,49,14.939999999999998,66.5]
[17,null,10.88,63.3,21.259999999999998,99.000000000000014,13.620000000000001,84.81,11.669999999999998,55,null,null,15.629999999999997,72,14.870000000000001,90,15.479999999999999,51.74,38.75,72,null,null,7.24,48,12.800000000000002,76.5,8.8000000000000007,44,null,null,10.840000000000002,62.849999999999994,18.66,91.200000000000017,10.750000000000002,77.260000000000005,9.120000000000001,50,12.399999999999999,96,14.269999999999998,63,9.8699999999999992,80,13.239999999999998,44.74,36.159999999999997,64,null,null,7.24,47.4,10.850000000000001,76,10.5,56,14.939999999999998,73.150000000000006]
[18,null,12.190000000000001,63.3,null,null,15.270000000000001,84.81,14.269999999999998,55,null,null,16.989999999999998,72,16.28,90,16.939999999999998,51.74,null,null,null,null,13.440000000000001,48,14.170000000000002,76.5,9,44,null,null,10.88,62.849999999999994,21.259999999999998,91.200000000000017,13.620000000000001,77.260000000000005,11.669999999999998,50,null,null,15.629999999999997,63,14.870000000000001,80,15.479999999999999,44.74,38.75,64,null,null,13.440000000000001,47.4,12.800000000000002,76,12,56]
[19,null,12.190000000000001,73.7,null,null,15.270000000000001,92.36,14.269999999999998,63,null,null,16.989999999999998,80,16.28,100,16.939999999999998,59.24,null,null,null,null,13.440000000000001,55.800000000000004,14.170000000000002,84.5,9,49,null,null,10.88,63.3,21.259999999999998,99.000000000000014,13.620000000000001,84.81,11.669999999999998,55,null,null,15.629999999999997,72,14.870000000000001,90,15.479999999999999,51.74,38.75,72,null,null,13.440000000000001,55.2,12.800000000000002,76.5,12,61]
[20,null,15.640000000000002,73.7,null,null,null,null,15.669999999999998,63,null,null,20.68,80,17.73,100,18.309999999999999,59.24,null,null,null,null,14.38,55.800000000000004,14.350000000000003,84.5,10.3,49,null,null,12.190000000000001,63.3,null,null,15.270000000000001,84.81,14.269999999999998,55,null,null,16.989999999999998,72,16.28,90,16.939999999999998,51.74,null,null,null,null,14.38,55.2,14.170000000000002,76.5,13.3,61]
[21,null,15.640000000000002,83,null,null,null,null,15.669999999999998,72,null,null,20.68,86,17.73,107.5,18.309999999999999,60,null,null,null,null,14.38,57.500000000000007,14.350000000000003,86,10.3,51,null,null,12.190000000000001,73.7,null,null,15.270000000000001,92.36,14.269999999999998,63,null,null,16.989999999999998,80,16.28,100,16.939999999999998,59.24,null,null,null,null,14.38,56.900000000000006,14.170000000000002,84.5,13.3,63]
[22,null,null,null,null,null,null,null,19.309999999999999,72,null,null,20.689999999999998,86,20.330000000000002,107.5,18.399999999999999,60,null,null,null,null,15.250000000000002,57.500000000000007,15.720000000000002,86,10.5,51,null,null,15.640000000000002,73.7,null,null,null,null,15.669999999999998,63,null,null,20.68,80,17.73,100,18.309999999999999,59.24,null,null,null,null,15.250000000000002,56.900000000000006,14.350000000000003,84.5,13.5,63]
[23,null,null,null,null,null,null,null,19.309999999999999,77,null,null,20.689999999999998,88,20.330000000000002,115,18.399999999999999,66.739999999999995,null,null,null,null,15.250000000000002,65.400000000000006,15.720000000000002,94,10.5,56,null,null,15.640000000000002,83,null,null,null,null,15.669999999999998,72,null,null,20.68,86,17.73,107.5,18.309999999999999,60,null,null,null,null,15.250000000000002,64.8,14.350000000000003,86,13.5,68]
[24,null,null,null,null,null,null,null,19.369999999999997,77,null,null,22.04,88,null,null,19.669999999999998,66.739999999999995,null,null,null,null,15.740000000000002,65.400000000000006,19.120000000000005,94,11.8,56,null,null,null,null,null,null,null,null,19.309999999999999,72,null,null,20.689999999999998,86,20.330000000000002,107.5,18.399999999999999,60,null,null,null,null,15.740000000000002,64.8,15.720000000000002,86,14.8,68]
[25,null,null,null,null,null,null,null,19.369999999999997,80,null,null,22.04,95,null,null,19.669999999999998,67,null,null,null,null,15.740000000000002,67,19.120000000000005,99,11.8,58,null,null,null,null,null,null,null,null,19.309999999999999,77,null,null,20.689999999999998,88,20.330000000000002,115,18.399999999999999,66.739999999999995,null,null,null,null,15.740000000000002,66.400000000000006,15.720000000000002,94,14.8,70]
[26,null,null,null,null,null,null,null,20.669999999999998,80,null,null,24.589999999999996,95,null,null,21.029999999999998,67,null,null,null,null,17.060000000000002,67,null,null,12,58,null,null,null,null,null,null,null,null,19.369999999999997,77,null,null,22.04,88,null,null,19.669999999999998,66.739999999999995,null,null,null,null,17.060000000000002,66.400000000000006,19.120000000000005,94,16.3,70]
[27,null,null,null,null,null,null,null,20.669999999999998,86,null,null,24.589999999999996,100,null,null,21.029999999999998,74.739999999999995,null,null,null,null,17.060000000000002,75,null,null,12,63,null,null,null,null,null,null,null,null,19.369999999999997,80,null,null,22.04,95,null,null,19.669999999999998,67,null,null,null,null,17.060000000000002,74.399999999999991,19.120000000000005,99,16.3,77]
[28,null,null,null,null,null,null,null,20.72,86,null,null,null,null,null,null,null,null,null,null,null,null,19.34,75,null,null,13.3,63,null,null,null,null,null,null,null,null,20.669999999999998,80,null,null,24.589999999999996,95,null,null,21.029999999999998,67,null,null,null,null,19.34,74.399999999999991,null,null,17.8,77]
[29,null,null,null,null,null,null,null,20.72,88,null,null,null,null,null,null,null,null,null,null,null,null,19.34,82,null,null,13.3,65,null,null,null,null,null,null,null,null,20.669999999999998,86,null,null,24.589999999999996,100,null,null,21.029999999999998,74.739999999999995,null,null,null,null,19.34,81.399999999999991,null,null,17.8,82]
[30,null,null,null,null,null,null,null,22.069999999999997,88,null,null,null,null,null,null,null,null,null,null,null,null,null,null,null,null,13.5,65,null,null,null,null,null,null,null,null,20.72,86,null,null,null,null,null,null,null,null,null,null,null,null,19.34,75,null,null,19.3,82]
[null,null,null,null,null,null,null,null,22.069999999999997,95,null,null,null,null,null,null,null,null,null,null,null,null,null,null,null,null,13.5,70,null,null,null,null,null,null,null,null,20.72,88,null,null,null,null,null,null,null,null,null,null,null,null,19.34,82,null,null,19.3,89]
[null,null,null,null,null,null,null,null,24.619999999999994,95,null,null,null,null,null,null,null,null,null,null,null,null,null,null,null,null,14.8,70,null,null,null,null,null,null,null,null,22.069999999999997,88,null,null,null,null,null,null,null,null,null,null,null,null,null,null,null,null,21.85,89]
[null,null,null,null,null,null,null,null,24.619999999999994,100,null,null,null,null,null,null,null,null,null,null,null,null,null,null,null,null,14.8,72,null,null,null,null,null,null,null,null,22.069999999999997,95,null,null,null,null,null,null,null,null,null,null,null,null,null,null,null,null,21.85,94]
[null,null,null,null,null,null,null,null,null,null,null,null,null,null,null,null,null,null,null,null,null,null,null,null,null,null,16.3,72,null,null,null,null,null,null,null,null,24.619999999999994,95,null,null,null,null,null,null,null,null,null,null,null,null,null,null,null,null,14.8,70]
[null,null,null,null,null,null,null,null,null,null,null,null,null,null,null,null,null,null,null,null,null,null,null,null,null,null,16.3,79,null,null,null,null,null,null,null,null,24.619999999999994,100,null,null,null,null,null,null,null,null,null,null,null,null,null,null,null,null,14.8,72]
[null,null,null,null,null,null,null,null,null,null,null,null,null,null,null,null,null,null,null,null,null,null,null,null,null,null,17.8,79,null,null,null,null,null,null,null,null,null,null,null,null,null,null,null,null,null,null,null,null,null,null,null,null,null,null,16.3,72]
[null,null,null,null,null,null,null,null,null,null,null,null,null,null,null,null,null,null,null,null,null,null,null,null,null,null,17.8,86,null,null,null,null,null,null,null,null,null,null,null,null,null,null,null,null,null,null,null,null,null,null,null,null,null,null,16.3,79]
[null,null,null,null,null,null,null,null,null,null,null,null,null,null,null,null,null,null,null,null,null,null,null,null,null,null,19.3,86,null,null,null,null,null,null,null,null,null,null,null,null,null,null,null,null,null,null,null,null,null,null,null,null,null,null,17.8,79]
[null,null,null,null,null,null,null,null,null,null,null,null,null,null,null,null,null,null,null,null,null,null,null,null,null,null,19.3,93,null,null,null,null,null,null,null,null,null,null,null,null,null,null,null,null,null,null,null,null,null,null,null,null,null,null,17.8,86]
[null,null,null,null,null,null,null,null,null,null,null,null,null,null,null,null,null,null,null,null,null,null,null,null,null,null,21.85,93,null,null,null,null,null,null,null,null,null,null,null,null,null,null,null,null,null,null,null,null,null,null,null,null,null,null,19.3,86]
[null,null,null,null,null,null,null,null,null,null,null,null,null,null,null,null,null,null,null,null,null,null,null,null,null,null,21.85,98,null,null,null,null,null,null,null,null,null,null,null,null,null,null,null,null,null,null,null,null,null,null,null,null,null,null,19.3,93]
[null,null,null,null,null,null,null,null,null,null,null,null,null,null,null,null,null,null,null,null,null,null,null,null,null,null,null,null,null,null,null,null,null,null,null,null,null,null,null,null,null,null,null,null,null,null,null,null,null,null,null,null,null,null,21.85,93]
[null,null,null,null,null,null,null,null,null,null,null,null,null,null,null,null,null,null,null,null,null,null,null,null,null,null,null,null,null,null,null,null,null,null,null,null,null,null,null,null,null,null,null,null,null,null,null,null,null,null,null,null,null,null,21.85,98]
[]
[]
[]
[null,null,null,null,null,null,null,null,null,null,null,null,null,null,null,null,null,null,null,null,null,null,null,null,null,null,null,null,null,null,null,null,null,null,null,null,null,14,null,15,null,1,null,2,null,3,null,4,null,5,null,6,null,7,null,8,null,9,null,10,null,11,null,12,null,13,null,14,null,15]
[]
[null,null,null,null,null,null,null,null,null,null,null,null,null,null,null,null,null,null,null,null,null,null,null,null,null,null,null,null,null,null,null,null,null,null,null,null,null,0,9,0,9,0,10.85,0,11.4,0,10.36,0,10.36,0,10.36,0,10.36,0,10.36,0,10.36,0,10.36,0,9,0,9,0,9,0,9,0,9,0,9]
[null,null,null,null,null,null,null,null,null,null,null,null,null,null,null,null,null,null,null,null,null,null,null,null,null,null,null,null,null,null,null,null,null,null,null,null,null,1.35,9,1.35,9,1.31,10.85,1.36,11.4,1.4,10.36,1.4,10.36,1.4,10.36,1.4,10.36,1.4,10.36,1.4,10.36,1.4,10.36,1.35,9,1.35,9,1.35,9,1.35,9,1.35,9,1.35,9]
[null,null,null,null,null,null,null,null,null,null,null,null,null,null,null,null,null,null,null,null,null,null,null,null,null,null,null,null,null,null,null,null,null,null,null,null,null,1.35,15,1.35,15,1.31,20.8,1.36,22.8,1.4,20.72,1.4,20.72,1.4,20.72,1.4,20.72,1.4,20.72,1.4,20.72,1.4,20.72,1.35,15,1.35,15,1.35,15,1.35,15,1.35,15,1.35,15]
[null,null,null,null,null,null,null,null,null,null,null,null,null,null,null,null,null,null,null,null,null,null,null,null,null,null,null,null,null,null,null,null,null,null,null,null,null,1.36,15,1.36,15,1.35,20.8,2.72,22.8,2.8,20.72,2.8,20.72,2.8,20.72,2.8,20.72,2.8,20.72,2.8,20.72,2.8,20.72,1.36,15,1.36,15,1.36,15,1.36,15,1.36,15,1.36,15]
[null,null,null,null,null,null,null,null,null,null,null,null,null,null,null,null,null,null,null,null,null,null,null,null,null,null,null,null,null,null,null,null,null,null,null,null,null,1.36,18,1.36,18,1.35,21.7,2.72,34.200000000000003,2.8,31.08,2.8,31.08,2.8,31.08,2.8,31.08,2.8,31.08,2.8,31.08,2.8,31.08,1.36,18,1.36,18,1.36,18,1.36,18,1.36,18,1.36,18]
[null,null,null,null,null,null,null,null,null,null,null,null,null,null,null,null,null,null,null,null,null,null,null,null,null,null,null,null,null,null,null,null,null,null,null,null,null,2.7,18,2.7,18,2.62,21.7,4.08,34.200000000000003,4.1999999999999993,31.08,4.1999999999999993,31.08,4.1999999999999993,31.08,4.1999999999999993,31.08,4.1999999999999993,31.08,4.1999999999999993,31.08,4.1999999999999993,31.08,2.7,18,2.7,18,2.72,18,2.7,18,2.7,18,2.7,18]
[null,null,null,null,null,null,null,null,null,null,null,null,null,null,null,null,null,null,null,null,null,null,null,null,null,null,null,null,null,null,null,null,null,null,null,null,null,2.7,23,2.7,23,2.62,31.200000000000003,4.08,45.6,4.1999999999999993,41.44,4.1999999999999993,41.44,4.1999999999999993,41.44,4.1999999999999993,41.44,4.1999999999999993,41.44,4.1999999999999993,41.44,4.1999999999999993,41.44,2.7,23,2.7,23,2.72,27,2.7,23,2.7,23,2.7,23]
[null,null,null,null,null,null,null,null,null,null,null,null,null,null,null,null,null,null,null,null,null,null,null,null,null,null,null,null,null,null,null,null,null,null,null,null,null,2.72,23,2.72,23,3.93,31.200000000000003,5.44,45.6,5.6,41.44,5.6,41.44,5.6,41.44,5.6,41.44,5.6,41.44,5.6,41.44,5.6,41.44,2.72,23,2.72,23,4.08,27,2.72,23,2.72,23,2.72,23]
[null,null,null,null,null,null,null,null,null,null,null,null,null,null,null,null,null,null,null,null,null,null,null,null,null,null,null,null,null,null,null,null,null,null,null,null,null,2.72,27,2.72,27,3.93,41.6,5.44,57,5.6,51.8,5.6,51.8,5.6,51.8,5.6,51.8,5.6,51.8,5.6,51.8,5.6,51.8,2.72,27,2.72,27,4.08,36,2.72,27,2.72,27,2.72,27]
[null,null,null,null,null,null,null,null,null,null,null,null,null,null,null,null,null,null,null,null,null,null,null,null,null,null,null,null,null,null,null,null,null,null,null,null,null,4.08,27,4.08,27,5.24,41.6,15.939999999999998,57,7,51.8,7,51.8,7,51.8,7,51.8,7,51.8,7,51.8,7,51.8,4.08,27,4.08,27,5.44,36,4.08,27,4.08,27,4.08,27]
[null,null,null,null,null,null,null,null,null,null,null,null,null,null,null,null,null,null,null,null,null,null,null,null,null,null,null,null,null,null,null,null,null,null,null,null,null,4.08,36,4.08,36,5.24,52,15.939999999999998,68.400000000000006,7,62.16,7,62.16,7,62.16,7,62.16,7,62.16,7,62.16,7,62.16,4.08,36,4.08,36,5.44,45,4.08,36,4.08,36,4.08,36]
[null,null,null,null,null,null,null,null,null,null,null,null,null,null,null,null,null,null,null,null,null,null,null,null,null,null,null,null,null,null,null,null,null,null,null,null,null,5.48,36,5.48,36,9.57,52,17.299999999999997,68.400000000000006,9.3000000000000007,62.16,9.3000000000000007,62.16,9.3000000000000007,62.16,9.3000000000000007,62.16,9.3000000000000007,62.16,9.3000000000000007,62.16,9.3000000000000007,62.16,5.48,36,5.48,36,6.8000000000000007,45,5.48,36,5.48,36,5.48,36]
[null,null,null,null,null,null,null,null,null,null,null,null,null,null,null,null,null,null,null,null,null,null,null,null,null,null,null,null,null,null,null,null,null,null,null,null,null,5.48,45,5.48,45,9.57,52.9,17.299999999999997,79.800000000000011,9.3000000000000007,69.709999999999994,9.3000000000000007,69.709999999999994,9.3000000000000007,69.709999999999994,9.3000000000000007,69.709999999999994,9.3000000000000007,69.709999999999994,9.3000000000000007,69.709999999999994,9.3000000000000007,69.709999999999994,5.48,45,5.48,45,6.8000000000000007,54,5.48,45,5.48,45,5.48,45]
[null,null,null,null,null,null,null,null,null,null,null,null,null,null,null,null,null,null,null,null,null,null,null,null,null,null,null,null,null,null,null,null,null,null,null,null,null,9.120000000000001,45,9.120000000000001,45,10.840000000000002,52.9,18.66,79.800000000000011,10.750000000000002,69.709999999999994,10.750000000000002,69.709999999999994,10.750000000000002,69.709999999999994,10.750000000000002,69.709999999999994,10.750000000000002,69.709999999999994,10.750000000000002,69.709999999999994,10.750000000000002,69.709999999999994,9.120000000000001,45,9.120000000000001,45,14.269999999999998,54,9.120000000000001,45,9.120000000000001,45,9.120000000000001,45]
[null,null,null,null,null,null,null,null,null,null,null,null,null,null,null,null,null,null,null,null,null,null,null,null,null,null,null,null,null,null,null,null,null,null,null,null,null,9.120000000000001,50,9.120000000000001,50,10.840000000000002,62.849999999999994,18.66,91.200000000000017,10.750000000000002,77.260000000000005,10.750000000000002,77.260000000000005,10.750000000000002,77.260000000000005,10.750000000000002,77.260000000000005,10.750000000000002,77.260000000000005,10.750000000000002,77.260000000000005,10.750000000000002,77.260000000000005,9.120000000000001,50,9.120000000000001,50,14.269999999999998,63,9.120000000000001,50,9.120000000000001,50,9.120000000000001,50]
[null,null,null,null,null,null,null,null,null,null,null,null,null,null,null,null,null,null,null,null,null,null,null,null,null,null,null,null,null,null,null,null,null,null,null,null,null,11.669999999999998,50,11.669999999999998,50,10.88,62.849999999999994,21.259999999999998,91.200000000000017,13.620000000000001,77.260000000000005,13.620000000000001,77.260000000000005,13.620000000000001,77.260000000000005,13.620000000000001,77.260000000000005,13.620000000000001,77.260000000000005,13.620000000000001,77.260000000000005,13.620000000000001,77.260000000000005,11.669999999999998,50,11.669999999999998,50,15.629999999999997,63,11.669999999999998,50,11.669999999999998,50,11.669999999999998,50]
[null,null,null,null,null,null,null,null,null,null,null,null,null,null,null,null,null,null,null,null,null,null,null,null,null,null,null,null,null,null,null,null,null,null,null,null,null,11.669999999999998,55,11.669999999999998,55,10.88,63.3,21.259999999999998,99.000000000000014,13.620000000000001,84.81,13.620000000000001,84.81,13.620000000000001,84.81,13.620000000000001,84.81,13.620000000000001,84.81,13.620000000000001,84.81,13.620000000000001,84.81,11.669999999999998,55,11.669999999999998,55,15.629999999999997,72,11.669999999999998,55,11.669999999999998,55,11.669999999999998,55]
[null,null,null,null,null,null,null,null,null,null,null,null,null,null,null,null,null,null,null,null,null,null,null,null,null,null,null,null,null,null,null,null,null,null,null,null,null,14.269999999999998,55,14.269999999999998,55,12.190000000000001,63.3,null,null,15.270000000000001,84.81,15.270000000000001,84.81,15.270000000000001,84.81,15.270000000000001,84.81,15.270000000000001,84.81,15.270000000000001,84.81,15.270000000000001,84.81,14.269999999999998,55,14.269999999999998,55,16.989999999999998,72,14.269999999999998,55,14.269999999999998,55,14.269999999999998,55]
[null,null,null,null,null,null,null,null,null,null,null,null,null,null,null,null,null,null,null,null,null,null,null,null,null,null,null,null,null,null,null,null,null,null,null,null,null,14.269999999999998,63,14.269999999999998,63,12.190000000000001,73.7,null,null,15.270000000000001,92.36,15.270000000000001,92.36,15.270000000000001,92.36,15.270000000000001,92.36,15.270000000000001,92.36,15.270000000000001,92.36,15.270000000000001,92.36,14.269999999999998,63,14.269999999999998,63,16.989999999999998,80,14.269999999999998,63,14.269999999999998,63,14.269999999999998,63]
[null,null,null,null,null,null,null,null,null,null,null,null,null,null,null,null,null,null,null,null,null,null,null,null,null,null,null,null,null,null,null,null,null,null,null,null,null,15.669999999999998,63,15.669999999999998,63,15.640000000000002,73.7,null,null,null,null,null,null,null,null,null,null,null,null,null,null,null,null,15.669999999999998,63,15.669999999999998,63,20.68,80,15.669999999999998,63,15.669999999999998,63,15.669999999999998,63]
[null,null,null,null,null,null,null,null,null,null,null,null,null,null,null,null,null,null,null,null,null,null,null,null,null,null,null,null,null,null,null,null,null,null,null,null,null,15.669999999999998,72,15.669999999999998,72,15.640000000000002,83,null,null,null,null,null,null,null,null,null,null,null,null,null,null,null,null,15.669999999999998,72,15.669999999999998,72,20.68,86,15.669999999999998,72,15.669999999999998,72,15.669999999999998,72]
[null,null,null,null,null,null,null,null,null,null,null,null,null,null,null,null,null,null,null,null,null,null,null,null,null,null,null,null,null,null,null,null,null,null,null,null,null,19.309999999999999,72,19.309999999999999,72,null,null,null,null,null,null,null,null,null,null,null,null,null,null,null,null,null,null,19.309999999999999,72,19.309999999999999,72,20.689999999999998,86,19.309999999999999,72,19.309999999999999,72,19.309999999999999,72]
[null,null,null,null,null,null,null,null,null,null,null,null,null,null,null,null,null,null,null,null,null,null,null,null,null,null,null,null,null,null,null,null,null,null,null,null,null,19.309999999999999,77,19.309999999999999,77,null,null,null,null,null,null,null,null,null,null,null,null,null,null,null,null,null,null,19.309999999999999,77,19.309999999999999,77,20.689999999999998,88,19.309999999999999,77,19.309999999999999,77,19.309999999999999,77]
[null,null,null,null,null,null,null,null,null,null,null,null,null,null,null,null,null,null,null,null,null,null,null,null,null,null,null,null,null,null,null,null,null,null,null,null,null,19.369999999999997,77,19.369999999999997,77,null,null,null,null,null,null,null,null,null,null,null,null,null,null,null,null,null,null,19.369999999999997,77,19.369999999999997,77,22.04,88,19.369999999999997,77,19.369999999999997,77,19.369999999999997,77]
[null,null,null,null,null,null,null,null,null,null,null,null,null,null,null,null,null,null,null,null,null,null,null,null,null,null,null,null,null,null,null,null,null,null,null,null,null,19.369999999999997,80,19.369999999999997,80,null,null,null,null,null,null,null,null,null,null,null,null,null,null,null,null,null,null,19.369999999999997,80,19.369999999999997,80,22.04,95,19.369999999999997,80,19.369999999999997,80,19.369999999999997,80]
[null,null,null,null,null,null,null,null,null,null,null,null,null,null,null,null,null,null,null,null,null,null,null,null,null,null,null,null,null,null,null,null,null,null,null,null,null,20.669999999999998,80,20.669999999999998,80,null,null,null,null,null,null,null,null,null,null,null,null,null,null,null,null,null,null,20.669999999999998,80,20.669999999999998,80,24.589999999999996,95,20.669999999999998,80,20.669999999999998,80,20.669999999999998,80]
[null,null,null,null,null,null,null,null,null,null,null,null,null,null,null,null,null,null,null,null,null,null,null,null,null,null,null,null,null,null,null,null,null,null,null,null,null,20.669999999999998,86,20.669999999999998,86,null,null,null,null,null,null,null,null,null,null,null,null,null,null,null,null,null,null,20.669999999999998,86,20.669999999999998,86,24.589999999999996,100,20.669999999999998,86,20.669999999999998,86,20.669999999999998,86]
[null,null,null,null,null,null,null,null,null,null,null,null,null,null,null,null,null,null,null,null,null,null,null,null,null,null,null,null,null,null,null,null,null,null,null,null,null,20.72,86,20.72,86,null,null,null,null,null,null,null,null,null,null,null,null,null,null,null,null,null,null,20.72,86,20.72,86,null,null,20.72,86,20.72,86,20.72,86]
[null,null,null,null,null,null,null,null,null,null,null,null,null,null,null,null,null,null,null,null,null,null,null,null,null,null,null,null,null,null,null,null,null,null,null,null,null,20.72,88,20.72,88,null,null,null,null,null,null,null,null,null,null,null,null,null,null,null,null,null,null,20.72,88,20.72,88,null,null,20.72,88,20.72,88,20.72,88]
[null,null,null,null,null,null,null,null,null,null,null,null,null,null,null,null,null,null,null,null,null,null,null,null,null,null,null,null,null,null,null,null,null,null,null,null,null,22.069999999999997,88,22.069999999999997,88,null,null,null,null,null,null,null,null,null,null,null,null,null,null,null,null,null,null,22.069999999999997,88,22.069999999999997,88,null,null,22.069999999999997,88,22.069999999999997,88,22.069999999999997,88]
[null,null,null,null,null,null,null,null,null,null,null,null,null,null,null,null,null,null,null,null,null,null,null,null,null,null,null,null,null,null,null,null,null,null,null,null,null,22.069999999999997,95,22.069999999999997,95,null,null,null,null,null,null,null,null,null,null,null,null,null,null,null,null,null,null,22.069999999999997,95,22.069999999999997,95,null,null,22.069999999999997,95,22.069999999999997,95,22.069999999999997,95]
[null,null,null,null,null,null,null,null,null,null,null,null,null,null,null,null,null,null,null,null,null,null,null,null,null,null,null,null,null,null,null,null,null,null,null,null,null,24.619999999999994,95,24.619999999999994,95,null,null,null,null,null,null,null,null,null,null,null,null,null,null,null,null,null,null,24.619999999999994,95,24.619999999999994,95,null,null,24.619999999999994,95,24.619999999999994,95,24.619999999999994,95]
[null,null,null,null,null,null,null,null,null,null,null,null,null,null,null,null,null,null,null,null,null,null,null,null,null,null,null,null,null,null,null,null,null,null,null,null,null,24.619999999999994,100,24.619999999999994,100,null,null,null,null,null,null,null,null,null,null,null,null,null,null,null,null,null,null,24.619999999999994,100,24.619999999999994,100,null,null,24.619999999999994,100,24.619999999999994,100,24.619999999999994,100]

{"sheet":"Kritická","index":3,"n_rows":482,"n_cols":49,"rows_kept":482,"cut":false,"hidden":true,"merged":[[0,14,0,15]]}
[0,0,null,null,null,null,null,null,null,null,null,null,null,null,null,null,null,"kritická",null,1,null,2,null,3,null,4,null,5,null,6,null,7,null,8,null,9,null,10,null,11,null,12,null,13,null,14,null,15]
[null,"rázvor","zaťaženie",null,null,"x","m",null,"x","m",null,"x","m",null,null,null,null,"x","m","x","m","x","m","x","m","x","m","x","m","x","m","x","m","x","m","x","m","x","m","x","m","x","m","x","m","x","m","x","m"]
[1,0,10.85,null,null,0,10.85,null,0,{"$f":"_xlfn.MAXIFS(G3:G17,F3:F17,0)","v":12},null,0,12,null,{"$f":"IF(L3=\"\",\"\",L3)","v":0},{"$f":"IF(M3=\"\",\"\",M3)","v":12},null,0,12,0,10.85,0,11.4,0,10.36,0,9,0,12,0,9,0,10,0,8,0,8,0,10,0,9.6,0,10,0,8,0,9.5,1,1]
[2,1.31,10.85,null,null,0,11.4,null,{"$f":"IF($G4>J3,F4,\"\")","v":""},{"$f":"IF($G4>J3,G4,\"\")","v":""},null,0,12,null,{"$f":"IF(L4=\"\",\"\",L4)","v":0},{"$f":"IF(M4=\"\",\"\",M3)","v":12},null,0,12,1.31,10.85,1.36,11.4,1.4,10.36,1.35,9,1.6,12,1.35,9,1.41,10,1.36,8,1.36,8,1.33,10,1.32,9.6,1.37,10,1.35,8,1.36,9.5,1,1]
[3,1.31,20.8,null,null,0,10.36,null,{"$f":"IF($G5>MAX($G$3:$G4),F5,\"\")","v":""},{"$f":"IF($G5>MAX($G$3:$G4),G5,\"\")","v":""},null,1.31,20.8,null,{"$f":"IF(L4=\"\",\"\",L4)","v":0},{"$f":"IF(M4=\"\",\"\",M4)","v":12},null,0,12,1.31,20.8,1.36,22.8,1.4,20.72,1.35,15,1.6,24,1.35,15,1.41,20,1.36,15.5,1.36,16,1.33,17,1.32,17.5,1.37,18,1.35,16,1.36,19,0,10.85]
[4,1.35,20.8,null,null,0,9,null,{"$f":"IF($G6>MAX($G$3:$G5),F6,\"\")","v":""},{"$f":"IF($G6>MAX($G$3:$G5),G6,\"\")","v":""},null,1.35,21.7,null,{"$f":"IF(L5=\"\",\"\",L5)","v":1.31},{"$f":"IF(M5=\"\",\"\",M4)","v":12},null,1.31,12,1.35,20.8,2.72,22.8,2.8,20.72,1.36,15,3.2,24,1.36,15,2.82,20,2.72,15.5,2.72,16,2.72,17,1.36,17.5,3.1,18,2.7,16,2.72,19,1.31,10.85]
[5,1.35,21.7,null,null,0,12,null,{"$f":"IF($G7>MAX($G$3:$G6),F7,\"\")","v":0},{"$f":"IF($G7>MAX($G$3:$G6),G7,\"\")","v":12},null,1.36,22.8,null,{"$f":"IF(L5=\"\",\"\",L5)","v":1.31},{"$f":"IF(M5=\"\",\"\",M5)","v":20.8},null,1.31,20.8,1.35,21.7,2.72,34.200000000000003,2.8,31.08,1.36,18,3.2,36,1.36,18,2.82,30,2.72,22.740000000000002,2.72,24,2.72,28,1.36,19,3.1,28.5,2.7,23,2.72,28.5,1.31,20.8]
[6,2.62,21.7,null,null,0,9,null,{"$f":"IF($G8>MAX($G$3:$G7),F8,\"\")","v":""},{"$f":"IF($G8>MAX($G$3:$G7),G8,\"\")","v":""},null,1.4,23,null,{"$f":"IF(L6=\"\",\"\",L6)","v":1.35},{"$f":"IF(M6=\"\",\"\",M5)","v":20.8},null,1.35,20.8,2.62,21.7,4.08,34.200000000000003,4.1999999999999993,31.08,2.7,18,4.8000000000000007,36,2.72,18,4.2299999999999995,30,4.08,22.740000000000002,4.08,24,13.889999999999999,28,1.81,19,4.6500000000000004,28.5,4.5,23,4.08,28.5,1.35,20.8]
[7,2.62,31.200000000000003,null,null,0,10,null,{"$f":"IF($G9>MAX($G$3:$G8),F9,\"\")","v":""},{"$f":"IF($G9>MAX($G$3:$G8),G9,\"\")","v":""},null,1.6,24,null,{"$f":"IF(L6=\"\",\"\",L6)","v":1.35},{"$f":"IF(M6=\"\",\"\",M6)","v":21.7},null,1.35,21.7,2.62,31.200000000000003,4.08,45.6,4.1999999999999993,41.44,2.7,23,4.8000000000000007,48,2.72,27,4.2299999999999995,40,4.08,30.240000000000002,4.08,32,13.889999999999999,36,1.81,19.2,4.6500000000000004,38,4.5,28,4.08,38,1.35,21.7]
[8,3.93,31.200000000000003,null,null,0,8,null,{"$f":"IF($G10>MAX($G$3:$G9),F10,\"\")","v":""},{"$f":"IF($G10>MAX($G$3:$G9),G10,\"\")","v":""},null,2.62,31.200000000000003,null,{"$f":"IF(L7=\"\",\"\",L7)","v":1.36},{"$f":"IF(M7=\"\",\"\",M6)","v":21.7},null,1.36,21.7,3.93,31.200000000000003,5.44,45.6,5.6,41.44,2.72,23,6.4,48,4.08,27,5.64,40,6.5200000000000005,30.240000000000002,5.44,32,13.919999999999998,36,2.68,19.2,6.2,38,5.8000000000000007,28,5.44,38,2.62,21.7]
[9,3.93,41.6,null,null,0,8,null,{"$f":"IF($G11>MAX($G$3:$G10),F11,\"\")","v":""},{"$f":"IF($G11>MAX($G$3:$G10),G11,\"\")","v":""},null,2.72,34.200000000000003,null,{"$f":"IF(L7=\"\",\"\",L7)","v":1.36},{"$f":"IF(M7=\"\",\"\",M7)","v":22.8},null,1.36,22.8,3.93,41.6,5.44,57,5.6,51.8,2.72,27,6.4,60,4.08,36,5.64,50,6.5200000000000005,36.5,5.44,40,13.919999999999998,37,2.68,27,6.2,47.5,5.8000000000000007,30,5.44,47.5,2.62,31.200000000000003]
[10,5.24,41.6,null,null,0,10,null,{"$f":"IF($G12>MAX($G$3:$G11),F12,\"\")","v":""},{"$f":"IF($G12>MAX($G$3:$G11),G12,\"\")","v":""},null,3.2,36,null,{"$f":"IF(L8=\"\",\"\",L8)","v":1.4},{"$f":"IF(M8=\"\",\"\",M7)","v":22.8},null,1.4,22.8,5.24,41.6,15.939999999999998,57,7,51.8,4.08,27,8,60,5.44,36,7.05,50,7.79,36.5,33.44,40,15.249999999999998,37,3.62,27,7.75,47.5,6,30,9.94,47.5,3.93,31.200000000000003]
[11,5.24,52,null,null,0,9.6,null,{"$f":"IF($G13>MAX($G$3:$G12),F13,\"\")","v":""},{"$f":"IF($G13>MAX($G$3:$G12),G13,\"\")","v":""},null,3.93,41.6,null,{"$f":"IF(L8=\"\",\"\",L8)","v":1.4},{"$f":"IF(M8=\"\",\"\",M8)","v":23},null,1.4,23,5.24,52,15.939999999999998,68.400000000000006,7,62.16,4.08,36,8,72,5.44,45,7.05,60,7.79,37.5,33.44,48,15.249999999999998,45,3.62,28.799999999999997,7.75,57,6,35,9.94,57,3.93,41.6]
[12,9.57,52,null,null,0,10,null,{"$f":"IF($G14>MAX($G$3:$G13),F14,\"\")","v":""},{"$f":"IF($G14>MAX($G$3:$G13),G14,\"\")","v":""},null,4.08,45.6,null,{"$f":"IF(L9=\"\",\"\",L9)","v":1.6},{"$f":"IF(M9=\"\",\"\",M8)","v":23},null,1.6,23,9.57,52,17.299999999999997,68.400000000000006,9.3000000000000007,62.16,5.48,36,10.799999999999999,72,6.8000000000000007,45,8.4599999999999991,60,9.15,37.5,34.799999999999997,48,17.649999999999999,45,4.96,28.799999999999997,9.3000000000000007,57,7.3000000000000007,35,11.34,57,5.24,41.6]
[13,9.57,52.9,null,null,0,8,null,{"$f":"IF($G15>MAX($G$3:$G14),F15,\"\")","v":""},{"$f":"IF($G15>MAX($G$3:$G14),G15,\"\")","v":""},null,4.8000000000000007,48,null,{"$f":"IF(L9=\"\",\"\",L9)","v":1.6},{"$f":"IF(M9=\"\",\"\",M9)","v":24},null,1.6,24,9.57,52.9,17.299999999999997,79.800000000000011,9.3000000000000007,69.709999999999994,5.48,45,10.799999999999999,84,6.8000000000000007,54,8.4599999999999991,70,9.15,44.5,34.799999999999997,56,17.649999999999999,51,4.96,34,9.3000000000000007,66.5,7.3000000000000007,37,11.34,66.5,5.24,52]
[14,10.840000000000002,52.9,null,null,0,9.5,null,{"$f":"IF($G16>MAX($G$3:$G15),F16,\"\")","v":""},{"$f":"IF($G16>MAX($G$3:$G15),G16,\"\")","v":""},null,5.24,52,null,{"$f":"IF(L10=\"\",\"\",L10)","v":2.62},{"$f":"IF(M10=\"\",\"\",M9)","v":24},null,2.62,24,10.840000000000002,52.9,18.66,79.800000000000011,10.750000000000002,69.709999999999994,9.120000000000001,45,12.399999999999999,84,14.269999999999998,54,9.8699999999999992,70,13.239999999999998,44.5,36.159999999999997,56,null,null,5.43,34,10.850000000000001,66.5,7.5,37,14.939999999999998,66.5,9.57,52]
[15,10.840000000000002,62.849999999999994,null,null,0,11.5,null,{"$f":"IF($G17>MAX($G$3:$G16),F17,\"\")","v":""},{"$f":"IF($G17>MAX($G$3:$G16),G17,\"\")","v":""},null,5.44,57,null,{"$f":"IF(L10=\"\",\"\",L10)","v":2.62},{"$f":"IF(M10=\"\",\"\",M10)","v":31.200000000000003},null,2.62,31.200000000000003,10.840000000000002,62.849999999999994,18.66,91.200000000000017,10.750000000000002,77.260000000000005,9.120000000000001,50,12.399999999999999,96,14.269999999999998,63,9.8699999999999992,80,13.239999999999998,44.74,36.159999999999997,64,null,null,5.43,38.4,10.850000000000001,76,7.5,42,14.939999999999998,73.150000000000006,9.57,52.9]
[16,10.88,62.849999999999994,null,null,1.31,10.85,null,{"$f":"IF($G18>MAX($G$3:$G17),F18,\"\")","v":""},{"$f":"IF($G18>MAX($G$3:$G17),G18,\"\")","v":""},null,6.4,60,null,{"$f":"IF(L11=\"\",\"\",L11)","v":2.72},{"$f":"IF(M11=\"\",\"\",M10)","v":31.200000000000003},null,2.72,31.200000000000003,10.88,62.849999999999994,21.259999999999998,91.200000000000017,13.620000000000001,77.260000000000005,11.669999999999998,50,null,null,15.629999999999997,63,14.870000000000001,80,15.479999999999999,44.74,38.75,64,null,null,7.24,38.4,12.800000000000002,76,8.8000000000000007,42,null,null,10.840000000000002,52.9]
[17,10.88,63.3,null,null,1.31,20.8,null,{"$f":"IF($G19>MAX($G$3:$G18),F19,\"\")","v":1.31},{"$f":"IF($G19>MAX($G$3:$G18),G19,\"\")","v":20.8},null,7,62.16,null,{"$f":"IF(L11=\"\",\"\",L11)","v":2.72},{"$f":"IF(M11=\"\",\"\",M11)","v":34.200000000000003},null,2.72,34.200000000000003,10.88,63.3,21.259999999999998,99.000000000000014,13.620000000000001,84.81,11.669999999999998,55,null,null,15.629999999999997,72,14.870000000000001,90,15.479999999999999,51.74,38.75,72,null,null,7.24,48,12.800000000000002,76.5,8.8000000000000007,44,null,null,10.840000000000002,62.849999999999994]
[18,12.190000000000001,63.3,null,null,1.32,9.6,null,{"$f":"IF($G20>MAX($G$3:$G19),F20,\"\")","v":""},{"$f":"IF($G20>MAX($G$3:$G19),G20,\"\")","v":""},null,8,72,null,{"$f":"IF(L12=\"\",\"\",L12)","v":3.2},{"$f":"IF(M12=\"\",\"\",M11)","v":34.200000000000003},null,3.2,34.200000000000003,12.190000000000001,63.3,null,null,15.270000000000001,84.81,14.269999999999998,55,null,null,16.989999999999998,72,16.28,90,16.939999999999998,51.74,null,null,null,null,13.440000000000001,48,14.170000000000002,76.5,9,44,null,null,10.88,62.849999999999994]
[19,12.190000000000001,73.7,null,null,1.32,17.5,null,{"$f":"IF($G21>MAX($G$3:$G20),F21,\"\")","v":""},{"$f":"IF($G21>MAX($G$3:$G20),G21,\"\")","v":""},null,9.8699999999999992,80,null,{"$f":"IF(L12=\"\",\"\",L12)","v":3.2},{"$f":"IF(M12=\"\",\"\",M12)","v":36},null,3.2,36,12.190000000000001,73.7,null,null,15.270000000000001,92.36,14.269999999999998,63,null,null,16.989999999999998,80,16.28,100,16.939999999999998,59.24,null,null,null,null,13.440000000000001,55.800000000000004,14.170000000000002,84.5,9,49,null,null,10.88,63.3]
[20,15.640000000000002,73.7,null,null,1.33,10,null,{"$f":"IF($G22>MAX($G$3:$G21),F22,\"\")","v":""},{"$f":"IF($G22>MAX($G$3:$G21),G22,\"\")","v":""},null,10.799999999999999,84,null,{"$f":"IF(L13=\"\",\"\",L13)","v":3.93},{"$f":"IF(M13=\"\",\"\",M12)","v":36},null,3.93,36,15.640000000000002,73.7,null,null,null,null,15.669999999999998,63,null,null,20.68,80,17.73,100,18.309999999999999,59.24,null,null,null,null,14.38,55.800000000000004,14.350000000000003,84.5,10.3,49,null,null,12.190000000000001,63.3]
[21,15.640000000000002,83,null,null,1.33,17,null,{"$f":"IF($G23>MAX($G$3:$G22),F23,\"\")","v":""},{"$f":"IF($G23>MAX($G$3:$G22),G23,\"\")","v":""},null,12.399999999999999,96,null,{"$f":"IF(L13=\"\",\"\",L13)","v":3.93},{"$f":"IF(M13=\"\",\"\",M13)","v":41.6},null,3.93,41.6,15.640000000000002,83,null,null,null,null,15.669999999999998,72,null,null,20.68,86,17.73,107.5,18.309999999999999,60,null,null,null,null,14.38,57.500000000000007,14.350000000000003,86,10.3,51,null,null,12.190000000000001,73.7]
[22,null,null,null,null,1.35,20.8,null,{"$f":"IF($G24>MAX($G$3:$G23),F24,\"\")","v":""},{"$f":"IF($G24>MAX($G$3:$G23),G24,\"\")","v":""},null,16.28,100,null,{"$f":"IF(L14=\"\",\"\",L14)","v":4.08},{"$f":"IF(M14=\"\",\"\",M13)","v":41.6},null,4.08,41.6,null,null,null,null,null,null,19.309999999999999,72,null,null,20.689999999999998,86,20.330000000000002,107.5,18.399999999999999,60,null,null,null,null,15.250000000000002,57.500000000000007,15.720000000000002,86,10.5,51,null,null,15.640000000000002,73.7]
[23,null,null,null,null,1.35,21.7,null,{"$f":"IF($G25>MAX($G$3:$G24),F25,\"\")","v":1.35},{"$f":"IF($G25>MAX($G$3:$G24),G25,\"\")","v":21.7},null,17.73,107.5,null,{"$f":"IF(L14=\"\",\"\",L14)","v":4.08},{"$f":"IF(M14=\"\",\"\",M14)","v":45.6},null,4.08,45.6,null,null,null,null,null,null,19.309999999999999,77,null,null,20.689999999999998,88,20.330000000000002,115,18.399999999999999,66.739999999999995,null,null,null,null,15.250000000000002,65.400000000000006,15.720000000000002,94,10.5,56,null,null,15.640000000000002,83]
[24,null,null,null,null,1.35,9,null,{"$f":"IF($G26>MAX($G$3:$G25),F26,\"\")","v":""},{"$f":"IF($G26>MAX($G$3:$G25),G26,\"\")","v":""},null,20.330000000000002,115,null,{"$f":"IF(L15=\"\",\"\",L15)","v":4.8000000000000007},{"$f":"IF(M15=\"\",\"\",M14)","v":45.6},null,4.8000000000000007,45.6,null,null,null,null,null,null,19.369999999999997,77,null,null,22.04,88,null,null,19.669999999999998,66.739999999999995,null,null,null,null,15.740000000000002,65.400000000000006,19.120000000000005,94,11.8,56]
[25,null,null,null,null,1.35,15,null,{"$f":"IF($G27>MAX($G$3:$G26),F27,\"\")","v":""},{"$f":"IF($G27>MAX($G$3:$G26),G27,\"\")","v":""},null,"","",null,{"$f":"IF(L15=\"\",\"\",L15)","v":4.8000000000000007},{"$f":"IF(M15=\"\",\"\",M15)","v":48},null,4.8000000000000007,48,null,null,null,null,null,null,19.369999999999997,80,null,null,22.04,95,null,null,19.669999999999998,67,null,null,null,null,15.740000000000002,67,19.120000000000005,99,11.8,58]
[26,null,null,null,null,1.35,9,null,{"$f":"IF($G28>MAX($G$3:$G27),F28,\"\")","v":""},{"$f":"IF($G28>MAX($G$3:$G27),G28,\"\")","v":""},null,"","",null,{"$f":"IF(L16=\"\",\"\",L16)","v":5.24},{"$f":"IF(M16=\"\",\"\",M15)","v":48},null,5.24,48,null,null,null,null,null,null,20.669999999999998,80,null,null,24.589999999999996,95,null,null,21.029999999999998,67,null,null,null,null,17.060000000000002,67,null,null,12,58]
[27,null,null,null,null,1.35,15,null,{"$f":"IF($G29>MAX($G$3:$G28),F29,\"\")","v":""},{"$f":"IF($G29>MAX($G$3:$G28),G29,\"\")","v":""},null,"","",null,{"$f":"IF(L16=\"\",\"\",L16)","v":5.24},{"$f":"IF(M16=\"\",\"\",M16)","v":52},null,5.24,52,null,null,null,null,null,null,20.669999999999998,86,null,null,24.589999999999996,100,null,null,21.029999999999998,74.739999999999995,null,null,null,null,17.060000000000002,75,null,null,12,63]
[28,null,null,null,null,1.35,8,null,{"$f":"IF($G30>MAX($G$3:$G29),F30,\"\")","v":""},{"$f":"IF($G30>MAX($G$3:$G29),G30,\"\")","v":""},null,"","",null,{"$f":"IF(L17=\"\",\"\",L17)","v":5.44},{"$f":"IF(M17=\"\",\"\",M16)","v":52},null,5.44,52,null,null,null,null,null,null,20.72,86,null,null,null,null,null,null,null,null,null,null,null,null,19.34,75,null,null,13.3,63]
[0,null,null,null,null,1.35,16,null,{"$f":"IF($G31>MAX($G$3:$G30),F31,\"\")","v":""},{"$f":"IF($G31>MAX($G$3:$G30),G31,\"\")","v":""},null,"","",null,{"$f":"IF(L17=\"\",\"\",L17)","v":5.44},{"$f":"IF(M17=\"\",\"\",M17)","v":57},null,5.44,57,null,null,null,null,null,null,20.72,88,null,null,null,null,null,null,null,null,null,null,null,null,19.34,82,null,null,13.3,65]
[30,null,null,null,null,1.36,11.4,null,{"$f":"IF($G32>MAX($G$3:$G31),F32,\"\")","v":""},{"$f":"IF($G32>MAX($G$3:$G31),G32,\"\")","v":""},null,"","",null,{"$f":"IF(L18=\"\",\"\",L18)","v":6.4},{"$f":"IF(M18=\"\",\"\",M17)","v":57},null,6.4,57,null,null,null,null,null,null,22.069999999999997,88,null,null,null,null,null,null,null,null,null,null,null,null,null,null,null,null,13.5,65]
[1,0,11.4,null,null,1.36,22.8,null,{"$f":"IF($G33>MAX($G$3:$G32),F33,\"\")","v":1.36},{"$f":"IF($G33>MAX($G$3:$G32),G33,\"\")","v":22.8},null,"","",null,{"$f":"IF(L18=\"\",\"\",L18)","v":6.4},{"$f":"IF(M18=\"\",\"\",M18)","v":60},null,6.4,60,null,null,null,null,null,null,22.069999999999997,95,null,null,null,null,null,null,null,null,null,null,null,null,null,null,null,null,13.5,70,null,null,0,11.4]
[2,1.36,11.4,null,null,1.36,15,null,{"$f":"IF($G34>MAX($G$3:$G33),F34,\"\")","v":""},{"$f":"IF($G34>MAX($G$3:$G33),G34,\"\")","v":""},null,"","",null,{"$f":"IF(L19=\"\",\"\",L19)","v":7},{"$f":"IF(M19=\"\",\"\",M18)","v":60},null,7,60,null,null,null,null,null,null,24.619999999999994,95,null,null,null,null,null,null,null,null,null,null,null,null,null,null,null,null,14.8,70,null,null,1.36,11.4]
[3,1.36,22.8,null,null,1.36,18,null,{"$f":"IF($G35>MAX($G$3:$G34),F35,\"\")","v":""},{"$f":"IF($G35>MAX($G$3:$G34),G35,\"\")","v":""},null,"","",null,{"$f":"IF(L19=\"\",\"\",L19)","v":7},{"$f":"IF(M19=\"\",\"\",M19)","v":62.16},null,7,62.16,null,null,null,null,null,null,24.619999999999994,100,null,null,null,null,null,null,null,null,null,null,null,null,null,null,null,null,14.8,72,null,null,1.36,22.8]
[4,2.72,22.8,null,null,1.36,15,null,{"$f":"IF($G36>MAX($G$3:$G35),F36,\"\")","v":""},{"$f":"IF($G36>MAX($G$3:$G35),G36,\"\")","v":""},null,"","",null,{"$f":"IF(L20=\"\",\"\",L20)","v":8},{"$f":"IF(M20=\"\",\"\",M19)","v":62.16},null,8,62.16,null,null,null,null,null,null,null,null,null,null,null,null,null,null,null,null,null,null,null,null,null,null,null,null,16.3,72,null,null,2.72,22.8]
[5,2.72,34.200000000000003,null,null,1.36,18,null,{"$f":"IF($G37>MAX($G$3:$G36),F37,\"\")","v":""},{"$f":"IF($G37>MAX($G$3:$G36),G37,\"\")","v":""},null,"","",null,{"$f":"IF(L20=\"\",\"\",L20)","v":8},{"$f":"IF(M20=\"\",\"\",M20)","v":72},null,8,72,null,null,null,null,null,null,null,null,null,null,null,null,null,null,null,null,null,null,null,null,null,null,null,null,16.3,79,null,null,2.72,34.200000000000003]
[6,4.08,34.200000000000003,null,null,1.36,8,null,{"$f":"IF($G38>MAX($G$3:$G37),F38,\"\")","v":""},{"$f":"IF($G38>MAX($G$3:$G37),G38,\"\")","v":""},null,"","",null,{"$f":"IF(L21=\"\",\"\",L21)","v":9.8699999999999992},{"$f":"IF(M21=\"\",\"\",M20)","v":72},null,9.8699999999999992,72,null,null,null,null,null,null,null,null,null,null,null,null,null,null,null,null,null,null,null,null,null,null,null,null,17.8,79,null,null,4.08,34.200000000000003]
[7,4.08,45.6,null,null,1.36,15.5,null,{"$f":"IF($G39>MAX($G$3:$G38),F39,\"\")","v":""},{"$f":"IF($G39>MAX($G$3:$G38),G39,\"\")","v":""},null,"","",null,{"$f":"IF(L21=\"\",\"\",L21)","v":9.8699999999999992},{"$f":"IF(M21=\"\",\"\",M21)","v":80},null,9.8699999999999992,80,null,null,null,null,null,null,null,null,null,null,null,null,null,null,null,null,null,null,null,null,null,null,null,null,17.8,86,null,null,4.08,45.6]
[8,5.44,45.6,null,null,1.36,8,null,{"$f":"IF($G40>MAX($G$3:$G39),F40,\"\")","v":""},{"$f":"IF($G40>MAX($G$3:$G39),G40,\"\")","v":""},null,"","",null,{"$f":"IF(L22=\"\",\"\",L22)","v":10.799999999999999},{"$f":"IF(M22=\"\",\"\",M21)","v":80},null,10.799999999999999,80,null,null,null,null,null,null,null,null,null,null,null,null,null,null,null,null,null,null,null,null,null,null,null,null,19.3,86,null,null,5.44,45.6]
[9,5.44,57,null,null,1.36,16,null,{"$f":"IF($G41>MAX($G$3:$G40),F41,\"\")","v":""},{"$f":"IF($G41>MAX($G$3:$G40),G41,\"\")","v":""},null,"","",null,{"$f":"IF(L22=\"\",\"\",L22)","v":10.799999999999999},{"$f":"IF(M22=\"\",\"\",M22)","v":84},null,10.799999999999999,84,null,null,null,null,null,null,null,null,null,null,null,null,null,null,null,null,null,null,null,null,null,null,null,null,19.3,93,null,null,5.44,57]
[10,15.939999999999998,57,null,null,1.36,17.5,null,{"$f":"IF($G42>MAX($G$3:$G41),F42,\"\")","v":""},{"$f":"IF($G42>MAX($G$3:$G41),G42,\"\")","v":""},null,"","",null,{"$f":"IF(L23=\"\",\"\",L23)","v":12.399999999999999},{"$f":"IF(M23=\"\",\"\",M22)","v":84},null,12.399999999999999,84,null,null,null,null,null,null,null,null,null,null,null,null,null,null,null,null,null,null,null,null,null,null,null,null,21.85,93,null,null,15.939999999999998,57]
[11,15.939999999999998,68.400000000000006,null,null,1.36,19,null,{"$f":"IF($G43>MAX($G$3:$G42),F43,\"\")","v":""},{"$f":"IF($G43>MAX($G$3:$G42),G43,\"\")","v":""},null,"","",null,{"$f":"IF(L23=\"\",\"\",L23)","v":12.399999999999999},{"$f":"IF(M23=\"\",\"\",M23)","v":96},null,12.399999999999999,96,null,null,null,null,null,null,null,null,null,null,null,null,null,null,null,null,null,null,null,null,null,null,null,null,21.85,98,null,null,15.939999999999998,68.400000000000006]
[12,17.299999999999997,68.400000000000006,null,null,1.36,9.5,null,{"$f":"IF($G44>MAX($G$3:$G43),F44,\"\")","v":""},{"$f":"IF($G44>MAX($G$3:$G43),G44,\"\")","v":""},null,"","",null,{"$f":"IF(L24=\"\",\"\",L24)","v":16.28},{"$f":"IF(M24=\"\",\"\",M23)","v":96},null,16.28,96,null,null,null,null,null,null,null,null,null,null,null,null,null,null,null,null,null,null,null,null,null,null,null,null,null,null,null,null,17.299999999999997,68.400000000000006]
[13,17.299999999999997,79.800000000000011,null,null,1.36,19,null,{"$f":"IF($G45>MAX($G$3:$G44),F45,\"\")","v":""},{"$f":"IF($G45>MAX($G$3:$G44),G45,\"\")","v":""},null,"","",null,{"$f":"IF(L24=\"\",\"\",L24)","v":16.28},{"$f":"IF(M24=\"\",\"\",M24)","v":100},null,16.28,100,null,null,null,null,null,null,null,null,null,null,null,null,null,null,null,null,null,null,null,null,null,null,null,null,null,null,null,null,17.299999999999997,79.800000000000011]
[14,18.66,79.800000000000011,null,null,1.37,10,null,{"$f":"IF($G46>MAX($G$3:$G45),F46,\"\")","v":""},{"$f":"IF($G46>MAX($G$3:$G45),G46,\"\")","v":""},null,"","",null,{"$f":"IF(L25=\"\",\"\",L25)","v":17.73},{"$f":"IF(M25=\"\",\"\",M24)","v":100},null,17.73,100,null,null,null,null,null,null,null,null,null,null,null,null,null,null,null,null,null,null,null,null,null,null,null,null,null,null,null,null,18.66,79.800000000000011]
[15,18.66,91.200000000000017,null,null,1.37,18,null,{"$f":"IF($G47>MAX($G$3:$G46),F47,\"\")","v":""},{"$f":"IF($G47>MAX($G$3:$G46),G47,\"\")","v":""},null,"","",null,{"$f":"IF(L25=\"\",\"\",L25)","v":17.73},{"$f":"IF(M25=\"\",\"\",M25)","v":107.5},null,17.73,107.5,null,null,null,null,null,null,null,null,null,null,null,null,null,null,null,null,null,null,null,null,null,null,null,null,null,null,null,null,18.66,91.200000000000017]
[16,21.259999999999998,91.200000000000017,null,null,1.4,10.36,null,{"$f":"IF($G48>MAX($G$3:$G47),F48,\"\")","v":""},{"$f":"IF($G48>MAX($G$3:$G47),G48,\"\")","v":""},null,"","",null,{"$f":"IF(L26=\"\",\"\",L26)","v":20.330000000000002},{"$f":"IF(M26=\"\",\"\",M25)","v":107.5},null,20.330000000000002,107.5,null,null,null,null,null,null,null,null,null,null,null,null,null,null,null,null,null,null,null,null,null,null,null,null,null,null,null,null,21.259999999999998,91.200000000000017]
[17,21.259999999999998,99.000000000000014,null,null,1.4,20.72,null,{"$f":"IF($G49>MAX($G$3:$G48),F49,\"\")","v":""},{"$f":"IF($G49>MAX($G$3:$G48),G49,\"\")","v":""},null,"","",null,{"$f":"IF(L26=\"\",\"\",L26)","v":20.330000000000002},{"$f":"IF(M26=\"\",\"\",M26)","v":115},null,20.330000000000002,115,null,null,null,null,null,null,null,null,null,null,null,null,null,null,null,null,null,null,null,null,null,null,null,null,null,null,null,null,21.259999999999998,99.000000000000014]
[18,null,null,null,null,1.4,11.5,null,{"$f":"IF($G50>MAX($G$3:$G49),F50,\"\")","v":""},{"$f":"IF($G50>MAX($G$3:$G49),G50,\"\")","v":""},null,"","",null,{"$f":"IF(L27=\"\",\"\",L27)","v":""},{"$f":"IF(M27=\"\",\"\",M26)","v":""}]
[19,null,null,null,null,1.4,23,null,{"$f":"IF($G51>MAX($G$3:$G50),F51,\"\")","v":1.4},{"$f":"IF($G51>MAX($G$3:$G50),G51,\"\")","v":23},null,"","",null,{"$f":"IF(L27=\"\",\"\",L27)","v":""},{"$f":"IF(M27=\"\",\"\",M27)","v":""}]
[20,null,null,null,null,1.41,10,null,{"$f":"IF($G52>MAX($G$3:$G51),F52,\"\")","v":""},{"$f":"IF($G52>MAX($G$3:$G51),G52,\"\")","v":""},null,"","",null,{"$f":"IF(L28=\"\",\"\",L28)","v":""},{"$f":"IF(M28=\"\",\"\",M27)","v":""}]
[21,null,null,null,null,1.41,20,null,{"$f":"IF($G53>MAX($G$3:$G52),F53,\"\")","v":""},{"$f":"IF($G53>MAX($G$3:$G52),G53,\"\")","v":""},null,"","",null,{"$f":"IF(L28=\"\",\"\",L28)","v":""},{"$f":"IF(M28=\"\",\"\",M28)","v":""}]
[22,null,null,null,null,1.6,12,null,{"$f":"IF($G54>MAX($G$3:$G53),F54,\"\")","v":""},{"$f":"IF($G54>MAX($G$3:$G53),G54,\"\")","v":""},null,"","",null,{"$f":"IF(L29=\"\",\"\",L29)","v":""},{"$f":"IF(M29=\"\",\"\",M28)","v":""}]
[23,null,null,null,null,1.6,24,null,{"$f":"IF($G55>MAX($G$3:$G54),F55,\"\")","v":1.6},{"$f":"IF($G55>MAX($G$3:$G54),G55,\"\")","v":24},null,"","",null,{"$f":"IF(L30=\"\",\"\",L30)","v":""},{"$f":"IF(M30=\"\",\"\",M29)","v":""}]
[24,null,null,null,null,1.81,19,null,{"$f":"IF($G56>MAX($G$3:$G55),F56,\"\")","v":""},{"$f":"IF($G56>MAX($G$3:$G55),G56,\"\")","v":""},null,"",""]
[25,null,null,null,null,1.81,19.2,null,{"$f":"IF($G57>MAX($G$3:$G56),F57,\"\")","v":""},{"$f":"IF($G57>MAX($G$3:$G56),G57,\"\")","v":""},null,"",""]
[26,null,null,null,null,2.62,21.7,null,{"$f":"IF($G58>MAX($G$3:$G57),F58,\"\")","v":""},{"$f":"IF($G58>MAX($G$3:$G57),G58,\"\")","v":""},null,"",""]
[27,null,null,null,null,2.62,31.200000000000003,null,{"$f":"IF($G59>MAX($G$3:$G58),F59,\"\")","v":2.62},{"$f":"IF($G59>MAX($G$3:$G58),G59,\"\")","v":31.200000000000003},null,"",""]
[28,null,null,null,null,2.68,19.2,null,{"$f":"IF($G60>MAX($G$3:$G59),F60,\"\")","v":""},{"$f":"IF($G60>MAX($G$3:$G59),G60,\"\")","v":""},null,"",""]
[0,null,null,null,null,2.68,27,null,{"$f":"IF($G61>MAX($G$3:$G60),F61,\"\")","v":""},{"$f":"IF($G61>MAX($G$3:$G60),G61,\"\")","v":""},null,"",""]
[30,null,null,null,null,2.7,18,null,{"$f":"IF($G62>MAX($G$3:$G61),F62,\"\")","v":""},{"$f":"IF($G62>MAX($G$3:$G61),G62,\"\")","v":""},null,"",""]
[1,0,10.36,null,null,2.7,23,null,{"$f":"IF($G63>MAX($G$3:$G62),F63,\"\")","v":""},{"$f":"IF($G63>MAX($G$3:$G62),G63,\"\")","v":""},null,"","",null,null,null,null,null,null,null,null,null,null,null,null,null,null,null,null,null,null,null,null,null,null,null,null,null,null,null,null,null,null,null,null,null,null,0,10.36]
[2,1.4,10.36,null,null,2.7,16,null,{"$f":"IF($G64>MAX($G$3:$G63),F64,\"\")","v":""},{"$f":"IF($G64>MAX($G$3:$G63),G64,\"\")","v":""},null,"","",null,null,null,null,null,null,null,null,null,null,null,null,null,null,null,null,null,null,null,null,null,null,null,null,null,null,null,null,null,null,null,null,null,null,1.4,10.36]
[3,1.4,20.72,null,null,2.7,23,null,{"$f":"IF($G65>MAX($G$3:$G64),F65,\"\")","v":""},{"$f":"IF($G65>MAX($G$3:$G64),G65,\"\")","v":""},null,"","",null,null,null,null,null,null,null,null,null,null,null,null,null,null,null,null,null,null,null,null,null,null,null,null,null,null,null,null,null,null,null,null,null,null,1.4,20.72]
[4,2.8,20.72,null,null,2.72,22.8,null,{"$f":"IF($G66>MAX($G$3:$G65),F66,\"\")","v":""},{"$f":"IF($G66>MAX($G$3:$G65),G66,\"\")","v":""},null,"","",null,null,null,null,null,null,null,null,null,null,null,null,null,null,null,null,null,null,null,null,null,null,null,null,null,null,null,null,null,null,null,null,null,null,2.8,20.72]
[5,2.8,31.08,null,null,2.72,34.200000000000003,null,{"$f":"IF($G67>MAX($G$3:$G66),F67,\"\")","v":2.72},{"$f":"IF($G67>MAX($G$3:$G66),G67,\"\")","v":34.200000000000003},null,"","",null,null,null,null,null,null,null,null,null,null,null,null,null,null,null,null,null,null,null,null,null,null,null,null,null,null,null,null,null,null,null,null,null,null,2.8,31.08]
[6,4.1999999999999993,31.08,null,null,2.72,23,null,{"$f":"IF($G68>MAX($G$3:$G67),F68,\"\")","v":""},{"$f":"IF($G68>MAX($G$3:$G67),G68,\"\")","v":""},null,"","",null,null,null,null,null,null,null,null,null,null,null,null,null,null,null,null,null,null,null,null,null,null,null,null,null,null,null,null,null,null,null,null,null,null,4.1999999999999993,31.08]
[7,4.1999999999999993,41.44,null,null,2.72,27,null,{"$f":"IF($G69>MAX($G$3:$G68),F69,\"\")","v":""},{"$f":"IF($G69>MAX($G$3:$G68),G69,\"\")","v":""},null,"","",null,null,null,null,null,null,null,null,null,null,null,null,null,null,null,null,null,null,null,null,null,null,null,null,null,null,null,null,null,null,null,null,null,null,4.1999999999999993,41.44]
[8,5.6,41.44,null,null,2.72,18,null,{"$f":"IF($G70>MAX($G$3:$G69),F70,\"\")","v":""},{"$f":"IF($G70>MAX($G$3:$G69),G70,\"\")","v":""},null,"","",null,null,null,null,null,null,null,null,null,null,null,null,null,null,null,null,null,null,null,null,null,null,null,null,null,null,null,null,null,null,null,null,null,null,5.6,41.44]
[9,5.6,51.8,null,null,2.72,27,null,{"$f":"IF($G71>MAX($G$3:$G70),F71,\"\")","v":""},{"$f":"IF($G71>MAX($G$3:$G70),G71,\"\")","v":""},null,"","",null,null,null,null,null,null,null,null,null,null,null,null,null,null,null,null,null,null,null,null,null,null,null,null,null,null,null,null,null,null,null,null,null,null,5.6,51.8]
[10,7,51.8,null,null,2.72,15.5,null,{"$f":"IF($G72>MAX($G$3:$G71),F72,\"\")","v":""},{"$f":"IF($G72>MAX($G$3:$G71),G72,\"\")","v":""},null,"","",null,null,null,null,null,null,null,null,null,null,null,null,null,null,null,null,null,null,null,null,null,null,null,null,null,null,null,null,null,null,null,null,null,null,7,51.8]
[11,7,62.16,null,null,2.72,22.740000000000002,null,{"$f":"IF($G73>MAX($G$3:$G72),F73,\"\")","v":""},{"$f":"IF($G73>MAX($G$3:$G72),G73,\"\")","v":""},null,"","",null,null,null,null,null,null,null,null,null,null,null,null,null,null,null,null,null,null,null,null,null,null,null,null,null,null,null,null,null,null,null,null,null,null,7,62.16]
[12,9.3000000000000007,62.16,null,null,2.72,16,null,{"$f":"IF($G74>MAX($G$3:$G73),F74,\"\")","v":""},{"$f":"IF($G74>MAX($G$3:$G73),G74,\"\")","v":""},null,"","",null,null,null,null,null,null,null,null,null,null,null,null,null,null,null,null,null,null,null,null,null,null,null,null,null,null,null,null,null,null,null,null,null,null,9.3000000000000007,62.16]
[13,9.3000000000000007,69.709999999999994,null,null,2.72,24,null,{"$f":"IF($G75>MAX($G$3:$G74),F75,\"\")","v":""},{"$f":"IF($G75>MAX($G$3:$G74),G75,\"\")","v":""},null,"","",null,null,null,null,null,null,null,null,null,null,null,null,null,null,null,null,null,null,null,null,null,null,null,null,null,null,null,null,null,null,null,null,null,null,9.3000000000000007,69.709999999999994]
[14,10.750000000000002,69.709999999999994,null,null,2.72,17,null,{"$f":"IF($G76>MAX($G$3:$G75),F76,\"\")","v":""},{"$f":"IF($G76>MAX($G$3:$G75),G76,\"\")","v":""},null,"","",null,null,null,null,null,null,null,null,null,null,null,null,null,null,null,null,null,null,null,null,null,null,null,null,null,null,null,null,null,null,null,null,null,null,10.750000000000002,69.709999999999994]
[15,10.750000000000002,77.260000000000005,null,null,2.72,28,null,{"$f":"IF($G77>MAX($G$3:$G76),F77,\"\")","v":""},{"$f":"IF($G77>MAX($G$3:$G76),G77,\"\")","v":""},null,"","",null,null,null,null,null,null,null,null,null,null,null,null,null,null,null,null,null,null,null,null,null,null,null,null,null,null,null,null,null,null,null,null,null,null,10.750000000000002,77.260000000000005]
[16,13.620000000000001,77.260000000000005,null,null,2.72,19,null,{"$f":"IF($G78>MAX($G$3:$G77),F78,\"\")","v":""},{"$f":"IF($G78>MAX($G$3:$G77),G78,\"\")","v":""},null,"","",null,null,null,null,null,null,null,null,null,null,null,null,null,null,null,null,null,null,null,null,null,null,null,null,null,null,null,null,null,null,null,null,null,null,13.620000000000001,77.260000000000005]
[17,13.620000000000001,84.81,null,null,2.72,28.5,null,{"$f":"IF($G79>MAX($G$3:$G78),F79,\"\")","v":""},{"$f":"IF($G79>MAX($G$3:$G78),G79,\"\")","v":""},null,"","",null,null,null,null,null,null,null,null,null,null,null,null,null,null,null,null,null,null,null,null,null,null,null,null,null,null,null,null,null,null,null,null,null,null,13.620000000000001,84.81]
[18,15.270000000000001,84.81,null,null,2.8,20.72,null,{"$f":"IF($G80>MAX($G$3:$G79),F80,\"\")","v":""},{"$f":"IF($G80>MAX($G$3:$G79),G80,\"\")","v":""},null,"","",null,null,null,null,null,null,null,null,null,null,null,null,null,null,null,null,null,null,null,null,null,null,null,null,null,null,null,null,null,null,null,null,null,null,15.270000000000001,84.81]
[19,15.270000000000001,92.36,null,null,2.8,31.08,null,{"$f":"IF($G81>MAX($G$3:$G80),F81,\"\")","v":""},{"$f":"IF($G81>MAX($G$3:$G80),G81,\"\")","v":""},null,"","",null,null,null,null,null,null,null,null,null,null,null,null,null,null,null,null,null,null,null,null,null,null,null,null,null,null,null,null,null,null,null,null,null,null,15.270000000000001,92.36]
[20,null,null,null,null,2.82,20,null,{"$f":"IF($G82>MAX($G$3:$G81),F82,\"\")","v":""},{"$f":"IF($G82>MAX($G$3:$G81),G82,\"\")","v":""},null,"",""]
[21,null,null,null,null,2.82,30,null,{"$f":"IF($G83>MAX($G$3:$G82),F83,\"\")","v":""},{"$f":"IF($G83>MAX($G$3:$G82),G83,\"\")","v":""},null,"",""]
[22,null,null,null,null,3.1,18,null,{"$f":"IF($G84>MAX($G$3:$G83),F84,\"\")","v":""},{"$f":"IF($G84>MAX($G$3:$G83),G84,\"\")","v":""},null,"",""]
[23,null,null,null,null,3.1,28.5,null,{"$f":"IF($G85>MAX($G$3:$G84),F85,\"\")","v":""},{"$f":"IF($G85>MAX($G$3:$G84),G85,\"\")","v":""},null,"",""]
[24,null,null,null,null,3.2,24,null,{"$f":"IF($G86>MAX($G$3:$G85),F86,\"\")","v":""},{"$f":"IF($G86>MAX($G$3:$G85),G86,\"\")","v":""},null,"",""]
[25,null,null,null,null,3.2,36,null,{"$f":"IF($G87>MAX($G$3:$G86),F87,\"\")","v":3.2},{"$f":"IF($G87>MAX($G$3:$G86),G87,\"\")","v":36},null,"",""]
[26,null,null,null,null,3.62,27,null,{"$f":"IF($G88>MAX($G$3:$G87),F88,\"\")","v":""},{"$f":"IF($G88>MAX($G$3:$G87),G88,\"\")","v":""},null,"",""]
[27,null,null,null,null,3.62,28.799999999999997,null,{"$f":"IF($G89>MAX($G$3:$G88),F89,\"\")","v":""},{"$f":"IF($G89>MAX($G$3:$G88),G89,\"\")","v":""},null,"",""]
[28,null,null,null,null,3.7,23,null,{"$f":"IF($G90>MAX($G$3:$G89),F90,\"\")","v":""},{"$f":"IF($G90>MAX($G$3:$G89),G90,\"\")","v":""},null,"",""]
[0,null,null,null,null,3.7,34.5,null,{"$f":"IF($G91>MAX($G$3:$G90),F91,\"\")","v":""},{"$f":"IF($G91>MAX($G$3:$G90),G91,\"\")","v":""},null,"",""]
[30,null,null,null,null,3.93,31.200000000000003,null,{"$f":"IF($G92>MAX($G$3:$G91),F92,\"\")","v":""},{"$f":"IF($G92>MAX($G$3:$G91),G92,\"\")","v":""},null,"",""]
[1,0,9,null,null,3.93,41.6,null,{"$f":"IF($G93>MAX($G$3:$G92),F93,\"\")","v":3.93},{"$f":"IF($G93>MAX($G$3:$G92),G93,\"\")","v":41.6},null,"","",null,null,null,null,null,null,null,null,null,null,null,null,null,null,null,null,null,null,null,null,null,null,null,null,null,null,null,null,null,null,null,null,null,null,0,9]
[2,1.35,9,null,null,4.08,34.200000000000003,null,{"$f":"IF($G94>MAX($G$3:$G93),F94,\"\")","v":""},{"$f":"IF($G94>MAX($G$3:$G93),G94,\"\")","v":""},null,"","",null,null,null,null,null,null,null,null,null,null,null,null,null,null,null,null,null,null,null,null,null,null,null,null,null,null,null,null,null,null,null,null,null,null,1.35,9]
[3,1.35,15,null,null,4.08,45.6,null,{"$f":"IF($G95>MAX($G$3:$G94),F95,\"\")","v":4.08},{"$f":"IF($G95>MAX($G$3:$G94),G95,\"\")","v":45.6},null,"","",null,null,null,null,null,null,null,null,null,null,null,null,null,null,null,null,null,null,null,null,null,null,null,null,null,null,null,null,null,null,null,null,null,null,1.35,15]
[4,1.36,15,null,null,4.08,27,null,{"$f":"IF($G96>MAX($G$3:$G95),F96,\"\")","v":""},{"$f":"IF($G96>MAX($G$3:$G95),G96,\"\")","v":""},null,"","",null,null,null,null,null,null,null,null,null,null,null,null,null,null,null,null,null,null,null,null,null,null,null,null,null,null,null,null,null,null,null,null,null,null,1.36,15]
[5,1.36,18,null,null,4.08,36,null,{"$f":"IF($G97>MAX($G$3:$G96),F97,\"\")","v":""},{"$f":"IF($G97>MAX($G$3:$G96),G97,\"\")","v":""},null,"","",null,null,null,null,null,null,null,null,null,null,null,null,null,null,null,null,null,null,null,null,null,null,null,null,null,null,null,null,null,null,null,null,null,null,1.36,18]
[6,2.7,18,null,null,4.08,27,null,{"$f":"IF($G98>MAX($G$3:$G97),F98,\"\")","v":""},{"$f":"IF($G98>MAX($G$3:$G97),G98,\"\")","v":""},null,"","",null,null,null,null,null,null,null,null,null,null,null,null,null,null,null,null,null,null,null,null,null,null,null,null,null,null,null,null,null,null,null,null,null,null,2.7,18]
[7,2.7,23,null,null,4.08,36,null,{"$f":"IF($G99>MAX($G$3:$G98),F99,\"\")","v":""},{"$f":"IF($G99>MAX($G$3:$G98),G99,\"\")","v":""},null,"","",null,null,null,null,null,null,null,null,null,null,null,null,null,null,null,null,null,null,null,null,null,null,null,null,null,null,null,null,null,null,null,null,null,null,2.7,23]
[8,2.72,23,null,null,4.08,22.740000000000002,null,{"$f":"IF($G100>MAX($G$3:$G99),F100,\"\")","v":""},{"$f":"IF($G100>MAX($G$3:$G99),G100,\"\")","v":""},null,"","",null,null,null,null,null,null,null,null,null,null,null,null,null,null,null,null,null,null,null,null,null,null,null,null,null,null,null,null,null,null,null,null,null,null,2.72,23]
[9,2.72,27,null,null,4.08,30.240000000000002,null,{"$f":"IF($G101>MAX($G$3:$G100),F101,\"\")","v":""},{"$f":"IF($G101>MAX($G$3:$G100),G101,\"\")","v":""},null,"","",null,null,null,null,null,null,null,null,null,null,null,null,null,null,null,null,null,null,null,null,null,null,null,null,null,null,null,null,null,null,null,null,null,null,2.72,27]
[10,4.08,27,null,null,4.08,24,null,{"$f":"IF($G102>MAX($G$3:$G101),F102,\"\")","v":""},{"$f":"IF($G102>MAX($G$3:$G101),G102,\"\")","v":""},null,"","",null,null,null,null,null,null,null,null,null,null,null,null,null,null,null,null,null,null,null,null,null,null,null,null,null,null,null,null,null,null,null,null,null,null,4.08,27]
[11,4.08,36,null,null,4.08,32,null,{"$f":"IF($G103>MAX($G$3:$G102),F103,\"\")","v":""},{"$f":"IF($G103>MAX($G$3:$G102),G103,\"\")","v":""},null,"","",null,null,null,null,null,null,null,null,null,null,null,null,null,null,null,null,null,null,null,null,null,null,null,null,null,null,null,null,null,null,null,null,null,null,4.08,36]
[12,5.48,36,null,null,4.08,28.5,null,{"$f":"IF($G104>MAX($G$3:$G103),F104,\"\")","v":""},{"$f":"IF($G104>MAX($G$3:$G103),G104,\"\")","v":""},null,"","",null,null,null,null,null,null,null,null,null,null,null,null,null,null,null,null,null,null,null,null,null,null,null,null,null,null,null,null,null,null,null,null,null,null,5.48,36]
[13,5.48,45,null,null,4.08,38,null,{"$f":"IF($G105>MAX($G$3:$G104),F105,\"\")","v":""},{"$f":"IF($G105>MAX($G$3:$G104),G105,\"\")","v":""},null,"","",null,null,null,null,null,null,null,null,null,null,null,null,null,null,null,null,null,null,null,null,null,null,null,null,null,null,null,null,null,null,null,null,null,null,5.48,45]
[14,9.120000000000001,45,null,null,4.1999999999999993,31.08,null,{"$f":"IF($G106>MAX($G$3:$G105),F106,\"\")","v":""},{"$f":"IF($G106>MAX($G$3:$G105),G106,\"\")","v":""},null,"","",null,null,null,null,null,null,null,null,null,null,null,null,null,null,null,null,null,null,null,null,null,null,null,null,null,null,null,null,null,null,null,null,null,null,9.120000000000001,45]
[15,9.120000000000001,50,null,null,4.1999999999999993,41.44,null,{"$f":"IF($G107>MAX($G$3:$G106),F107,\"\")","v":""},{"$f":"IF($G107>MAX($G$3:$G106),G107,\"\")","v":""},null,"","",null,null,null,null,null,null,null,null,null,null,null,null,null,null,null,null,null,null,null,null,null,null,null,null,null,null,null,null,null,null,null,null,null,null,9.120000000000001,50]
[16,11.669999999999998,50,null,null,4.2299999999999995,30,null,{"$f":"IF($G108>MAX($G$3:$G107),F108,\"\")","v":""},{"$f":"IF($G108>MAX($G$3:$G107),G108,\"\")","v":""},null,"","",null,null,null,null,null,null,null,null,null,null,null,null,null,null,null,null,null,null,null,null,null,null,null,null,null,null,null,null,null,null,null,null,null,null,11.669999999999998,50]
[17,11.669999999999998,55,null,null,4.2299999999999995,40,null,{"$f":"IF($G109>MAX($G$3:$G108),F109,\"\")","v":""},{"$f":"IF($G109>MAX($G$3:$G108),G109,\"\")","v":""},null,"","",null,null,null,null,null,null,null,null,null,null,null,null,null,null,null,null,null,null,null,null,null,null,null,null,null,null,null,null,null,null,null,null,null,null,11.669999999999998,55]
[18,14.269999999999998,55,null,null,4.5,23,null,{"$f":"IF($G110>MAX($G$3:$G109),F110,\"\")","v":""},{"$f":"IF($G110>MAX($G$3:$G109),G110,\"\")","v":""},null,"","",null,null,null,null,null,null,null,null,null,null,null,null,null,null,null,null,null,null,null,null,null,null,null,null,null,null,null,null,null,null,null,null,null,null,14.269999999999998,55]
[19,14.269999999999998,63,null,null,4.5,28,null,{"$f":"IF($G111>MAX($G$3:$G110),F111,\"\")","v":""},{"$f":"IF($G111>MAX($G$3:$G110),G111,\"\")","v":""},null,"","",null,null,null,null,null,null,null,null,null,null,null,null,null,null,null,null,null,null,null,null,null,null,null,null,null,null,null,null,null,null,null,null,null,null,14.269999999999998,63]
[20,15.669999999999998,63,null,null,4.6500000000000004,28.5,null,{"$f":"IF($G112>MAX($G$3:$G111),F112,\"\")","v":""},{"$f":"IF($G112>MAX($G$3:$G111),G112,\"\")","v":""},null,"","",null,null,null,null,null,null,null,null,null,null,null,null,null,null,null,null,null,null,null,null,null,null,null,null,null,null,null,null,null,null,null,null,null,null,15.669999999999998,63]
[21,15.669999999999998,72,null,null,4.6500000000000004,38,null,{"$f":"IF($G113>MAX($G$3:$G112),F113,\"\")","v":""},{"$f":"IF($G113>MAX($G$3:$G112),G113,\"\")","v":""},null,"","",null,null,null,null,null,null,null,null,null,null,null,null,null,null,null,null,null,null,null,null,null,null,null,null,null,null,null,null,null,null,null,null,null,null,15.669999999999998,72]
[22,19.309999999999999,72,null,null,4.8000000000000007,36,null,{"$f":"IF($G114>MAX($G$3:$G113),F114,\"\")","v":""},{"$f":"IF($G114>MAX($G$3:$G113),G114,\"\")","v":""},null,"","",null,null,null,null,null,null,null,null,null,null,null,null,null,null,null,null,null,null,null,null,null,null,null,null,null,null,null,null,null,null,null,null,null,null,19.309999999999999,72]
[23,19.309999999999999,77,null,null,4.8000000000000007,48,null,{"$f":"IF($G115>MAX($G$3:$G114),F115,\"\")","v":4.8000000000000007},{"$f":"IF($G115>MAX($G$3:$G114),G115,\"\")","v":48},null,"","",null,null,null,null,null,null,null,null,null,null,null,null,null,null,null,null,null,null,null,null,null,null,null,null,null,null,null,null,null,null,null,null,null,null,19.309999999999999,77]
[24,19.369999999999997,77,null,null,4.96,28.799999999999997,null,{"$f":"IF($G116>MAX($G$3:$G115),F116,\"\")","v":""},{"$f":"IF($G116>MAX($G$3:$G115),G116,\"\")","v":""},null,"","",null,null,null,null,null,null,null,null,null,null,null,null,null,null,null,null,null,null,null,null,null,null,null,null,null,null,null,null,null,null,null,null,null,null,19.369999999999997,77]
[25,19.369999999999997,80,null,null,4.96,34,null,{"$f":"IF($G117>MAX($G$3:$G116),F117,\"\")","v":""},{"$f":"IF($G117>MAX($G$3:$G116),G117,\"\")","v":""},null,"","",null,null,null,null,null,null,null,null,null,null,null,null,null,null,null,null,null,null,null,null,null,null,null,null,null,null,null,null,null,null,null,null,null,null,19.369999999999997,80]
[26,20.669999999999998,80,null,null,5.24,41.6,null,{"$f":"IF($G118>MAX($G$3:$G117),F118,\"\")","v":""},{"$f":"IF($G118>MAX($G$3:$G117),G118,\"\")","v":""},null,"","",null,null,null,null,null,null,null,null,null,null,null,null,null,null,null,null,null,null,null,null,null,null,null,null,null,null,null,null,null,null,null,null,null,null,20.669999999999998,80]
[27,20.669999999999998,86,null,null,5.24,52,null,{"$f":"IF($G119>MAX($G$3:$G118),F119,\"\")","v":5.24},{"$f":"IF($G119>MAX($G$3:$G118),G119,\"\")","v":52},null,"","",null,null,null,null,null,null,null,null,null,null,null,null,null,null,null,null,null,null,null,null,null,null,null,null,null,null,null,null,null,null,null,null,null,null,20.669999999999998,86]
[28,20.72,86,null,null,5.43,34,null,{"$f":"IF($G120>MAX($G$3:$G119),F120,\"\")","v":""},{"$f":"IF($G120>MAX($G$3:$G119),G120,\"\")","v":""},null,"","",null,null,null,null,null,null,null,null,null,null,null,null,null,null,null,null,null,null,null,null,null,null,null,null,null,null,null,null,null,null,null,null,null,null,20.72,86]
[0,20.72,88,null,null,5.43,38.4,null,{"$f":"IF($G121>MAX($G$3:$G120),F121,\"\")","v":""},{"$f":"IF($G121>MAX($G$3:$G120),G121,\"\")","v":""},null,"","",null,null,null,null,null,null,null,null,null,null,null,null,null,null,null,null,null,null,null,null,null,null,null,null,null,null,null,null,null,null,null,null,null,null,20.72,88]
[30,22.069999999999997,88,null,null,5.44,45.6,null,{"$f":"IF($G122>MAX($G$3:$G121),F122,\"\")","v":""},{"$f":"IF($G122>MAX($G$3:$G121),G122,\"\")","v":""},null,"","",null,null,null,null,null,null,null,null,null,null,null,null,null,null,null,null,null,null,null,null,null,null,null,null,null,null,null,null,null,null,null,null,null,null,22.069999999999997,88]
[1,0,12,null,null,5.44,57,null,{"$f":"IF($G123>MAX($G$3:$G122),F123,\"\")","v":5.44},{"$f":"IF($G123>MAX($G$3:$G122),G123,\"\")","v":57},null,"","",null,null,null,null,null,null,null,null,null,null,null,null,null,null,null,null,null,null,null,null,null,null,null,null,null,null,null,null,null,null,null,null,null,null,0,12]
[2,1.6,12,null,null,5.44,36,null,{"$f":"IF($G124>MAX($G$3:$G123),F124,\"\")","v":""},{"$f":"IF($G124>MAX($G$3:$G123),G124,\"\")","v":""},null,"","",null,null,null,null,null,null,null,null,null,null,null,null,null,null,null,null,null,null,null,null,null,null,null,null,null,null,null,null,null,null,null,null,null,null,1.6,12]
[3,1.6,24,null,null,5.44,45,null,{"$f":"IF($G125>MAX($G$3:$G124),F125,\"\")","v":""},{"$f":"IF($G125>MAX($G$3:$G124),G125,\"\")","v":""},null,"","",null,null,null,null,null,null,null,null,null,null,null,null,null,null,null,null,null,null,null,null,null,null,null,null,null,null,null,null,null,null,null,null,null,null,1.6,24]
[4,3.2,24,null,null,5.44,32,null,{"$f":"IF($G126>MAX($G$3:$G125),F126,\"\")","v":""},{"$f":"IF($G126>MAX($G$3:$G125),G126,\"\")","v":""},null,"","",null,null,null,null,null,null,null,null,null,null,null,null,null,null,null,null,null,null,null,null,null,null,null,null,null,null,null,null,null,null,null,null,null,null,3.2,24]
[5,3.2,36,null,null,5.44,40,null,{"$f":"IF($G127>MAX($G$3:$G126),F127,\"\")","v":""},{"$f":"IF($G127>MAX($G$3:$G126),G127,\"\")","v":""},null,"","",null,null,null,null,null,null,null,null,null,null,null,null,null,null,null,null,null,null,null,null,null,null,null,null,null,null,null,null,null,null,null,null,null,null,3.2,36]
[6,4.8000000000000007,36,null,null,5.44,38,null,{"$f":"IF($G128>MAX($G$3:$G127),F128,\"\")","v":""},{"$f":"IF($G128>MAX($G$3:$G127),G128,\"\")","v":""},null,"","",null,null,null,null,null,null,null,null,null,null,null,null,null,null,null,null,null,null,null,null,null,null,null,null,null,null,null,null,null,null,null,null,null,null,4.8000000000000007,36]
[7,4.8000000000000007,48,null,null,5.44,47.5,null,{"$f":"IF($G129>MAX($G$3:$G128),F129,\"\")","v":""},{"$f":"IF($G129>MAX($G$3:$G128),G129,\"\")","v":""},null,"","",null,null,null,null,null,null,null,null,null,null,null,null,null,null,null,null,null,null,null,null,null,null,null,null,null,null,null,null,null,null,null,null,null,null,4.8000000000000007,48]
[8,6.4,48,null,null,5.48,36,null,{"$f":"IF($G130>MAX($G$3:$G129),F130,\"\")","v":""},{"$f":"IF($G130>MAX($G$3:$G129),G130,\"\")","v":""},null,"","",null,null,null,null,null,null,null,null,null,null,null,null,null,null,null,null,null,null,null,null,null,null,null,null,null,null,null,null,null,null,null,null,null,null,6.4,48]
[9,6.4,60,null,null,5.48,45,null,{"$f":"IF($G131>MAX($G$3:$G130),F131,\"\")","v":""},{"$f":"IF($G131>MAX($G$3:$G130),G131,\"\")","v":""},null,"","",null,null,null,null,null,null,null,null,null,null,null,null,null,null,null,null,null,null,null,null,null,null,null,null,null,null,null,null,null,null,null,null,null,null,6.4,60]
[10,8,60,null,null,5.6,41.44,null,{"$f":"IF($G132>MAX($G$3:$G131),F132,\"\")","v":""},{"$f":"IF($G132>MAX($G$3:$G131),G132,\"\")","v":""},null,"","",null,null,null,null,null,null,null,null,null,null,null,null,null,null,null,null,null,null,null,null,null,null,null,null,null,null,null,null,null,null,null,null,null,null,8,60]
[11,8,72,null,null,5.6,51.8,null,{"$f":"IF($G133>MAX($G$3:$G132),F133,\"\")","v":""},{"$f":"IF($G133>MAX($G$3:$G132),G133,\"\")","v":""},null,"","",null,null,null,null,null,null,null,null,null,null,null,null,null,null,null,null,null,null,null,null,null,null,null,null,null,null,null,null,null,null,null,null,null,null,8,72]
[12,10.799999999999999,72,null,null,5.64,40,null,{"$f":"IF($G134>MAX($G$3:$G133),F134,\"\")","v":""},{"$f":"IF($G134>MAX($G$3:$G133),G134,\"\")","v":""},null,"","",null,null,null,null,null,null,null,null,null,null,null,null,null,null,null,null,null,null,null,null,null,null,null,null,null,null,null,null,null,null,null,null,null,null,10.799999999999999,72]
[13,10.799999999999999,84,null,null,5.64,50,null,{"$f":"IF($G135>MAX($G$3:$G134),F135,\"\")","v":""},{"$f":"IF($G135>MAX($G$3:$G134),G135,\"\")","v":""},null,"","",null,null,null,null,null,null,null,null,null,null,null,null,null,null,null,null,null,null,null,null,null,null,null,null,null,null,null,null,null,null,null,null,null,null,10.799999999999999,84]
[14,12.399999999999999,84,null,null,5.6400000000000006,34.5,null,{"$f":"IF($G136>MAX($G$3:$G135),F136,\"\")","v":""},{"$f":"IF($G136>MAX($G$3:$G135),G136,\"\")","v":""},null,"","",null,null,null,null,null,null,null,null,null,null,null,null,null,null,null,null,null,null,null,null,null,null,null,null,null,null,null,null,null,null,null,null,null,null,12.399999999999999,84]
[15,12.399999999999999,96,null,null,5.6400000000000006,46,null,{"$f":"IF($G137>MAX($G$3:$G136),F137,\"\")","v":""},{"$f":"IF($G137>MAX($G$3:$G136),G137,\"\")","v":""},null,"","",null,null,null,null,null,null,null,null,null,null,null,null,null,null,null,null,null,null,null,null,null,null,null,null,null,null,null,null,null,null,null,null,null,null,12.399999999999999,96]
[16,null,null,null,null,5.8000000000000007,28,null,{"$f":"IF($G138>MAX($G$3:$G137),F138,\"\")","v":""},{"$f":"IF($G138>MAX($G$3:$G137),G138,\"\")","v":""},null,"",""]
[17,null,null,null,null,5.8000000000000007,30,null,{"$f":"IF($G139>MAX($G$3:$G138),F139,\"\")","v":""},{"$f":"IF($G139>MAX($G$3:$G138),G139,\"\")","v":""},null,"",""]
[18,null,null,null,null,6,30,null,{"$f":"IF($G140>MAX($G$3:$G139),F140,\"\")","v":""},{"$f":"IF($G140>MAX($G$3:$G139),G140,\"\")","v":""},null,"",""]
[19,null,null,null,null,6,35,null,{"$f":"IF($G141>MAX($G$3:$G140),F141,\"\")","v":""},{"$f":"IF($G141>MAX($G$3:$G140),G141,\"\")","v":""},null,"",""]
[20,null,null,null,null,6.2,38,null,{"$f":"IF($G142>MAX($G$3:$G141),F142,\"\")","v":""},{"$f":"IF($G142>MAX($G$3:$G141),G142,\"\")","v":""},null,"",""]
[21,null,null,null,null,6.2,47.5,null,{"$f":"IF($G143>MAX($G$3:$G142),F143,\"\")","v":""},{"$f":"IF($G143>MAX($G$3:$G142),G143,\"\")","v":""},null,"",""]
[22,null,null,null,null,6.4,48,null,{"$f":"IF($G144>MAX($G$3:$G143),F144,\"\")","v":""},{"$f":"IF($G144>MAX($G$3:$G143),G144,\"\")","v":""},null,"",""]
[23,null,null,null,null,6.4,60,null,{"$f":"IF($G145>MAX($G$3:$G144),F145,\"\")","v":6.4},{"$f":"IF($G145>MAX($G$3:$G144),G145,\"\")","v":60},null,"",""]
[24,null,null,null,null,6.5200000000000005,30.240000000000002,null,{"$f":"IF($G146>MAX($G$3:$G145),F146,\"\")","v":""},{"$f":"IF($G146>MAX($G$3:$G145),G146,\"\")","v":""},null,"",""]
[25,null,null,null,null,6.5200000000000005,36.5,null,{"$f":"IF($G147>MAX($G$3:$G146),F147,\"\")","v":""},{"$f":"IF($G147>MAX($G$3:$G146),G147,\"\")","v":""},null,"",""]
[26,null,null,null,null,6.8000000000000007,45,null,{"$f":"IF($G148>MAX($G$3:$G147),F148,\"\")","v":""},{"$f":"IF($G148>MAX($G$3:$G147),G148,\"\")","v":""},null,"",""]
[27,null,null,null,null,6.8000000000000007,54,null,{"$f":"IF($G149>MAX($G$3:$G148),F149,\"\")","v":""},{"$f":"IF($G149>MAX($G$3:$G148),G149,\"\")","v":""},null,"",""]
[28,null,null,null,null,7,51.8,null,{"$f":"IF($G150>MAX($G$3:$G149),F150,\"\")","v":""},{"$f":"IF($G150>MAX($G$3:$G149),G150,\"\")","v":""},null,"",""]
[0,null,null,null,null,7,62.16,null,{"$f":"IF($G151>MAX($G$3:$G150),F151,\"\")","v":7},{"$f":"IF($G151>MAX($G$3:$G150),G151,\"\")","v":62.16},null,"",""]
[30,null,null,null,null,7.05,50,null,{"$f":"IF($G152>MAX($G$3:$G151),F152,\"\")","v":""},{"$f":"IF($G152>MAX($G$3:$G151),G152,\"\")","v":""},null,"",""]
[1,0,9,null,null,7.05,60,null,{"$f":"IF($G153>MAX($G$3:$G152),F153,\"\")","v":""},{"$f":"IF($G153>MAX($G$3:$G152),G153,\"\")","v":""},null,"","",null,null,null,null,null,null,null,null,null,null,null,null,null,null,null,null,null,null,null,null,null,null,null,null,null,null,null,null,null,null,null,null,null,null,0,9]
[2,1.35,9,null,null,7.24,38.4,null,{"$f":"IF($G154>MAX($G$3:$G153),F154,\"\")","v":""},{"$f":"IF($G154>MAX($G$3:$G153),G154,\"\")","v":""},null,"","",null,null,null,null,null,null,null,null,null,null,null,null,null,null,null,null,null,null,null,null,null,null,null,null,null,null,null,null,null,null,null,null,null,null,1.35,9]
[3,1.35,15,null,null,7.24,48,null,{"$f":"IF($G155>MAX($G$3:$G154),F155,\"\")","v":""},{"$f":"IF($G155>MAX($G$3:$G154),G155,\"\")","v":""},null,"","",null,null,null,null,null,null,null,null,null,null,null,null,null,null,null,null,null,null,null,null,null,null,null,null,null,null,null,null,null,null,null,null,null,null,1.35,15]
[4,1.36,15,null,null,7.3000000000000007,35,null,{"$f":"IF($G156>MAX($G$3:$G155),F156,\"\")","v":""},{"$f":"IF($G156>MAX($G$3:$G155),G156,\"\")","v":""},null,"","",null,null,null,null,null,null,null,null,null,null,null,null,null,null,null,null,null,null,null,null,null,null,null,null,null,null,null,null,null,null,null,null,null,null,1.36,15]
[5,1.36,18,null,null,7.3000000000000007,37,null,{"$f":"IF($G157>MAX($G$3:$G156),F157,\"\")","v":""},{"$f":"IF($G157>MAX($G$3:$G156),G157,\"\")","v":""},null,"","",null,null,null,null,null,null,null,null,null,null,null,null,null,null,null,null,null,null,null,null,null,null,null,null,null,null,null,null,null,null,null,null,null,null,1.36,18]
[6,2.72,18,null,null,7.5,37,null,{"$f":"IF($G158>MAX($G$3:$G157),F158,\"\")","v":""},{"$f":"IF($G158>MAX($G$3:$G157),G158,\"\")","v":""},null,"","",null,null,null,null,null,null,null,null,null,null,null,null,null,null,null,null,null,null,null,null,null,null,null,null,null,null,null,null,null,null,null,null,null,null,2.72,18]
[7,2.72,27,null,null,7.5,42,null,{"$f":"IF($G159>MAX($G$3:$G158),F159,\"\")","v":""},{"$f":"IF($G159>MAX($G$3:$G158),G159,\"\")","v":""},null,"","",null,null,null,null,null,null,null,null,null,null,null,null,null,null,null,null,null,null,null,null,null,null,null,null,null,null,null,null,null,null,null,null,null,null,2.72,27]
[8,4.08,27,null,null,7.75,47.5,null,{"$f":"IF($G160>MAX($G$3:$G159),F160,\"\")","v":""},{"$f":"IF($G160>MAX($G$3:$G159),G160,\"\")","v":""},null,"","",null,null,null,null,null,null,null,null,null,null,null,null,null,null,null,null,null,null,null,null,null,null,null,null,null,null,null,null,null,null,null,null,null,null,4.08,27]
[9,4.08,36,null,null,7.75,57,null,{"$f":"IF($G161>MAX($G$3:$G160),F161,\"\")","v":""},{"$f":"IF($G161>MAX($G$3:$G160),G161,\"\")","v":""},null,"","",null,null,null,null,null,null,null,null,null,null,null,null,null,null,null,null,null,null,null,null,null,null,null,null,null,null,null,null,null,null,null,null,null,null,4.08,36]
[10,5.44,36,null,null,7.79,36.5,null,{"$f":"IF($G162>MAX($G$3:$G161),F162,\"\")","v":""},{"$f":"IF($G162>MAX($G$3:$G161),G162,\"\")","v":""},null,"","",null,null,null,null,null,null,null,null,null,null,null,null,null,null,null,null,null,null,null,null,null,null,null,null,null,null,null,null,null,null,null,null,null,null,5.44,36]
[11,5.44,45,null,null,7.79,37.5,null,{"$f":"IF($G163>MAX($G$3:$G162),F163,\"\")","v":""},{"$f":"IF($G163>MAX($G$3:$G162),G163,\"\")","v":""},null,"","",null,null,null,null,null,null,null,null,null,null,null,null,null,null,null,null,null,null,null,null,null,null,null,null,null,null,null,null,null,null,null,null,null,null,5.44,45]
[12,6.8000000000000007,45,null,null,8,60,null,{"$f":"IF($G164>MAX($G$3:$G163),F164,\"\")","v":""},{"$f":"IF($G164>MAX($G$3:$G163),G164,\"\")","v":""},null,"","",null,null,null,null,null,null,null,null,null,null,null,null,null,null,null,null,null,null,null,null,null,null,null,null,null,null,null,null,null,null,null,null,null,null,6.8000000000000007,45]
[13,6.8000000000000007,54,null,null,8,72,null,{"$f":"IF($G165>MAX($G$3:$G164),F165,\"\")","v":8},{"$f":"IF($G165>MAX($G$3:$G164),G165,\"\")","v":72},null,"","",null,null,null,null,null,null,null,null,null,null,null,null,null,null,null,null,null,null,null,null,null,null,null,null,null,null,null,null,null,null,null,null,null,null,6.8000000000000007,54]
[14,14.269999999999998,54,null,null,8.4599999999999991,60,null,{"$f":"IF($G166>MAX($G$3:$G165),F166,\"\")","v":""},{"$f":"IF($G166>MAX($G$3:$G165),G166,\"\")","v":""},null,"","",null,null,null,null,null,null,null,null,null,null,null,null,null,null,null,null,null,null,null,null,null,null,null,null,null,null,null,null,null,null,null,null,null,null,14.269999999999998,54]
[15,14.269999999999998,63,null,null,8.4599999999999991,70,null,{"$f":"IF($G167>MAX($G$3:$G166),F167,\"\")","v":""},{"$f":"IF($G167>MAX($G$3:$G166),G167,\"\")","v":""},null,"","",null,null,null,null,null,null,null,null,null,null,null,null,null,null,null,null,null,null,null,null,null,null,null,null,null,null,null,null,null,null,null,null,null,null,14.269999999999998,63]
[16,15.629999999999997,63,null,null,8.8000000000000007,42,null,{"$f":"IF($G168>MAX($G$3:$G167),F168,\"\")","v":""},{"$f":"IF($G168>MAX($G$3:$G167),G168,\"\")","v":""},null,"","",null,null,null,null,null,null,null,null,null,null,null,null,null,null,null,null,null,null,null,null,null,null,null,null,null,null,null,null,null,null,null,null,null,null,15.629999999999997,63]
[17,15.629999999999997,72,null,null,8.8000000000000007,44,null,{"$f":"IF($G169>MAX($G$3:$G168),F169,\"\")","v":""},{"$f":"IF($G169>MAX($G$3:$G168),G169,\"\")","v":""},null,"","",null,null,null,null,null,null,null,null,null,null,null,null,null,null,null,null,null,null,null,null,null,null,null,null,null,null,null,null,null,null,null,null,null,null,15.629999999999997,72]
[18,16.989999999999998,72,null,null,9,44,null,{"$f":"IF($G170>MAX($G$3:$G169),F170,\"\")","v":""},{"$f":"IF($G170>MAX($G$3:$G169),G170,\"\")","v":""},null,"","",null,null,null,null,null,null,null,null,null,null,null,null,null,null,null,null,null,null,null,null,null,null,null,null,null,null,null,null,null,null,null,null,null,null,16.989999999999998,72]
[19,16.989999999999998,80,null,null,9,49,null,{"$f":"IF($G171>MAX($G$3:$G170),F171,\"\")","v":""},{"$f":"IF($G171>MAX($G$3:$G170),G171,\"\")","v":""},null,"","",null,null,null,null,null,null,null,null,null,null,null,null,null,null,null,null,null,null,null,null,null,null,null,null,null,null,null,null,null,null,null,null,null,null,16.989999999999998,80]
[20,20.68,80,null,null,9.120000000000001,45,null,{"$f":"IF($G172>MAX($G$3:$G171),F172,\"\")","v":""},{"$f":"IF($G172>MAX($G$3:$G171),G172,\"\")","v":""},null,"","",null,null,null,null,null,null,null,null,null,null,null,null,null,null,null,null,null,null,null,null,null,null,null,null,null,null,null,null,null,null,null,null,null,null,20.68,80]
[21,20.68,86,null,null,9.120000000000001,50,null,{"$f":"IF($G173>MAX($G$3:$G172),F173,\"\")","v":""},{"$f":"IF($G173>MAX($G$3:$G172),G173,\"\")","v":""},null,"","",null,null,null,null,null,null,null,null,null,null,null,null,null,null,null,null,null,null,null,null,null,null,null,null,null,null,null,null,null,null,null,null,null,null,20.68,86]
[22,20.689999999999998,86,null,null,9.15,37.5,null,{"$f":"IF($G174>MAX($G$3:$G173),F174,\"\")","v":""},{"$f":"IF($G174>MAX($G$3:$G173),G174,\"\")","v":""},null,"","",null,null,null,null,null,null,null,null,null,null,null,null,null,null,null,null,null,null,null,null,null,null,null,null,null,null,null,null,null,null,null,null,null,null,20.689999999999998,86]
[23,20.689999999999998,88,null,null,9.15,44.5,null,{"$f":"IF($G175>MAX($G$3:$G174),F175,\"\")","v":""},{"$f":"IF($G175>MAX($G$3:$G174),G175,\"\")","v":""},null,"","",null,null,null,null,null,null,null,null,null,null,null,null,null,null,null,null,null,null,null,null,null,null,null,null,null,null,null,null,null,null,null,null,null,null,20.689999999999998,88]
[24,22.04,88,null,null,9.3000000000000007,62.16,null,{"$f":"IF($G176>MAX($G$3:$G175),F176,\"\")","v":""},{"$f":"IF($G176>MAX($G$3:$G175),G176,\"\")","v":""},null,"","",null,null,null,null,null,null,null,null,null,null,null,null,null,null,null,null,null,null,null,null,null,null,null,null,null,null,null,null,null,null,null,null,null,null,22.04,88]
[25,22.04,95,null,null,9.3000000000000007,69.709999999999994,null,{"$f":"IF($G177>MAX($G$3:$G176),F177,\"\")","v":""},{"$f":"IF($G177>MAX($G$3:$G176),G177,\"\")","v":""},null,"","",null,null,null,null,null,null,null,null,null,null,null,null,null,null,null,null,null,null,null,null,null,null,null,null,null,null,null,null,null,null,null,null,null,null,22.04,95]
[26,24.589999999999996,95,null,null,9.3000000000000007,57,null,{"$f":"IF($G178>MAX($G$3:$G177),F178,\"\")","v":""},{"$f":"IF($G178>MAX($G$3:$G177),G178,\"\")","v":""},null,"","",null,null,null,null,null,null,null,null,null,null,null,null,null,null,null,null,null,null,null,null,null,null,null,null,null,null,null,null,null,null,null,null,null,null,24.589999999999996,95]
[27,24.589999999999996,100,null,null,9.3000000000000007,66.5,null,{"$f":"IF($G179>MAX($G$3:$G178),F179,\"\")","v":""},{"$f":"IF($G179>MAX($G$3:$G178),G179,\"\")","v":""},null,"","",null,null,null,null,null,null,null,null,null,null,null,null,null,null,null,null,null,null,null,null,null,null,null,null,null,null,null,null,null,null,null,null,null,null,24.589999999999996,100]
[28,null,null,null,null,9.57,52,null,{"$f":"IF($G180>MAX($G$3:$G179),F180,\"\")","v":""},{"$f":"IF($G180>MAX($G$3:$G179),G180,\"\")","v":""},null,"",""]
[0,null,null,null,null,9.57,52.9,null,{"$f":"IF($G181>MAX($G$3:$G180),F181,\"\")","v":""},{"$f":"IF($G181>MAX($G$3:$G180),G181,\"\")","v":""},null,"",""]
[30,null,null,null,null,9.8699999999999992,70,null,{"$f":"IF($G182>MAX($G$3:$G181),F182,\"\")","v":""},{"$f":"IF($G182>MAX($G$3:$G181),G182,\"\")","v":""},null,"",""]
[1,0,10,null,null,9.8699999999999992,80,null,{"$f":"IF($G183>MAX($G$3:$G182),F183,\"\")","v":9.8699999999999992},{"$f":"IF($G183>MAX($G$3:$G182),G183,\"\")","v":80},null,"","",null,null,null,null,null,null,null,null,null,null,null,null,null,null,null,null,null,null,null,null,null,null,null,null,null,null,null,null,null,null,null,null,null,null,0,10]
[2,1.41,10,null,null,9.94,47.5,null,{"$f":"IF($G184>MAX($G$3:$G183),F184,\"\")","v":""},{"$f":"IF($G184>MAX($G$3:$G183),G184,\"\")","v":""},null,"","",null,null,null,null,null,null,null,null,null,null,null,null,null,null,null,null,null,null,null,null,null,null,null,null,null,null,null,null,null,null,null,null,null,null,1.41,10]
[3,1.41,20,null,null,9.94,57,null,{"$f":"IF($G185>MAX($G$3:$G184),F185,\"\")","v":""},{"$f":"IF($G185>MAX($G$3:$G184),G185,\"\")","v":""},null,"","",null,null,null,null,null,null,null,null,null,null,null,null,null,null,null,null,null,null,null,null,null,null,null,null,null,null,null,null,null,null,null,null,null,null,1.41,20]
[4,2.82,20,null,null,10.3,49,null,{"$f":"IF($G186>MAX($G$3:$G185),F186,\"\")","v":""},{"$f":"IF($G186>MAX($G$3:$G185),G186,\"\")","v":""},null,"","",null,null,null,null,null,null,null,null,null,null,null,null,null,null,null,null,null,null,null,null,null,null,null,null,null,null,null,null,null,null,null,null,null,null,2.82,20]
[5,2.82,30,null,null,10.3,51,null,{"$f":"IF($G187>MAX($G$3:$G186),F187,\"\")","v":""},{"$f":"IF($G187>MAX($G$3:$G186),G187,\"\")","v":""},null,"","",null,null,null,null,null,null,null,null,null,null,null,null,null,null,null,null,null,null,null,null,null,null,null,null,null,null,null,null,null,null,null,null,null,null,2.82,30]
[6,4.2299999999999995,30,null,null,10.5,51,null,{"$f":"IF($G188>MAX($G$3:$G187),F188,\"\")","v":""},{"$f":"IF($G188>MAX($G$3:$G187),G188,\"\")","v":""},null,"","",null,null,null,null,null,null,null,null,null,null,null,null,null,null,null,null,null,null,null,null,null,null,null,null,null,null,null,null,null,null,null,null,null,null,4.2299999999999995,30]
[7,4.2299999999999995,40,null,null,10.5,56,null,{"$f":"IF($G189>MAX($G$3:$G188),F189,\"\")","v":""},{"$f":"IF($G189>MAX($G$3:$G188),G189,\"\")","v":""},null,"","",null,null,null,null,null,null,null,null,null,null,null,null,null,null,null,null,null,null,null,null,null,null,null,null,null,null,null,null,null,null,null,null,null,null,4.2299999999999995,40]
[8,5.64,40,null,null,10.750000000000002,69.709999999999994,null,{"$f":"IF($G190>MAX($G$3:$G189),F190,\"\")","v":""},{"$f":"IF($G190>MAX($G$3:$G189),G190,\"\")","v":""},null,"","",null,null,null,null,null,null,null,null,null,null,null,null,null,null,null,null,null,null,null,null,null,null,null,null,null,null,null,null,null,null,null,null,null,null,5.64,40]
[9,5.64,50,null,null,10.750000000000002,77.260000000000005,null,{"$f":"IF($G191>MAX($G$3:$G190),F191,\"\")","v":""},{"$f":"IF($G191>MAX($G$3:$G190),G191,\"\")","v":""},null,"","",null,null,null,null,null,null,null,null,null,null,null,null,null,null,null,null,null,null,null,null,null,null,null,null,null,null,null,null,null,null,null,null,null,null,5.64,50]
[10,7.05,50,null,null,10.799999999999999,72,null,{"$f":"IF($G192>MAX($G$3:$G191),F192,\"\")","v":""},{"$f":"IF($G192>MAX($G$3:$G191),G192,\"\")","v":""},null,"","",null,null,null,null,null,null,null,null,null,null,null,null,null,null,null,null,null,null,null,null,null,null,null,null,null,null,null,null,null,null,null,null,null,null,7.05,50]
[11,7.05,60,null,null,10.799999999999999,84,null,{"$f":"IF($G193>MAX($G$3:$G192),F193,\"\")","v":10.799999999999999},{"$f":"IF($G193>MAX($G$3:$G192),G193,\"\")","v":84},null,"","",null,null,null,null,null,null,null,null,null,null,null,null,null,null,null,null,null,null,null,null,null,null,null,null,null,null,null,null,null,null,null,null,null,null,7.05,60]
[12,8.4599999999999991,60,null,null,10.840000000000002,52.9,null,{"$f":"IF($G194>MAX($G$3:$G193),F194,\"\")","v":""},{"$f":"IF($G194>MAX($G$3:$G193),G194,\"\")","v":""},null,"","",null,null,null,null,null,null,null,null,null,null,null,null,null,null,null,null,null,null,null,null,null,null,null,null,null,null,null,null,null,null,null,null,null,null,8.4599999999999991,60]
[13,8.4599999999999991,70,null,null,10.840000000000002,62.849999999999994,null,{"$f":"IF($G195>MAX($G$3:$G194),F195,\"\")","v":""},{"$f":"IF($G195>MAX($G$3:$G194),G195,\"\")","v":""},null,"","",null,null,null,null,null,null,null,null,null,null,null,null,null,null,null,null,null,null,null,null,null,null,null,null,null,null,null,null,null,null,null,null,null,null,8.4599999999999991,70]
[14,9.8699999999999992,70,null,null,10.850000000000001,66.5,null,{"$f":"IF($G196>MAX($G$3:$G195),F196,\"\")","v":""},{"$f":"IF($G196>MAX($G$3:$G195),G196,\"\")","v":""},null,"","",null,null,null,null,null,null,null,null,null,null,null,null,null,null,null,null,null,null,null,null,null,null,null,null,null,null,null,null,null,null,null,null,null,null,9.8699999999999992,70]
[15,9.8699999999999992,80,null,null,10.850000000000001,76,null,{"$f":"IF($G197>MAX($G$3:$G196),F197,\"\")","v":""},{"$f":"IF($G197>MAX($G$3:$G196),G197,\"\")","v":""},null,"","",null,null,null,null,null,null,null,null,null,null,null,null,null,null,null,null,null,null,null,null,null,null,null,null,null,null,null,null,null,null,null,null,null,null,9.8699999999999992,80]
[16,14.870000000000001,80,null,null,10.88,62.849999999999994,null,{"$f":"IF($G198>MAX($G$3:$G197),F198,\"\")","v":""},{"$f":"IF($G198>MAX($G$3:$G197),G198,\"\")","v":""},null,"","",null,null,null,null,null,null,null,null,null,null,null,null,null,null,null,null,null,null,null,null,null,null,null,null,null,null,null,null,null,null,null,null,null,null,14.870000000000001,80]
[17,14.870000000000001,90,null,null,10.88,63.3,null,{"$f":"IF($G199>MAX($G$3:$G198),F199,\"\")","v":""},{"$f":"IF($G199>MAX($G$3:$G198),G199,\"\")","v":""},null,"","",null,null,null,null,null,null,null,null,null,null,null,null,null,null,null,null,null,null,null,null,null,null,null,null,null,null,null,null,null,null,null,null,null,null,14.870000000000001,90]
[18,16.28,90,null,null,11.2,46,null,{"$f":"IF($G200>MAX($G$3:$G199),F200,\"\")","v":""},{"$f":"IF($G200>MAX($G$3:$G199),G200,\"\")","v":""},null,"","",null,null,null,null,null,null,null,null,null,null,null,null,null,null,null,null,null,null,null,null,null,null,null,null,null,null,null,null,null,null,null,null,null,null,16.28,90]
[19,16.28,100,null,null,11.2,57.5,null,{"$f":"IF($G201>MAX($G$3:$G200),F201,\"\")","v":""},{"$f":"IF($G201>MAX($G$3:$G200),G201,\"\")","v":""},null,"","",null,null,null,null,null,null,null,null,null,null,null,null,null,null,null,null,null,null,null,null,null,null,null,null,null,null,null,null,null,null,null,null,null,null,16.28,100]
[20,17.73,100,null,null,11.34,57,null,{"$f":"IF($G202>MAX($G$3:$G201),F202,\"\")","v":""},{"$f":"IF($G202>MAX($G$3:$G201),G202,\"\")","v":""},null,"","",null,null,null,null,null,null,null,null,null,null,null,null,null,null,null,null,null,null,null,null,null,null,null,null,null,null,null,null,null,null,null,null,null,null,17.73,100]
[21,17.73,107.5,null,null,11.34,66.5,null,{"$f":"IF($G203>MAX($G$3:$G202),F203,\"\")","v":""},{"$f":"IF($G203>MAX($G$3:$G202),G203,\"\")","v":""},null,"","",null,null,null,null,null,null,null,null,null,null,null,null,null,null,null,null,null,null,null,null,null,null,null,null,null,null,null,null,null,null,null,null,null,null,17.73,107.5]
[22,20.330000000000002,107.5,null,null,11.669999999999998,50,null,{"$f":"IF($G204>MAX($G$3:$G203),F204,\"\")","v":""},{"$f":"IF($G204>MAX($G$3:$G203),G204,\"\")","v":""},null,"","",null,null,null,null,null,null,null,null,null,null,null,null,null,null,null,null,null,null,null,null,null,null,null,null,null,null,null,null,null,null,null,null,null,null,20.330000000000002,107.5]
[23,20.330000000000002,115,null,null,11.669999999999998,55,null,{"$f":"IF($G205>MAX($G$3:$G204),F205,\"\")","v":""},{"$f":"IF($G205>MAX($G$3:$G204),G205,\"\")","v":""},null,"","",null,null,null,null,null,null,null,null,null,null,null,null,null,null,null,null,null,null,null,null,null,null,null,null,null,null,null,null,null,null,null,null,null,null,20.330000000000002,115]
[24,null,null,null,null,11.8,56,null,{"$f":"IF($G206>MAX($G$3:$G205),F206,\"\")","v":""},{"$f":"IF($G206>MAX($G$3:$G205),G206,\"\")","v":""},null,"",""]
[25,null,null,null,null,11.8,58,null,{"$f":"IF($G207>MAX($G$3:$G206),F207,\"\")","v":""},{"$f":"IF($G207>MAX($G$3:$G206),G207,\"\")","v":""},null,"",""]
[26,null,null,null,null,12,58,null,{"$f":"IF($G208>MAX($G$3:$G207),F208,\"\")","v":""},{"$f":"IF($G208>MAX($G$3:$G207),G208,\"\")","v":""},null,"",""]
[27,null,null,null,null,12,63,null,{"$f":"IF($G209>MAX($G$3:$G208),F209,\"\")","v":""},{"$f":"IF($G209>MAX($G$3:$G208),G209,\"\")","v":""},null,"",""]
[28,null,null,null,null,12.190000000000001,63.3,null,{"$f":"IF($G210>MAX($G$3:$G209),F210,\"\")","v":""},{"$f":"IF($G210>MAX($G$3:$G209),G210,\"\")","v":""},null,"",""]
[0,null,null,null,null,12.190000000000001,73.7,null,{"$f":"IF($G211>MAX($G$3:$G210),F211,\"\")","v":""},{"$f":"IF($G211>MAX($G$3:$G210),G211,\"\")","v":""},null,"",""]
[30,null,null,null,null,12.399999999999999,84,null,{"$f":"IF($G212>MAX($G$3:$G211),F212,\"\")","v":""},{"$f":"IF($G212>MAX($G$3:$G211),G212,\"\")","v":""},null,"",""]
[1,0,8,null,null,12.399999999999999,96,null,{"$f":"IF($G213>MAX($G$3:$G212),F213,\"\")","v":12.399999999999999},{"$f":"IF($G213>MAX($G$3:$G212),G213,\"\")","v":96},null,"","",null,null,null,null,null,null,null,null,null,null,null,null,null,null,null,null,null,null,null,null,null,null,null,null,null,null,null,null,null,null,null,null,null,null,0,8]
[2,1.36,8,null,null,12.800000000000002,76,null,{"$f":"IF($G214>MAX($G$3:$G213),F214,\"\")","v":""},{"$f":"IF($G214>MAX($G$3:$G213),G214,\"\")","v":""},null,"","",null,null,null,null,null,null,null,null,null,null,null,null,null,null,null,null,null,null,null,null,null,null,null,null,null,null,null,null,null,null,null,null,null,null,1.36,8]
[3,1.36,15.5,null,null,12.800000000000002,76.5,null,{"$f":"IF($G215>MAX($G$3:$G214),F215,\"\")","v":""},{"$f":"IF($G215>MAX($G$3:$G214),G215,\"\")","v":""},null,"","",null,null,null,null,null,null,null,null,null,null,null,null,null,null,null,null,null,null,null,null,null,null,null,null,null,null,null,null,null,null,null,null,null,null,1.36,15.5]
[4,2.72,15.5,null,null,13.139999999999999,57.5,null,{"$f":"IF($G216>MAX($G$3:$G215),F216,\"\")","v":""},{"$f":"IF($G216>MAX($G$3:$G215),G216,\"\")","v":""},null,"","",null,null,null,null,null,null,null,null,null,null,null,null,null,null,null,null,null,null,null,null,null,null,null,null,null,null,null,null,null,null,null,null,null,null,2.72,15.5]
[5,2.72,22.740000000000002,null,null,13.139999999999999,69,null,{"$f":"IF($G217>MAX($G$3:$G216),F217,\"\")","v":""},{"$f":"IF($G217>MAX($G$3:$G216),G217,\"\")","v":""},null,"","",null,null,null,null,null,null,null,null,null,null,null,null,null,null,null,null,null,null,null,null,null,null,null,null,null,null,null,null,null,null,null,null,null,null,2.72,22.740000000000002]
[6,4.08,22.740000000000002,null,null,13.239999999999998,44.5,null,{"$f":"IF($G218>MAX($G$3:$G217),F218,\"\")","v":""},{"$f":"IF($G218>MAX($G$3:$G217),G218,\"\")","v":""},null,"","",null,null,null,null,null,null,null,null,null,null,null,null,null,null,null,null,null,null,null,null,null,null,null,null,null,null,null,null,null,null,null,null,null,null,4.08,22.740000000000002]
[7,4.08,30.240000000000002,null,null,13.239999999999998,44.74,null,{"$f":"IF($G219>MAX($G$3:$G218),F219,\"\")","v":""},{"$f":"IF($G219>MAX($G$3:$G218),G219,\"\")","v":""},null,"","",null,null,null,null,null,null,null,null,null,null,null,null,null,null,null,null,null,null,null,null,null,null,null,null,null,null,null,null,null,null,null,null,null,null,4.08,30.240000000000002]
[8,6.5200000000000005,30.240000000000002,null,null,13.3,63,null,{"$f":"IF($G220>MAX($G$3:$G219),F220,\"\")","v":""},{"$f":"IF($G220>MAX($G$3:$G219),G220,\"\")","v":""},null,"","",null,null,null,null,null,null,null,null,null,null,null,null,null,null,null,null,null,null,null,null,null,null,null,null,null,null,null,null,null,null,null,null,null,null,6.5200000000000005,30.240000000000002]
[9,6.5200000000000005,36.5,null,null,13.3,65,null,{"$f":"IF($G221>MAX($G$3:$G220),F221,\"\")","v":""},{"$f":"IF($G221>MAX($G$3:$G220),G221,\"\")","v":""},null,"","",null,null,null,null,null,null,null,null,null,null,null,null,null,null,null,null,null,null,null,null,null,null,null,null,null,null,null,null,null,null,null,null,null,null,6.5200000000000005,36.5]
[10,7.79,36.5,null,null,13.440000000000001,48,null,{"$f":"IF($G222>MAX($G$3:$G221),F222,\"\")","v":""},{"$f":"IF($G222>MAX($G$3:$G221),G222,\"\")","v":""},null,"","",null,null,null,null,null,null,null,null,null,null,null,null,null,null,null,null,null,null,null,null,null,null,null,null,null,null,null,null,null,null,null,null,null,null,7.79,36.5]
[11,7.79,37.5,null,null,13.440000000000001,55.800000000000004,null,{"$f":"IF($G223>MAX($G$3:$G222),F223,\"\")","v":""},{"$f":"IF($G223>MAX($G$3:$G222),G223,\"\")","v":""},null,"","",null,null,null,null,null,null,null,null,null,null,null,null,null,null,null,null,null,null,null,null,null,null,null,null,null,null,null,null,null,null,null,null,null,null,7.79,37.5]
[12,9.15,37.5,null,null,13.5,65,null,{"$f":"IF($G224>MAX($G$3:$G223),F224,\"\")","v":""},{"$f":"IF($G224>MAX($G$3:$G223),G224,\"\")","v":""},null,"","",null,null,null,null,null,null,null,null,null,null,null,null,null,null,null,null,null,null,null,null,null,null,null,null,null,null,null,null,null,null,null,null,null,null,9.15,37.5]
[13,9.15,44.5,null,null,13.620000000000001,77.260000000000005,null,{"$f":"IF($G225>MAX($G$3:$G224),F225,\"\")","v":""},{"$f":"IF($G225>MAX($G$3:$G224),G225,\"\")","v":""},null,"","",null,null,null,null,null,null,null,null,null,null,null,null,null,null,null,null,null,null,null,null,null,null,null,null,null,null,null,null,null,null,null,null,null,null,9.15,44.5]
[14,13.239999999999998,44.5,null,null,13.620000000000001,84.81,null,{"$f":"IF($G226>MAX($G$3:$G225),F226,\"\")","v":""},{"$f":"IF($G226>MAX($G$3:$G225),G226,\"\")","v":""},null,"","",null,null,null,null,null,null,null,null,null,null,null,null,null,null,null,null,null,null,null,null,null,null,null,null,null,null,null,null,null,null,null,null,null,null,13.239999999999998,44.5]
[15,13.239999999999998,44.74,null,null,13.889999999999999,28,null,{"$f":"IF($G227>MAX($G$3:$G226),F227,\"\")","v":""},{"$f":"IF($G227>MAX($G$3:$G226),G227,\"\")","v":""},null,"","",null,null,null,null,null,null,null,null,null,null,null,null,null,null,null,null,null,null,null,null,null,null,null,null,null,null,null,null,null,null,null,null,null,null,13.239999999999998,44.74]
[16,15.479999999999999,44.74,null,null,13.889999999999999,36,null,{"$f":"IF($G228>MAX($G$3:$G227),F228,\"\")","v":""},{"$f":"IF($G228>MAX($G$3:$G227),G228,\"\")","v":""},null,"","",null,null,null,null,null,null,null,null,null,null,null,null,null,null,null,null,null,null,null,null,null,null,null,null,null,null,null,null,null,null,null,null,null,null,15.479999999999999,44.74]
[17,15.479999999999999,51.74,null,null,13.919999999999998,36,null,{"$f":"IF($G229>MAX($G$3:$G228),F229,\"\")","v":""},{"$f":"IF($G229>MAX($G$3:$G228),G229,\"\")","v":""},null,"","",null,null,null,null,null,null,null,null,null,null,null,null,null,null,null,null,null,null,null,null,null,null,null,null,null,null,null,null,null,null,null,null,null,null,15.479999999999999,51.74]
[18,16.939999999999998,51.74,null,null,13.919999999999998,37,null,{"$f":"IF($G230>MAX($G$3:$G229),F230,\"\")","v":""},{"$f":"IF($G230>MAX($G$3:$G229),G230,\"\")","v":""},null,"","",null,null,null,null,null,null,null,null,null,null,null,null,null,null,null,null,null,null,null,null,null,null,null,null,null,null,null,null,null,null,null,null,null,null,16.939999999999998,51.74]
[19,16.939999999999998,59.24,null,null,14.170000000000002,76.5,null,{"$f":"IF($G231>MAX($G$3:$G230),F231,\"\")","v":""},{"$f":"IF($G231>MAX($G$3:$G230),G231,\"\")","v":""},null,"","",null,null,null,null,null,null,null,null,null,null,null,null,null,null,null,null,null,null,null,null,null,null,null,null,null,null,null,null,null,null,null,null,null,null,16.939999999999998,59.24]
[20,18.309999999999999,59.24,null,null,14.170000000000002,84.5,null,{"$f":"IF($G232>MAX($G$3:$G231),F232,\"\")","v":""},{"$f":"IF($G232>MAX($G$3:$G231),G232,\"\")","v":""},null,"","",null,null,null,null,null,null,null,null,null,null,null,null,null,null,null,null,null,null,null,null,null,null,null,null,null,null,null,null,null,null,null,null,null,null,18.309999999999999,59.24]
[21,18.309999999999999,60,null,null,14.269999999999998,55,null,{"$f":"IF($G233>MAX($G$3:$G232),F233,\"\")","v":""},{"$f":"IF($G233>MAX($G$3:$G232),G233,\"\")","v":""},null,"","",null,null,null,null,null,null,null,null,null,null,null,null,null,null,null,null,null,null,null,null,null,null,null,null,null,null,null,null,null,null,null,null,null,null,18.309999999999999,60]
[22,18.399999999999999,60,null,null,14.269999999999998,63,null,{"$f":"IF($G234>MAX($G$3:$G233),F234,\"\")","v":""},{"$f":"IF($G234>MAX($G$3:$G233),G234,\"\")","v":""},null,"","",null,null,null,null,null,null,null,null,null,null,null,null,null,null,null,null,null,null,null,null,null,null,null,null,null,null,null,null,null,null,null,null,null,null,18.399999999999999,60]
[23,18.399999999999999,66.739999999999995,null,null,14.269999999999998,54,null,{"$f":"IF($G235>MAX($G$3:$G234),F235,\"\")","v":""},{"$f":"IF($G235>MAX($G$3:$G234),G235,\"\")","v":""},null,"","",null,null,null,null,null,null,null,null,null,null,null,null,null,null,null,null,null,null,null,null,null,null,null,null,null,null,null,null,null,null,null,null,null,null,18.399999999999999,66.739999999999995]
[24,19.669999999999998,66.739999999999995,null,null,14.269999999999998,63,null,{"$f":"IF($G236>MAX($G$3:$G235),F236,\"\")","v":""},{"$f":"IF($G236>MAX($G$3:$G235),G236,\"\")","v":""},null,"","",null,null,null,null,null,null,null,null,null,null,null,null,null,null,null,null,null,null,null,null,null,null,null,null,null,null,null,null,null,null,null,null,null,null,19.669999999999998,66.739999999999995]
[25,19.669999999999998,67,null,null,14.350000000000003,84.5,null,{"$f":"IF($G237>MAX($G$3:$G236),F237,\"\")","v":""},{"$f":"IF($G237>MAX($G$3:$G236),G237,\"\")","v":""},null,"","",null,null,null,null,null,null,null,null,null,null,null,null,null,null,null,null,null,null,null,null,null,null,null,null,null,null,null,null,null,null,null,null,null,null,19.669999999999998,67]
[26,21.029999999999998,67,null,null,14.350000000000003,86,null,{"$f":"IF($G238>MAX($G$3:$G237),F238,\"\")","v":""},{"$f":"IF($G238>MAX($G$3:$G237),G238,\"\")","v":""},null,"","",null,null,null,null,null,null,null,null,null,null,null,null,null,null,null,null,null,null,null,null,null,null,null,null,null,null,null,null,null,null,null,null,null,null,21.029999999999998,67]
[27,21.029999999999998,74.739999999999995,null,null,14.38,55.800000000000004,null,{"$f":"IF($G239>MAX($G$3:$G238),F239,\"\")","v":""},{"$f":"IF($G239>MAX($G$3:$G238),G239,\"\")","v":""},null,"","",null,null,null,null,null,null,null,null,null,null,null,null,null,null,null,null,null,null,null,null,null,null,null,null,null,null,null,null,null,null,null,null,null,null,21.029999999999998,74.739999999999995]
[28,null,null,null,null,14.38,57.500000000000007,null,{"$f":"IF($G240>MAX($G$3:$G239),F240,\"\")","v":""},{"$f":"IF($G240>MAX($G$3:$G239),G240,\"\")","v":""},null,"",""]
[0,null,null,null,null,14.870000000000001,80,null,{"$f":"IF($G241>MAX($G$3:$G240),F241,\"\")","v":""},{"$f":"IF($G241>MAX($G$3:$G240),G241,\"\")","v":""},null,"",""]
[30,null,null,null,null,14.870000000000001,90,null,{"$f":"IF($G242>MAX($G$3:$G241),F242,\"\")","v":""},{"$f":"IF($G242>MAX($G$3:$G241),G242,\"\")","v":""},null,"",""]
[1,0,8,null,null,14.939999999999998,66.5,null,{"$f":"IF($G243>MAX($G$3:$G242),F243,\"\")","v":""},{"$f":"IF($G243>MAX($G$3:$G242),G243,\"\")","v":""},null,"","",null,null,null,null,null,null,null,null,null,null,null,null,null,null,null,null,null,null,null,null,null,null,null,null,null,null,null,null,null,null,null,null,null,null,0,8]
[2,1.36,8,null,null,14.939999999999998,73.150000000000006,null,{"$f":"IF($G244>MAX($G$3:$G243),F244,\"\")","v":""},{"$f":"IF($G244>MAX($G$3:$G243),G244,\"\")","v":""},null,"","",null,null,null,null,null,null,null,null,null,null,null,null,null,null,null,null,null,null,null,null,null,null,null,null,null,null,null,null,null,null,null,null,null,null,1.36,8]
[3,1.36,16,null,null,15.249999999999998,37,null,{"$f":"IF($G245>MAX($G$3:$G244),F245,\"\")","v":""},{"$f":"IF($G245>MAX($G$3:$G244),G245,\"\")","v":""},null,"","",null,null,null,null,null,null,null,null,null,null,null,null,null,null,null,null,null,null,null,null,null,null,null,null,null,null,null,null,null,null,null,null,null,null,1.36,16]
[4,2.72,16,null,null,15.249999999999998,45,null,{"$f":"IF($G246>MAX($G$3:$G245),F246,\"\")","v":""},{"$f":"IF($G246>MAX($G$3:$G245),G246,\"\")","v":""},null,"","",null,null,null,null,null,null,null,null,null,null,null,null,null,null,null,null,null,null,null,null,null,null,null,null,null,null,null,null,null,null,null,null,null,null,2.72,16]
[5,2.72,24,null,null,15.250000000000002,57.500000000000007,null,{"$f":"IF($G247>MAX($G$3:$G246),F247,\"\")","v":""},{"$f":"IF($G247>MAX($G$3:$G246),G247,\"\")","v":""},null,"","",null,null,null,null,null,null,null,null,null,null,null,null,null,null,null,null,null,null,null,null,null,null,null,null,null,null,null,null,null,null,null,null,null,null,2.72,24]
[6,4.08,24,null,null,15.250000000000002,65.400000000000006,null,{"$f":"IF($G248>MAX($G$3:$G247),F248,\"\")","v":""},{"$f":"IF($G248>MAX($G$3:$G247),G248,\"\")","v":""},null,"","",null,null,null,null,null,null,null,null,null,null,null,null,null,null,null,null,null,null,null,null,null,null,null,null,null,null,null,null,null,null,null,null,null,null,4.08,24]
[7,4.08,32,null,null,15.270000000000001,84.81,null,{"$f":"IF($G249>MAX($G$3:$G248),F249,\"\")","v":""},{"$f":"IF($G249>MAX($G$3:$G248),G249,\"\")","v":""},null,"","",null,null,null,null,null,null,null,null,null,null,null,null,null,null,null,null,null,null,null,null,null,null,null,null,null,null,null,null,null,null,null,null,null,null,4.08,32]
[8,5.44,32,null,null,15.270000000000001,92.36,null,{"$f":"IF($G250>MAX($G$3:$G249),F250,\"\")","v":""},{"$f":"IF($G250>MAX($G$3:$G249),G250,\"\")","v":""},null,"","",null,null,null,null,null,null,null,null,null,null,null,null,null,null,null,null,null,null,null,null,null,null,null,null,null,null,null,null,null,null,null,null,null,null,5.44,32]
[9,5.44,40,null,null,15.479999999999999,44.74,null,{"$f":"IF($G251>MAX($G$3:$G250),F251,\"\")","v":""},{"$f":"IF($G251>MAX($G$3:$G250),G251,\"\")","v":""},null,"","",null,null,null,null,null,null,null,null,null,null,null,null,null,null,null,null,null,null,null,null,null,null,null,null,null,null,null,null,null,null,null,null,null,null,5.44,40]
[10,33.44,40,null,null,15.479999999999999,51.74,null,{"$f":"IF($G252>MAX($G$3:$G251),F252,\"\")","v":""},{"$f":"IF($G252>MAX($G$3:$G251),G252,\"\")","v":""},null,"","",null,null,null,null,null,null,null,null,null,null,null,null,null,null,null,null,null,null,null,null,null,null,null,null,null,null,null,null,null,null,null,null,null,null,33.44,40]
[11,33.44,48,null,null,15.629999999999997,63,null,{"$f":"IF($G253>MAX($G$3:$G252),F253,\"\")","v":""},{"$f":"IF($G253>MAX($G$3:$G252),G253,\"\")","v":""},null,"","",null,null,null,null,null,null,null,null,null,null,null,null,null,null,null,null,null,null,null,null,null,null,null,null,null,null,null,null,null,null,null,null,null,null,33.44,48]
[12,34.799999999999997,48,null,null,15.629999999999997,72,null,{"$f":"IF($G254>MAX($G$3:$G253),F254,\"\")","v":""},{"$f":"IF($G254>MAX($G$3:$G253),G254,\"\")","v":""},null,"","",null,null,null,null,null,null,null,null,null,null,null,null,null,null,null,null,null,null,null,null,null,null,null,null,null,null,null,null,null,null,null,null,null,null,34.799999999999997,48]
[13,34.799999999999997,56,null,null,15.640000000000002,73.7,null,{"$f":"IF($G255>MAX($G$3:$G254),F255,\"\")","v":""},{"$f":"IF($G255>MAX($G$3:$G254),G255,\"\")","v":""},null,"","",null,null,null,null,null,null,null,null,null,null,null,null,null,null,null,null,null,null,null,null,null,null,null,null,null,null,null,null,null,null,null,null,null,null,34.799999999999997,56]
[14,36.159999999999997,56,null,null,15.640000000000002,83,null,{"$f":"IF($G256>MAX($G$3:$G255),F256,\"\")","v":""},{"$f":"IF($G256>MAX($G$3:$G255),G256,\"\")","v":""},null,"","",null,null,null,null,null,null,null,null,null,null,null,null,null,null,null,null,null,null,null,null,null,null,null,null,null,null,null,null,null,null,null,null,null,null,36.159999999999997,56]
[15,36.159999999999997,64,null,null,15.669999999999998,63,null,{"$f":"IF($G257>MAX($G$3:$G256),F257,\"\")","v":""},{"$f":"IF($G257>MAX($G$3:$G256),G257,\"\")","v":""},null,"","",null,null,null,null,null,null,null,null,null,null,null,null,null,null,null,null,null,null,null,null,null,null,null,null,null,null,null,null,null,null,null,null,null,null,36.159999999999997,64]
[16,38.75,64,null,null,15.669999999999998,72,null,{"$f":"IF($G258>MAX($G$3:$G257),F258,\"\")","v":""},{"$f":"IF($G258>MAX($G$3:$G257),G258,\"\")","v":""},null,"","",null,null,null,null,null,null,null,null,null,null,null,null,null,null,null,null,null,null,null,null,null,null,null,null,null,null,null,null,null,null,null,null,null,null,38.75,64]
[17,38.75,72,null,null,15.720000000000002,86,null,{"$f":"IF($G259>MAX($G$3:$G258),F259,\"\")","v":""},{"$f":"IF($G259>MAX($G$3:$G258),G259,\"\")","v":""},null,"","",null,null,null,null,null,null,null,null,null,null,null,null,null,null,null,null,null,null,null,null,null,null,null,null,null,null,null,null,null,null,null,null,null,null,38.75,72]
[18,null,null,null,null,15.720000000000002,94,null,{"$f":"IF($G260>MAX($G$3:$G259),F260,\"\")","v":""},{"$f":"IF($G260>MAX($G$3:$G259),G260,\"\")","v":""},null,"",""]
[19,null,null,null,null,15.740000000000002,65.400000000000006,null,{"$f":"IF($G261>MAX($G$3:$G260),F261,\"\")","v":""},{"$f":"IF($G261>MAX($G$3:$G260),G261,\"\")","v":""},null,"",""]
[20,null,null,null,null,15.740000000000002,67,null,{"$f":"IF($G262>MAX($G$3:$G261),F262,\"\")","v":""},{"$f":"IF($G262>MAX($G$3:$G261),G262,\"\")","v":""},null,"",""]
[21,null,null,null,null,15.939999999999998,57,null,{"$f":"IF($G263>MAX($G$3:$G262),F263,\"\")","v":""},{"$f":"IF($G263>MAX($G$3:$G262),G263,\"\")","v":""},null,"",""]
[22,null,null,null,null,15.939999999999998,68.400000000000006,null,{"$f":"IF($G264>MAX($G$3:$G263),F264,\"\")","v":""},{"$f":"IF($G264>MAX($G$3:$G263),G264,\"\")","v":""},null,"",""]
[23,null,null,null,null,16.28,90,null,{"$f":"IF($G265>MAX($G$3:$G264),F265,\"\")","v":""},{"$f":"IF($G265>MAX($G$3:$G264),G265,\"\")","v":""},null,"",""]
[24,null,null,null,null,16.28,100,null,{"$f":"IF($G266>MAX($G$3:$G265),F266,\"\")","v":16.28},{"$f":"IF($G266>MAX($G$3:$G265),G266,\"\")","v":100},null,"",""]
[25,null,null,null,null,16.939999999999998,51.74,null,{"$f":"IF($G267>MAX($G$3:$G266),F267,\"\")","v":""},{"$f":"IF($G267>MAX($G$3:$G266),G267,\"\")","v":""},null,"",""]
[26,null,null,null,null,16.939999999999998,59.24,null,{"$f":"IF($G268>MAX($G$3:$G267),F268,\"\")","v":""},{"$f":"IF($G268>MAX($G$3:$G267),G268,\"\")","v":""},null,"",""]
[27,null,null,null,null,16.989999999999998,72,null,{"$f":"IF($G269>MAX($G$3:$G268),F269,\"\")","v":""},{"$f":"IF($G269>MAX($G$3:$G268),G269,\"\")","v":""},null,"",""]
[28,null,null,null,null,16.989999999999998,80,null,{"$f":"IF($G270>MAX($G$3:$G269),F270,\"\")","v":""},{"$f":"IF($G270>MAX($G$3:$G269),G270,\"\")","v":""},null,"",""]
[0,null,null,null,null,17.04,69,null,{"$f":"IF($G271>MAX($G$3:$G270),F271,\"\")","v":""},{"$f":"IF($G271>MAX($G$3:$G270),G271,\"\")","v":""},null,"",""]
[30,null,null,null,null,17.04,77,null,{"$f":"IF($G272>MAX($G$3:$G271),F272,\"\")","v":""},{"$f":"IF($G272>MAX($G$3:$G271),G272,\"\")","v":""},null,"",""]
[1,0,10,null,null,17.060000000000002,67,null,{"$f":"IF($G273>MAX($G$3:$G272),F273,\"\")","v":""},{"$f":"IF($G273>MAX($G$3:$G272),G273,\"\")","v":""},null,"","",null,null,null,null,null,null,null,null,null,null,null,null,null,null,null,null,null,null,null,null,null,null,null,null,null,null,null,null,null,null,null,null,null,null,0,10]
[2,1.33,10,null,null,17.060000000000002,75,null,{"$f":"IF($G274>MAX($G$3:$G273),F274,\"\")","v":""},{"$f":"IF($G274>MAX($G$3:$G273),G274,\"\")","v":""},null,"","",null,null,null,null,null,null,null,null,null,null,null,null,null,null,null,null,null,null,null,null,null,null,null,null,null,null,null,null,null,null,null,null,null,null,1.33,10]
[3,1.33,17,null,null,17.299999999999997,68.400000000000006,null,{"$f":"IF($G275>MAX($G$3:$G274),F275,\"\")","v":""},{"$f":"IF($G275>MAX($G$3:$G274),G275,\"\")","v":""},null,"","",null,null,null,null,null,null,null,null,null,null,null,null,null,null,null,null,null,null,null,null,null,null,null,null,null,null,null,null,null,null,null,null,null,null,1.33,17]
[4,2.72,17,null,null,17.299999999999997,79.800000000000011,null,{"$f":"IF($G276>MAX($G$3:$G275),F276,\"\")","v":""},{"$f":"IF($G276>MAX($G$3:$G275),G276,\"\")","v":""},null,"","",null,null,null,null,null,null,null,null,null,null,null,null,null,null,null,null,null,null,null,null,null,null,null,null,null,null,null,null,null,null,null,null,null,null,2.72,17]
[5,2.72,28,null,null,17.649999999999999,45,null,{"$f":"IF($G277>MAX($G$3:$G276),F277,\"\")","v":""},{"$f":"IF($G277>MAX($G$3:$G276),G277,\"\")","v":""},null,"","",null,null,null,null,null,null,null,null,null,null,null,null,null,null,null,null,null,null,null,null,null,null,null,null,null,null,null,null,null,null,null,null,null,null,2.72,28]
[6,13.889999999999999,28,null,null,17.649999999999999,51,null,{"$f":"IF($G278>MAX($G$3:$G277),F278,\"\")","v":""},{"$f":"IF($G278>MAX($G$3:$G277),G278,\"\")","v":""},null,"","",null,null,null,null,null,null,null,null,null,null,null,null,null,null,null,null,null,null,null,null,null,null,null,null,null,null,null,null,null,null,null,null,null,null,13.889999999999999,28]
[7,13.889999999999999,36,null,null,17.73,100,null,{"$f":"IF($G279>MAX($G$3:$G278),F279,\"\")","v":""},{"$f":"IF($G279>MAX($G$3:$G278),G279,\"\")","v":""},null,"","",null,null,null,null,null,null,null,null,null,null,null,null,null,null,null,null,null,null,null,null,null,null,null,null,null,null,null,null,null,null,null,null,null,null,13.889999999999999,36]
[8,13.919999999999998,36,null,null,17.73,107.5,null,{"$f":"IF($G280>MAX($G$3:$G279),F280,\"\")","v":17.73},{"$f":"IF($G280>MAX($G$3:$G279),G280,\"\")","v":107.5},null,"","",null,null,null,null,null,null,null,null,null,null,null,null,null,null,null,null,null,null,null,null,null,null,null,null,null,null,null,null,null,null,null,null,null,null,13.919999999999998,36]
[9,13.919999999999998,37,null,null,18.309999999999999,59.24,null,{"$f":"IF($G281>MAX($G$3:$G280),F281,\"\")","v":""},{"$f":"IF($G281>MAX($G$3:$G280),G281,\"\")","v":""},null,"","",null,null,null,null,null,null,null,null,null,null,null,null,null,null,null,null,null,null,null,null,null,null,null,null,null,null,null,null,null,null,null,null,null,null,13.919999999999998,37]
[10,15.249999999999998,37,null,null,18.309999999999999,60,null,{"$f":"IF($G282>MAX($G$3:$G281),F282,\"\")","v":""},{"$f":"IF($G282>MAX($G$3:$G281),G282,\"\")","v":""},null,"","",null,null,null,null,null,null,null,null,null,null,null,null,null,null,null,null,null,null,null,null,null,null,null,null,null,null,null,null,null,null,null,null,null,null,15.249999999999998,37]
[11,15.249999999999998,45,null,null,18.399999999999999,60,null,{"$f":"IF($G283>MAX($G$3:$G282),F283,\"\")","v":""},{"$f":"IF($G283>MAX($G$3:$G282),G283,\"\")","v":""},null,"","",null,null,null,null,null,null,null,null,null,null,null,null,null,null,null,null,null,null,null,null,null,null,null,null,null,null,null,null,null,null,null,null,null,null,15.249999999999998,45]
[12,17.649999999999999,45,null,null,18.399999999999999,66.739999999999995,null,{"$f":"IF($G284>MAX($G$3:$G283),F284,\"\")","v":""},{"$f":"IF($G284>MAX($G$3:$G283),G284,\"\")","v":""},null,"","",null,null,null,null,null,null,null,null,null,null,null,null,null,null,null,null,null,null,null,null,null,null,null,null,null,null,null,null,null,null,null,null,null,null,17.649999999999999,45]
[13,17.649999999999999,51,null,null,18.66,79.800000000000011,null,{"$f":"IF($G285>MAX($G$3:$G284),F285,\"\")","v":""},{"$f":"IF($G285>MAX($G$3:$G284),G285,\"\")","v":""},null,"","",null,null,null,null,null,null,null,null,null,null,null,null,null,null,null,null,null,null,null,null,null,null,null,null,null,null,null,null,null,null,null,null,null,null,17.649999999999999,51]
[14,null,null,null,null,18.66,91.200000000000017,null,{"$f":"IF($G286>MAX($G$3:$G285),F286,\"\")","v":""},{"$f":"IF($G286>MAX($G$3:$G285),G286,\"\")","v":""},null,"",""]
[15,null,null,null,null,19.120000000000005,94,null,{"$f":"IF($G287>MAX($G$3:$G286),F287,\"\")","v":""},{"$f":"IF($G287>MAX($G$3:$G286),G287,\"\")","v":""},null,"",""]
[16,null,null,null,null,19.120000000000005,99,null,{"$f":"IF($G288>MAX($G$3:$G287),F288,\"\")","v":""},{"$f":"IF($G288>MAX($G$3:$G287),G288,\"\")","v":""},null,"",""]
[17,null,null,null,null,19.309999999999999,72,null,{"$f":"IF($G289>MAX($G$3:$G288),F289,\"\")","v":""},{"$f":"IF($G289>MAX($G$3:$G288),G289,\"\")","v":""},null,"",""]
[18,null,null,null,null,19.309999999999999,77,null,{"$f":"IF($G290>MAX($G$3:$G289),F290,\"\")","v":""},{"$f":"IF($G290>MAX($G$3:$G289),G290,\"\")","v":""},null,"",""]
[19,null,null,null,null,19.34,75,null,{"$f":"IF($G291>MAX($G$3:$G290),F291,\"\")","v":""},{"$f":"IF($G291>MAX($G$3:$G290),G291,\"\")","v":""},null,"",""]
[20,null,null,null,null,19.34,82,null,{"$f":"IF($G292>MAX($G$3:$G291),F292,\"\")","v":""},{"$f":"IF($G292>MAX($G$3:$G291),G292,\"\")","v":""},null,"",""]
[21,null,null,null,null,19.369999999999997,77,null,{"$f":"IF($G293>MAX($G$3:$G292),F293,\"\")","v":""},{"$f":"IF($G293>MAX($G$3:$G292),G293,\"\")","v":""},null,"",""]
[22,null,null,null,null,19.369999999999997,80,null,{"$f":"IF($G294>MAX($G$3:$G293),F294,\"\")","v":""},{"$f":"IF($G294>MAX($G$3:$G293),G294,\"\")","v":""},null,"",""]
[23,null,null,null,null,19.669999999999998,66.739999999999995,null,{"$f":"IF($G295>MAX($G$3:$G294),F295,\"\")","v":""},{"$f":"IF($G295>MAX($G$3:$G294),G295,\"\")","v":""},null,"",""]
[24,null,null,null,null,19.669999999999998,67,null,{"$f":"IF($G296>MAX($G$3:$G295),F296,\"\")","v":""},{"$f":"IF($G296>MAX($G$3:$G295),G296,\"\")","v":""},null,"",""]
[25,null,null,null,null,20.330000000000002,107.5,null,{"$f":"IF($G297>MAX($G$3:$G296),F297,\"\")","v":""},{"$f":"IF($G297>MAX($G$3:$G296),G297,\"\")","v":""},null,"",""]
[26,null,null,null,null,20.330000000000002,115,null,{"$f":"IF($G298>MAX($G$3:$G297),F298,\"\")","v":20.330000000000002},{"$f":"IF($G298>MAX($G$3:$G297),G298,\"\")","v":115},null,"",""]
[27,null,null,null,null,20.669999999999998,80,null,{"$f":"IF($G299>MAX($G$3:$G298),F299,\"\")","v":""},{"$f":"IF($G299>MAX($G$3:$G298),G299,\"\")","v":""},null,"",""]
[28,null,null,null,null,20.669999999999998,86,null,{"$f":"IF($G300>MAX($G$3:$G299),F300,\"\")","v":""},{"$f":"IF($G300>MAX($G$3:$G299),G300,\"\")","v":""},null,"",""]
[0,null,null,null,null,20.68,80,null,{"$f":"IF($G301>MAX($G$3:$G300),F301,\"\")","v":""},{"$f":"IF($G301>MAX($G$3:$G300),G301,\"\")","v":""},null,"",""]
[30,null,null,null,null,20.68,86,null,{"$f":"IF($G302>MAX($G$3:$G301),F302,\"\")","v":""},{"$f":"IF($G302>MAX($G$3:$G301),G302,\"\")","v":""},null,"",""]
[1,0,9.6,null,null,20.689999999999998,86,null,{"$f":"IF($G303>MAX($G$3:$G302),F303,\"\")","v":""},{"$f":"IF($G303>MAX($G$3:$G302),G303,\"\")","v":""},null,"","",null,null,null,null,null,null,null,null,null,null,null,null,null,null,null,null,null,null,null,null,null,null,null,null,null,null,null,null,null,null,null,null,null,null,0,9.6]
[2,1.32,9.6,null,null,20.689999999999998,88,null,{"$f":"IF($G304>MAX($G$3:$G303),F304,\"\")","v":""},{"$f":"IF($G304>MAX($G$3:$G303),G304,\"\")","v":""},null,"","",null,null,null,null,null,null,null,null,null,null,null,null,null,null,null,null,null,null,null,null,null,null,null,null,null,null,null,null,null,null,null,null,null,null,1.32,9.6]
[3,1.32,17.5,null,null,20.72,86,null,{"$f":"IF($G305>MAX($G$3:$G304),F305,\"\")","v":""},{"$f":"IF($G305>MAX($G$3:$G304),G305,\"\")","v":""},null,"","",null,null,null,null,null,null,null,null,null,null,null,null,null,null,null,null,null,null,null,null,null,null,null,null,null,null,null,null,null,null,null,null,null,null,1.32,17.5]
[4,1.36,17.5,null,null,20.72,88,null,{"$f":"IF($G306>MAX($G$3:$G305),F306,\"\")","v":""},{"$f":"IF($G306>MAX($G$3:$G305),G306,\"\")","v":""},null,"","",null,null,null,null,null,null,null,null,null,null,null,null,null,null,null,null,null,null,null,null,null,null,null,null,null,null,null,null,null,null,null,null,null,null,1.36,17.5]
[5,1.36,19,null,null,21.029999999999998,67,null,{"$f":"IF($G307>MAX($G$3:$G306),F307,\"\")","v":""},{"$f":"IF($G307>MAX($G$3:$G306),G307,\"\")","v":""},null,"","",null,null,null,null,null,null,null,null,null,null,null,null,null,null,null,null,null,null,null,null,null,null,null,null,null,null,null,null,null,null,null,null,null,null,1.36,19]
[6,1.81,19,null,null,21.029999999999998,74.739999999999995,null,{"$f":"IF($G308>MAX($G$3:$G307),F308,\"\")","v":""},{"$f":"IF($G308>MAX($G$3:$G307),G308,\"\")","v":""},null,"","",null,null,null,null,null,null,null,null,null,null,null,null,null,null,null,null,null,null,null,null,null,null,null,null,null,null,null,null,null,null,null,null,null,null,1.81,19]
[7,1.81,19.2,null,null,21.259999999999998,91.200000000000017,null,{"$f":"IF($G309>MAX($G$3:$G308),F309,\"\")","v":""},{"$f":"IF($G309>MAX($G$3:$G308),G309,\"\")","v":""},null,"","",null,null,null,null,null,null,null,null,null,null,null,null,null,null,null,null,null,null,null,null,null,null,null,null,null,null,null,null,null,null,null,null,null,null,1.81,19.2]
[8,2.68,19.2,null,null,21.259999999999998,99.000000000000014,null,{"$f":"IF($G310>MAX($G$3:$G309),F310,\"\")","v":""},{"$f":"IF($G310>MAX($G$3:$G309),G310,\"\")","v":""},null,"","",null,null,null,null,null,null,null,null,null,null,null,null,null,null,null,null,null,null,null,null,null,null,null,null,null,null,null,null,null,null,null,null,null,null,2.68,19.2]
[9,2.68,27,null,null,22.04,88,null,{"$f":"IF($G311>MAX($G$3:$G310),F311,\"\")","v":""},{"$f":"IF($G311>MAX($G$3:$G310),G311,\"\")","v":""},null,"","",null,null,null,null,null,null,null,null,null,null,null,null,null,null,null,null,null,null,null,null,null,null,null,null,null,null,null,null,null,null,null,null,null,null,2.68,27]
[10,3.62,27,null,null,22.04,95,null,{"$f":"IF($G312>MAX($G$3:$G311),F312,\"\")","v":""},{"$f":"IF($G312>MAX($G$3:$G311),G312,\"\")","v":""},null,"","",null,null,null,null,null,null,null,null,null,null,null,null,null,null,null,null,null,null,null,null,null,null,null,null,null,null,null,null,null,null,null,null,null,null,4.96,27]
[11,3.62,28.799999999999997,null,null,22.069999999999997,88,null,{"$f":"IF($G313>MAX($G$3:$G312),F313,\"\")","v":""},{"$f":"IF($G313>MAX($G$3:$G312),G313,\"\")","v":""},null,"","",null,null,null,null,null,null,null,null,null,null,null,null,null,null,null,null,null,null,null,null,null,null,null,null,null,null,null,null,null,null,null,null,null,null,4.96,34]
[12,4.96,28.799999999999997,null,null,24.589999999999996,95,null,{"$f":"IF($G314>MAX($G$3:$G313),F314,\"\")","v":""},{"$f":"IF($G314>MAX($G$3:$G313),G314,\"\")","v":""},null,"","",null,null,null,null,null,null,null,null,null,null,null,null,null,null,null,null,null,null,null,null,null,null,null,null,null,null,null,null,null,null,null,null,null,null,5.43,34]
[13,4.96,34,null,null,24.589999999999996,100,null,{"$f":"IF($G315>MAX($G$3:$G314),F315,\"\")","v":""},{"$f":"IF($G315>MAX($G$3:$G314),G315,\"\")","v":""},null,"","",null,null,null,null,null,null,null,null,null,null,null,null,null,null,null,null,null,null,null,null,null,null,null,null,null,null,null,null,null,null,null,null,null,null,5.43,37.800000000000004]
[14,5.43,34,null,null,33.44,40,null,{"$f":"IF($G316>MAX($G$3:$G315),F316,\"\")","v":""},{"$f":"IF($G316>MAX($G$3:$G315),G316,\"\")","v":""},null,"","",null,null,null,null,null,null,null,null,null,null,null,null,null,null,null,null,null,null,null,null,null,null,null,null,null,null,null,null,null,null,null,null,null,null,7.24,37.800000000000004]
[15,5.43,38.4,null,null,33.44,48,null,{"$f":"IF($G317>MAX($G$3:$G316),F317,\"\")","v":""},{"$f":"IF($G317>MAX($G$3:$G316),G317,\"\")","v":""},null,"","",null,null,null,null,null,null,null,null,null,null,null,null,null,null,null,null,null,null,null,null,null,null,null,null,null,null,null,null,null,null,null,null,null,null,7.24,47.4]
[16,7.24,38.4,null,null,34.799999999999997,48,null,{"$f":"IF($G318>MAX($G$3:$G317),F318,\"\")","v":""},{"$f":"IF($G318>MAX($G$3:$G317),G318,\"\")","v":""},null,"","",null,null,null,null,null,null,null,null,null,null,null,null,null,null,null,null,null,null,null,null,null,null,null,null,null,null,null,null,null,null,null,null,null,null,13.440000000000001,47.4]
[17,7.24,48,null,null,34.799999999999997,56,null,{"$f":"IF($G319>MAX($G$3:$G318),F319,\"\")","v":""},{"$f":"IF($G319>MAX($G$3:$G318),G319,\"\")","v":""},null,"","",null,null,null,null,null,null,null,null,null,null,null,null,null,null,null,null,null,null,null,null,null,null,null,null,null,null,null,null,null,null,null,null,null,null,13.440000000000001,55.2]
[18,13.440000000000001,48,null,null,36.159999999999997,56,null,{"$f":"IF($G320>MAX($G$3:$G319),F320,\"\")","v":""},{"$f":"IF($G320>MAX($G$3:$G319),G320,\"\")","v":""},null,"","",null,null,null,null,null,null,null,null,null,null,null,null,null,null,null,null,null,null,null,null,null,null,null,null,null,null,null,null,null,null,null,null,null,null,14.38,55.2]
[19,13.440000000000001,55.800000000000004,null,null,36.159999999999997,64,null,{"$f":"IF($G321>MAX($G$3:$G320),F321,\"\")","v":""},{"$f":"IF($G321>MAX($G$3:$G320),G321,\"\")","v":""},null,"","",null,null,null,null,null,null,null,null,null,null,null,null,null,null,null,null,null,null,null,null,null,null,null,null,null,null,null,null,null,null,null,null,null,null,14.38,56.900000000000006]
[20,14.38,55.800000000000004,null,null,38.75,64,null,{"$f":"IF($G322>MAX($G$3:$G321),F322,\"\")","v":""},{"$f":"IF($G322>MAX($G$3:$G321),G322,\"\")","v":""},null,"","",null,null,null,null,null,null,null,null,null,null,null,null,null,null,null,null,null,null,null,null,null,null,null,null,null,null,null,null,null,null,null,null,null,null,15.250000000000002,56.900000000000006]
[21,14.38,57.500000000000007,null,null,38.75,72,null,{"$f":"IF($G323>MAX($G$3:$G322),F323,\"\")","v":""},{"$f":"IF($G323>MAX($G$3:$G322),G323,\"\")","v":""},null,"","",null,null,null,null,null,null,null,null,null,null,null,null,null,null,null,null,null,null,null,null,null,null,null,null,null,null,null,null,null,null,null,null,null,null,15.250000000000002,64.8]
[22,15.250000000000002,57.500000000000007,null,null,null,null,null,{"$f":"IF($G324>MAX($G$3:$G323),F324,\"\")","v":""},{"$f":"IF($G324>MAX($G$3:$G323),G324,\"\")","v":""},null,"","",null,null,null,null,null,null,null,null,null,null,null,null,null,null,null,null,null,null,null,null,null,null,null,null,null,null,null,null,null,null,null,null,null,null,15.740000000000002,64.8]
[23,15.250000000000002,65.400000000000006,null,null,null,null,null,{"$f":"IF($G325>MAX($G$3:$G324),F325,\"\")","v":""},{"$f":"IF($G325>MAX($G$3:$G324),G325,\"\")","v":""},null,"","",null,null,null,null,null,null,null,null,null,null,null,null,null,null,null,null,null,null,null,null,null,null,null,null,null,null,null,null,null,null,null,null,null,null,15.740000000000002,66.400000000000006]
[24,15.740000000000002,65.400000000000006,null,null,null,null,null,{"$f":"IF($G326>MAX($G$3:$G325),F326,\"\")","v":""},{"$f":"IF($G326>MAX($G$3:$G325),G326,\"\")","v":""},null,"","",null,null,null,null,null,null,null,null,null,null,null,null,null,null,null,null,null,null,null,null,null,null,null,null,null,null,null,null,null,null,null,null,null,null,17.060000000000002,66.400000000000006]
[25,15.740000000000002,67,null,null,null,null,null,{"$f":"IF($G327>MAX($G$3:$G326),F327,\"\")","v":""},{"$f":"IF($G327>MAX($G$3:$G326),G327,\"\")","v":""},null,"","",null,null,null,null,null,null,null,null,null,null,null,null,null,null,null,null,null,null,null,null,null,null,null,null,null,null,null,null,null,null,null,null,null,null,17.060000000000002,74.399999999999991]
[26,17.060000000000002,67,null,null,null,null,null,{"$f":"IF($G328>MAX($G$3:$G327),F328,\"\")","v":""},{"$f":"IF($G328>MAX($G$3:$G327),G328,\"\")","v":""},null,"","",null,null,null,null,null,null,null,null,null,null,null,null,null,null,null,null,null,null,null,null,null,null,null,null,null,null,null,null,null,null,null,null,null,null,19.34,74.399999999999991]
[27,17.060000000000002,75,null,null,null,null,null,{"$f":"IF($G329>MAX($G$3:$G328),F329,\"\")","v":""},{"$f":"IF($G329>MAX($G$3:$G328),G329,\"\")","v":""},null,"","",null,null,null,null,null,null,null,null,null,null,null,null,null,null,null,null,null,null,null,null,null,null,null,null,null,null,null,null,null,null,null,null,null,null,19.34,81.399999999999991]
[28,19.34,75,null,null,null,null,null,{"$f":"IF($G330>MAX($G$3:$G329),F330,\"\")","v":""},{"$f":"IF($G330>MAX($G$3:$G329),G330,\"\")","v":""},null,"","",null,null,null,null,null,null,null,null,null,null,null,null,null,null,null,null,null,null,null,null,null,null,null,null,null,null,null,null,null,null,null,null,null,null,19.34,75]
[0,19.34,82,null,null,null,null,null,{"$f":"IF($G331>MAX($G$3:$G330),F331,\"\")","v":""},{"$f":"IF($G331>MAX($G$3:$G330),G331,\"\")","v":""},null,"","",null,null,null,null,null,null,null,null,null,null,null,null,null,null,null,null,null,null,null,null,null,null,null,null,null,null,null,null,null,null,null,null,null,null,19.34,82]
[30,null,null,null,null,null,null,null,{"$f":"IF($G332>MAX($G$3:$G331),F332,\"\")","v":""},{"$f":"IF($G332>MAX($G$3:$G331),G332,\"\")","v":""},null,"",""]
[1,0,10,null,null,null,null,null,{"$f":"IF($G333>MAX($G$3:$G332),F333,\"\")","v":""},{"$f":"IF($G333>MAX($G$3:$G332),G333,\"\")","v":""},null,"","",null,null,null,null,null,null,null,null,null,null,null,null,null,null,null,null,null,null,null,null,null,null,null,null,null,null,null,null,null,null,null,null,null,null,0,10]
[2,1.37,10,null,null,null,null,null,{"$f":"IF($G334>MAX($G$3:$G333),F334,\"\")","v":""},{"$f":"IF($G334>MAX($G$3:$G333),G334,\"\")","v":""},null,"","",null,null,null,null,null,null,null,null,null,null,null,null,null,null,null,null,null,null,null,null,null,null,null,null,null,null,null,null,null,null,null,null,null,null,1.37,10]
[3,1.37,18,null,null,null,null,null,{"$f":"IF($G335>MAX($G$3:$G334),F335,\"\")","v":""},{"$f":"IF($G335>MAX($G$3:$G334),G335,\"\")","v":""},null,"","",null,null,null,null,null,null,null,null,null,null,null,null,null,null,null,null,null,null,null,null,null,null,null,null,null,null,null,null,null,null,null,null,null,null,1.37,18]
[4,3.1,18,null,null,null,null,null,{"$f":"IF($G336>MAX($G$3:$G335),F336,\"\")","v":""},{"$f":"IF($G336>MAX($G$3:$G335),G336,\"\")","v":""},null,"","",null,null,null,null,null,null,null,null,null,null,null,null,null,null,null,null,null,null,null,null,null,null,null,null,null,null,null,null,null,null,null,null,null,null,3.1,18]
[5,3.1,28.5,null,null,null,null,null,{"$f":"IF($G337>MAX($G$3:$G336),F337,\"\")","v":""},{"$f":"IF($G337>MAX($G$3:$G336),G337,\"\")","v":""},null,"","",null,null,null,null,null,null,null,null,null,null,null,null,null,null,null,null,null,null,null,null,null,null,null,null,null,null,null,null,null,null,null,null,null,null,3.1,28.5]
[6,4.6500000000000004,28.5,null,null,null,null,null,{"$f":"IF($G338>MAX($G$3:$G337),F338,\"\")","v":""},{"$f":"IF($G338>MAX($G$3:$G337),G338,\"\")","v":""},null,"","",null,null,null,null,null,null,null,null,null,null,null,null,null,null,null,null,null,null,null,null,null,null,null,null,null,null,null,null,null,null,null,null,null,null,4.6500000000000004,28.5]
[7,4.6500000000000004,38,null,null,null,null,null,{"$f":"IF($G339>MAX($G$3:$G338),F339,\"\")","v":""},{"$f":"IF($G339>MAX($G$3:$G338),G339,\"\")","v":""},null,"","",null,null,null,null,null,null,null,null,null,null,null,null,null,null,null,null,null,null,null,null,null,null,null,null,null,null,null,null,null,null,null,null,null,null,4.6500000000000004,38]
[8,6.2,38,null,null,null,null,null,{"$f":"IF($G340>MAX($G$3:$G339),F340,\"\")","v":""},{"$f":"IF($G340>MAX($G$3:$G339),G340,\"\")","v":""},null,"","",null,null,null,null,null,null,null,null,null,null,null,null,null,null,null,null,null,null,null,null,null,null,null,null,null,null,null,null,null,null,null,null,null,null,6.2,38]
[9,6.2,47.5,null,null,null,null,null,{"$f":"IF($G341>MAX($G$3:$G340),F341,\"\")","v":""},{"$f":"IF($G341>MAX($G$3:$G340),G341,\"\")","v":""},null,"","",null,null,null,null,null,null,null,null,null,null,null,null,null,null,null,null,null,null,null,null,null,null,null,null,null,null,null,null,null,null,null,null,null,null,6.2,47.5]
[10,7.75,47.5,null,null,null,null,null,{"$f":"IF($G342>MAX($G$3:$G341),F342,\"\")","v":""},{"$f":"IF($G342>MAX($G$3:$G341),G342,\"\")","v":""},null,"","",null,null,null,null,null,null,null,null,null,null,null,null,null,null,null,null,null,null,null,null,null,null,null,null,null,null,null,null,null,null,null,null,null,null,7.75,47.5]
[11,7.75,57,null,null,null,null,null,{"$f":"IF($G343>MAX($G$3:$G342),F343,\"\")","v":""},{"$f":"IF($G343>MAX($G$3:$G342),G343,\"\")","v":""},null,"","",null,null,null,null,null,null,null,null,null,null,null,null,null,null,null,null,null,null,null,null,null,null,null,null,null,null,null,null,null,null,null,null,null,null,7.75,57]
[12,9.3000000000000007,57,null,null,null,null,null,{"$f":"IF($G344>MAX($G$3:$G343),F344,\"\")","v":""},{"$f":"IF($G344>MAX($G$3:$G343),G344,\"\")","v":""},null,"","",null,null,null,null,null,null,null,null,null,null,null,null,null,null,null,null,null,null,null,null,null,null,null,null,null,null,null,null,null,null,null,null,null,null,9.3000000000000007,57]
[13,9.3000000000000007,66.5,null,null,null,null,null,{"$f":"IF($G345>MAX($G$3:$G344),F345,\"\")","v":""},{"$f":"IF($G345>MAX($G$3:$G344),G345,\"\")","v":""},null,"","",null,null,null,null,null,null,null,null,null,null,null,null,null,null,null,null,null,null,null,null,null,null,null,null,null,null,null,null,null,null,null,null,null,null,9.3000000000000007,66.5]
[14,10.850000000000001,66.5,null,null,null,null,null,{"$f":"IF($G346>MAX($G$3:$G345),F346,\"\")","v":""},{"$f":"IF($G346>MAX($G$3:$G345),G346,\"\")","v":""},null,"","",null,null,null,null,null,null,null,null,null,null,null,null,null,null,null,null,null,null,null,null,null,null,null,null,null,null,null,null,null,null,null,null,null,null,10.850000000000001,66.5]
[15,10.850000000000001,76,null,null,null,null,null,{"$f":"IF($G347>MAX($G$3:$G346),F347,\"\")","v":""},{"$f":"IF($G347>MAX($G$3:$G346),G347,\"\")","v":""},null,"","",null,null,null,null,null,null,null,null,null,null,null,null,null,null,null,null,null,null,null,null,null,null,null,null,null,null,null,null,null,null,null,null,null,null,10.850000000000001,76]
[16,12.800000000000002,76,null,null,null,null,null,{"$f":"IF($G348>MAX($G$3:$G347),F348,\"\")","v":""},{"$f":"IF($G348>MAX($G$3:$G347),G348,\"\")","v":""},null,"","",null,null,null,null,null,null,null,null,null,null,null,null,null,null,null,null,null,null,null,null,null,null,null,null,null,null,null,null,null,null,null,null,null,null,12.800000000000002,76]
[17,12.800000000000002,76.5,null,null,null,null,null,{"$f":"IF($G349>MAX($G$3:$G348),F349,\"\")","v":""},{"$f":"IF($G349>MAX($G$3:$G348),G349,\"\")","v":""},null,"","",null,null,null,null,null,null,null,null,null,null,null,null,null,null,null,null,null,null,null,null,null,null,null,null,null,null,null,null,null,null,null,null,null,null,12.800000000000002,76.5]
[18,14.170000000000002,76.5,null,null,null,null,null,{"$f":"IF($G350>MAX($G$3:$G349),F350,\"\")","v":""},{"$f":"IF($G350>MAX($G$3:$G349),G350,\"\")","v":""},null,"","",null,null,null,null,null,null,null,null,null,null,null,null,null,null,null,null,null,null,null,null,null,null,null,null,null,null,null,null,null,null,null,null,null,null,14.170000000000002,76.5]
[19,14.170000000000002,84.5,null,null,null,null,null,{"$f":"IF($G351>MAX($G$3:$G350),F351,\"\")","v":""},{"$f":"IF($G351>MAX($G$3:$G350),G351,\"\")","v":""},null,"","",null,null,null,null,null,null,null,null,null,null,null,null,null,null,null,null,null,null,null,null,null,null,null,null,null,null,null,null,null,null,null,null,null,null,14.170000000000002,84.5]
[20,14.350000000000003,84.5,null,null,null,null,null,{"$f":"IF($G352>MAX($G$3:$G351),F352,\"\")","v":""},{"$f":"IF($G352>MAX($G$3:$G351),G352,\"\")","v":""},null,"","",null,null,null,null,null,null,null,null,null,null,null,null,null,null,null,null,null,null,null,null,null,null,null,null,null,null,null,null,null,null,null,null,null,null,14.350000000000003,84.5]
[21,14.350000000000003,86,null,null,null,null,null,{"$f":"IF($G353>MAX($G$3:$G352),F353,\"\")","v":""},{"$f":"IF($G353>MAX($G$3:$G352),G353,\"\")","v":""},null,"","",null,null,null,null,null,null,null,null,null,null,null,null,null,null,null,null,null,null,null,null,null,null,null,null,null,null,null,null,null,null,null,null,null,null,14.350000000000003,86]
[22,15.720000000000002,86,null,null,null,null,null,{"$f":"IF($G354>MAX($G$3:$G353),F354,\"\")","v":""},{"$f":"IF($G354>MAX($G$3:$G353),G354,\"\")","v":""},null,"","",null,null,null,null,null,null,null,null,null,null,null,null,null,null,null,null,null,null,null,null,null,null,null,null,null,null,null,null,null,null,null,null,null,null,15.720000000000002,86]
[23,15.720000000000002,94,null,null,null,null,null,{"$f":"IF($G355>MAX($G$3:$G354),F355,\"\")","v":""},{"$f":"IF($G355>MAX($G$3:$G354),G355,\"\")","v":""},null,"","",null,null,null,null,null,null,null,null,null,null,null,null,null,null,null,null,null,null,null,null,null,null,null,null,null,null,null,null,null,null,null,null,null,null,15.720000000000002,94]
[24,19.120000000000005,94,null,null,null,null,null,{"$f":"IF($G356>MAX($G$3:$G355),F356,\"\")","v":""},{"$f":"IF($G356>MAX($G$3:$G355),G356,\"\")","v":""},null,"","",null,null,null,null,null,null,null,null,null,null,null,null,null,null,null,null,null,null,null,null,null,null,null,null,null,null,null,null,null,null,null,null,null,null,19.120000000000005,94]
[25,19.120000000000005,99,null,null,null,null,null,{"$f":"IF($G357>MAX($G$3:$G356),F357,\"\")","v":""},{"$f":"IF($G357>MAX($G$3:$G356),G357,\"\")","v":""},null,"","",null,null,null,null,null,null,null,null,null,null,null,null,null,null,null,null,null,null,null,null,null,null,null,null,null,null,null,null,null,null,null,null,null,null,19.120000000000005,99]
[26,null,null,null,null,null,null,null,{"$f":"IF($G358>MAX($G$3:$G357),F358,\"\")","v":""},{"$f":"IF($G358>MAX($G$3:$G357),G358,\"\")","v":""},null,"",""]
[27,null,null,null,null,null,null,null,{"$f":"IF($G359>MAX($G$3:$G358),F359,\"\")","v":""},{"$f":"IF($G359>MAX($G$3:$G358),G359,\"\")","v":""},null,"",""]
[28,null,null,null,null,null,null,null,{"$f":"IF($G360>MAX($G$3:$G359),F360,\"\")","v":""},{"$f":"IF($G360>MAX($G$3:$G359),G360,\"\")","v":""},null,"",""]
[0,null,null,null,null,null,null,null,{"$f":"IF($G361>MAX($G$3:$G360),F361,\"\")","v":""},{"$f":"IF($G361>MAX($G$3:$G360),G361,\"\")","v":""},null,"",""]
[30,null,null,null,null,null,null,null,{"$f":"IF($G362>MAX($G$3:$G361),F362,\"\")","v":""},{"$f":"IF($G362>MAX($G$3:$G361),G362,\"\")","v":""},null,"",""]
[1,0,8,null,null,null,null,null,{"$f":"IF($G363>MAX($G$3:$G362),F363,\"\")","v":""},{"$f":"IF($G363>MAX($G$3:$G362),G363,\"\")","v":""},null,"","",null,null,null,null,null,null,null,null,null,null,null,null,null,null,null,null,null,null,null,null,null,null,null,null,null,null,null,null,null,null,null,null,null,null,0,8]
[2,1.35,8,null,null,null,null,null,{"$f":"IF($G364>MAX($G$3:$G363),F364,\"\")","v":""},{"$f":"IF($G364>MAX($G$3:$G363),G364,\"\")","v":""},null,"","",null,null,null,null,null,null,null,null,null,null,null,null,null,null,null,null,null,null,null,null,null,null,null,null,null,null,null,null,null,null,null,null,null,null,1.35,8]
[3,1.35,16,null,null,null,null,null,{"$f":"IF($G365>MAX($G$3:$G364),F365,\"\")","v":""},{"$f":"IF($G365>MAX($G$3:$G364),G365,\"\")","v":""},null,"","",null,null,null,null,null,null,null,null,null,null,null,null,null,null,null,null,null,null,null,null,null,null,null,null,null,null,null,null,null,null,null,null,null,null,1.35,15]
[4,2.7,16,null,null,null,null,null,{"$f":"IF($G366>MAX($G$3:$G365),F366,\"\")","v":""},{"$f":"IF($G366>MAX($G$3:$G365),G366,\"\")","v":""},null,"","",null,null,null,null,null,null,null,null,null,null,null,null,null,null,null,null,null,null,null,null,null,null,null,null,null,null,null,null,null,null,null,null,null,null,2.7,15]
[5,2.7,23,null,null,null,null,null,{"$f":"IF($G367>MAX($G$3:$G366),F367,\"\")","v":""},{"$f":"IF($G367>MAX($G$3:$G366),G367,\"\")","v":""},null,"","",null,null,null,null,null,null,null,null,null,null,null,null,null,null,null,null,null,null,null,null,null,null,null,null,null,null,null,null,null,null,null,null,null,null,2.7,21]
[6,4.5,23,null,null,null,null,null,{"$f":"IF($G368>MAX($G$3:$G367),F368,\"\")","v":""},{"$f":"IF($G368>MAX($G$3:$G367),G368,\"\")","v":""},null,"","",null,null,null,null,null,null,null,null,null,null,null,null,null,null,null,null,null,null,null,null,null,null,null,null,null,null,null,null,null,null,null,null,null,null,4.5,21]
[7,4.5,28,null,null,null,null,null,{"$f":"IF($G369>MAX($G$3:$G368),F369,\"\")","v":""},{"$f":"IF($G369>MAX($G$3:$G368),G369,\"\")","v":""},null,"","",null,null,null,null,null,null,null,null,null,null,null,null,null,null,null,null,null,null,null,null,null,null,null,null,null,null,null,null,null,null,null,null,null,null,4.5,28]
[8,5.8000000000000007,28,null,null,null,null,null,{"$f":"IF($G370>MAX($G$3:$G369),F370,\"\")","v":""},{"$f":"IF($G370>MAX($G$3:$G369),G370,\"\")","v":""},null,"","",null,null,null,null,null,null,null,null,null,null,null,null,null,null,null,null,null,null,null,null,null,null,null,null,null,null,null,null,null,null,null,null,null,null,6,28]
[9,5.8000000000000007,30,null,null,null,null,null,{"$f":"IF($G371>MAX($G$3:$G370),F371,\"\")","v":""},{"$f":"IF($G371>MAX($G$3:$G370),G371,\"\")","v":""},null,"","",null,null,null,null,null,null,null,null,null,null,null,null,null,null,null,null,null,null,null,null,null,null,null,null,null,null,null,null,null,null,null,null,null,null,6,35]
[10,6,30,null,null,null,null,null,{"$f":"IF($G372>MAX($G$3:$G371),F372,\"\")","v":""},{"$f":"IF($G372>MAX($G$3:$G371),G372,\"\")","v":""},null,"","",null,null,null,null,null,null,null,null,null,null,null,null,null,null,null,null,null,null,null,null,null,null,null,null,null,null,null,null,null,null,null,null,null,null,7.5,35]
[11,6,35,null,null,null,null,null,{"$f":"IF($G373>MAX($G$3:$G372),F373,\"\")","v":""},{"$f":"IF($G373>MAX($G$3:$G372),G373,\"\")","v":""},null,"","",null,null,null,null,null,null,null,null,null,null,null,null,null,null,null,null,null,null,null,null,null,null,null,null,null,null,null,null,null,null,null,null,null,null,7.5,42]
[12,7.3000000000000007,35,null,null,null,null,null,{"$f":"IF($G374>MAX($G$3:$G373),F374,\"\")","v":""},{"$f":"IF($G374>MAX($G$3:$G373),G374,\"\")","v":""},null,"","",null,null,null,null,null,null,null,null,null,null,null,null,null,null,null,null,null,null,null,null,null,null,null,null,null,null,null,null,null,null,null,null,null,null,9,42]
[13,7.3000000000000007,37,null,null,null,null,null,{"$f":"IF($G375>MAX($G$3:$G374),F375,\"\")","v":""},{"$f":"IF($G375>MAX($G$3:$G374),G375,\"\")","v":""},null,"","",null,null,null,null,null,null,null,null,null,null,null,null,null,null,null,null,null,null,null,null,null,null,null,null,null,null,null,null,null,null,null,null,null,null,9,49]
[14,7.5,37,null,null,null,null,null,{"$f":"IF($G376>MAX($G$3:$G375),F376,\"\")","v":""},{"$f":"IF($G376>MAX($G$3:$G375),G376,\"\")","v":""},null,"","",null,null,null,null,null,null,null,null,null,null,null,null,null,null,null,null,null,null,null,null,null,null,null,null,null,null,null,null,null,null,null,null,null,null,10.5,49]
[15,7.5,42,null,null,null,null,null,{"$f":"IF($G377>MAX($G$3:$G376),F377,\"\")","v":""},{"$f":"IF($G377>MAX($G$3:$G376),G377,\"\")","v":""},null,"","",null,null,null,null,null,null,null,null,null,null,null,null,null,null,null,null,null,null,null,null,null,null,null,null,null,null,null,null,null,null,null,null,null,null,10.5,56]
[16,8.8000000000000007,42,null,null,null,null,null,{"$f":"IF($G378>MAX($G$3:$G377),F378,\"\")","v":""},{"$f":"IF($G378>MAX($G$3:$G377),G378,\"\")","v":""},null,"","",null,null,null,null,null,null,null,null,null,null,null,null,null,null,null,null,null,null,null,null,null,null,null,null,null,null,null,null,null,null,null,null,null,null,12,56]
[17,8.8000000000000007,44,null,null,null,null,null,{"$f":"IF($G379>MAX($G$3:$G378),F379,\"\")","v":""},{"$f":"IF($G379>MAX($G$3:$G378),G379,\"\")","v":""},null,"","",null,null,null,null,null,null,null,null,null,null,null,null,null,null,null,null,null,null,null,null,null,null,null,null,null,null,null,null,null,null,null,null,null,null,12,61]
[18,9,44,null,null,null,null,null,{"$f":"IF($G380>MAX($G$3:$G379),F380,\"\")","v":""},{"$f":"IF($G380>MAX($G$3:$G379),G380,\"\")","v":""},null,"","",null,null,null,null,null,null,null,null,null,null,null,null,null,null,null,null,null,null,null,null,null,null,null,null,null,null,null,null,null,null,null,null,null,null,13.3,61]
[19,9,49,null,null,null,null,null,{"$f":"IF($G381>MAX($G$3:$G380),F381,\"\")","v":""},{"$f":"IF($G381>MAX($G$3:$G380),G381,\"\")","v":""},null,"","",null,null,null,null,null,null,null,null,null,null,null,null,null,null,null,null,null,null,null,null,null,null,null,null,null,null,null,null,null,null,null,null,null,null,13.3,63]
[20,10.3,49,null,null,null,null,null,{"$f":"IF($G382>MAX($G$3:$G381),F382,\"\")","v":""},{"$f":"IF($G382>MAX($G$3:$G381),G382,\"\")","v":""},null,"","",null,null,null,null,null,null,null,null,null,null,null,null,null,null,null,null,null,null,null,null,null,null,null,null,null,null,null,null,null,null,null,null,null,null,13.5,63]
[21,10.3,51,null,null,null,null,null,{"$f":"IF($G383>MAX($G$3:$G382),F383,\"\")","v":""},{"$f":"IF($G383>MAX($G$3:$G382),G383,\"\")","v":""},null,"","",null,null,null,null,null,null,null,null,null,null,null,null,null,null,null,null,null,null,null,null,null,null,null,null,null,null,null,null,null,null,null,null,null,null,13.5,68]
[22,10.5,51,null,null,null,null,null,{"$f":"IF($G384>MAX($G$3:$G383),F384,\"\")","v":""},{"$f":"IF($G384>MAX($G$3:$G383),G384,\"\")","v":""},null,"","",null,null,null,null,null,null,null,null,null,null,null,null,null,null,null,null,null,null,null,null,null,null,null,null,null,null,null,null,null,null,null,null,null,null,14.8,68]
[23,10.5,56,null,null,null,null,null,{"$f":"IF($G385>MAX($G$3:$G384),F385,\"\")","v":""},{"$f":"IF($G385>MAX($G$3:$G384),G385,\"\")","v":""},null,"","",null,null,null,null,null,null,null,null,null,null,null,null,null,null,null,null,null,null,null,null,null,null,null,null,null,null,null,null,null,null,null,null,null,null,14.8,70]
[24,11.8,56,null,null,null,null,null,{"$f":"IF($G386>MAX($G$3:$G385),F386,\"\")","v":""},{"$f":"IF($G386>MAX($G$3:$G385),G386,\"\")","v":""},null,"","",null,null,null,null,null,null,null,null,null,null,null,null,null,null,null,null,null,null,null,null,null,null,null,null,null,null,null,null,null,null,null,null,null,null,16.3,70]
[25,11.8,58,null,null,null,null,null,{"$f":"IF($G387>MAX($G$3:$G386),F387,\"\")","v":""},{"$f":"IF($G387>MAX($G$3:$G386),G387,\"\")","v":""},null,"","",null,null,null,null,null,null,null,null,null,null,null,null,null,null,null,null,null,null,null,null,null,null,null,null,null,null,null,null,null,null,null,null,null,null,16.3,77]
[26,12,58,null,null,null,null,null,{"$f":"IF($G388>MAX($G$3:$G387),F388,\"\")","v":""},{"$f":"IF($G388>MAX($G$3:$G387),G388,\"\")","v":""},null,"","",null,null,null,null,null,null,null,null,null,null,null,null,null,null,null,null,null,null,null,null,null,null,null,null,null,null,null,null,null,null,null,null,null,null,17.8,77]
[27,12,63,null,null,null,null,null,{"$f":"IF($G389>MAX($G$3:$G388),F389,\"\")","v":""},{"$f":"IF($G389>MAX($G$3:$G388),G389,\"\")","v":""},null,"","",null,null,null,null,null,null,null,null,null,null,null,null,null,null,null,null,null,null,null,null,null,null,null,null,null,null,null,null,null,null,null,null,null,null,17.8,82]
[28,13.3,63,null,null,null,null,null,{"$f":"IF($G390>MAX($G$3:$G389),F390,\"\")","v":""},{"$f":"IF($G390>MAX($G$3:$G389),G390,\"\")","v":""},null,"","",null,null,null,null,null,null,null,null,null,null,null,null,null,null,null,null,null,null,null,null,null,null,null,null,null,null,null,null,null,null,null,null,null,null,19.3,82]
[0,13.3,65,null,null,null,null,null,{"$f":"IF($G391>MAX($G$3:$G390),F391,\"\")","v":""},{"$f":"IF($G391>MAX($G$3:$G390),G391,\"\")","v":""},null,"","",null,null,null,null,null,null,null,null,null,null,null,null,null,null,null,null,null,null,null,null,null,null,null,null,null,null,null,null,null,null,null,null,null,null,19.3,89]
[30,13.5,65,null,null,null,null,null,{"$f":"IF($G392>MAX($G$3:$G391),F392,\"\")","v":""},{"$f":"IF($G392>MAX($G$3:$G391),G392,\"\")","v":""},null,"","",null,null,null,null,null,null,null,null,null,null,null,null,null,null,null,null,null,null,null,null,null,null,null,null,null,null,null,null,null,null,null,null,null,null,21.85,89]
[1,0,9.5,null,null,null,null,null,{"$f":"IF($G393>MAX($G$3:$G392),F393,\"\")","v":""},{"$f":"IF($G393>MAX($G$3:$G392),G393,\"\")","v":""},null,"","",null,null,null,null,null,null,null,null,null,null,null,null,null,null,null,null,null,null,null,null,null,null,null,null,null,null,null,null,null,null,null,null,null,null,0,9.5]
[2,1.36,9.5,null,null,null,null,null,{"$f":"IF($G394>MAX($G$3:$G393),F394,\"\")","v":""},{"$f":"IF($G394>MAX($G$3:$G393),G394,\"\")","v":""},null,"","",null,null,null,null,null,null,null,null,null,null,null,null,null,null,null,null,null,null,null,null,null,null,null,null,null,null,null,null,null,null,null,null,null,null,1.36,9.5]
[3,1.36,19,null,null,null,null,null,{"$f":"IF($G395>MAX($G$3:$G394),F395,\"\")","v":""},{"$f":"IF($G395>MAX($G$3:$G394),G395,\"\")","v":""},null,"","",null,null,null,null,null,null,null,null,null,null,null,null,null,null,null,null,null,null,null,null,null,null,null,null,null,null,null,null,null,null,null,null,null,null,1.36,19]
[4,2.72,19,null,null,null,null,null,{"$f":"IF($G396>MAX($G$3:$G395),F396,\"\")","v":""},{"$f":"IF($G396>MAX($G$3:$G395),G396,\"\")","v":""},null,"","",null,null,null,null,null,null,null,null,null,null,null,null,null,null,null,null,null,null,null,null,null,null,null,null,null,null,null,null,null,null,null,null,null,null,2.72,19]
[5,2.72,28.5,null,null,null,null,null,{"$f":"IF($G397>MAX($G$3:$G396),F397,\"\")","v":""},{"$f":"IF($G397>MAX($G$3:$G396),G397,\"\")","v":""},null,"","",null,null,null,null,null,null,null,null,null,null,null,null,null,null,null,null,null,null,null,null,null,null,null,null,null,null,null,null,null,null,null,null,null,null,2.72,28.5]
[6,4.08,28.5,null,null,null,null,null,{"$f":"IF($G398>MAX($G$3:$G397),F398,\"\")","v":""},{"$f":"IF($G398>MAX($G$3:$G397),G398,\"\")","v":""},null,"","",null,null,null,null,null,null,null,null,null,null,null,null,null,null,null,null,null,null,null,null,null,null,null,null,null,null,null,null,null,null,null,null,null,null,4.08,28.5]
[7,4.08,38,null,null,null,null,null,{"$f":"IF($G399>MAX($G$3:$G398),F399,\"\")","v":""},{"$f":"IF($G399>MAX($G$3:$G398),G399,\"\")","v":""},null,"","",null,null,null,null,null,null,null,null,null,null,null,null,null,null,null,null,null,null,null,null,null,null,null,null,null,null,null,null,null,null,null,null,null,null,4.08,38]
[8,5.44,38,null,null,null,null,null,{"$f":"IF($G400>MAX($G$3:$G399),F400,\"\")","v":""},{"$f":"IF($G400>MAX($G$3:$G399),G400,\"\")","v":""},null,"","",null,null,null,null,null,null,null,null,null,null,null,null,null,null,null,null,null,null,null,null,null,null,null,null,null,null,null,null,null,null,null,null,null,null,5.44,38]
[9,5.44,47.5,null,null,null,null,null,{"$f":"IF($G401>MAX($G$3:$G400),F401,\"\")","v":""},{"$f":"IF($G401>MAX($G$3:$G400),G401,\"\")","v":""},null,"","",null,null,null,null,null,null,null,null,null,null,null,null,null,null,null,null,null,null,null,null,null,null,null,null,null,null,null,null,null,null,null,null,null,null,5.44,47.5]
[10,9.94,47.5,null,null,null,null,null,{"$f":"IF($G402>MAX($G$3:$G401),F402,\"\")","v":""},{"$f":"IF($G402>MAX($G$3:$G401),G402,\"\")","v":""},null,"","",null,null,null,null,null,null,null,null,null,null,null,null,null,null,null,null,null,null,null,null,null,null,null,null,null,null,null,null,null,null,null,null,null,null,9.94,47.5]
[11,9.94,57,null,null,null,null,null,{"$f":"IF($G403>MAX($G$3:$G402),F403,\"\")","v":""},{"$f":"IF($G403>MAX($G$3:$G402),G403,\"\")","v":""},null,"","",null,null,null,null,null,null,null,null,null,null,null,null,null,null,null,null,null,null,null,null,null,null,null,null,null,null,null,null,null,null,null,null,null,null,9.94,57]
[12,11.34,57,null,null,null,null,null,{"$f":"IF($G404>MAX($G$3:$G403),F404,\"\")","v":""},{"$f":"IF($G404>MAX($G$3:$G403),G404,\"\")","v":""},null,"","",null,null,null,null,null,null,null,null,null,null,null,null,null,null,null,null,null,null,null,null,null,null,null,null,null,null,null,null,null,null,null,null,null,null,11.34,57]
[13,11.34,66.5,null,null,null,null,null,{"$f":"IF($G405>MAX($G$3:$G404),F405,\"\")","v":""},{"$f":"IF($G405>MAX($G$3:$G404),G405,\"\")","v":""},null,"","",null,null,null,null,null,null,null,null,null,null,null,null,null,null,null,null,null,null,null,null,null,null,null,null,null,null,null,null,null,null,null,null,null,null,11.34,66.5]
[14,14.939999999999998,66.5,null,null,null,null,null,{"$f":"IF($G406>MAX($G$3:$G405),F406,\"\")","v":""},{"$f":"IF($G406>MAX($G$3:$G405),G406,\"\")","v":""},null,"","",null,null,null,null,null,null,null,null,null,null,null,null,null,null,null,null,null,null,null,null,null,null,null,null,null,null,null,null,null,null,null,null,null,null,14.939999999999998,66.5]
[15,14.939999999999998,73.150000000000006,null,null,null,null,null,{"$f":"IF($G407>MAX($G$3:$G406),F407,\"\")","v":""},{"$f":"IF($G407>MAX($G$3:$G406),G407,\"\")","v":""},null,"","",null,null,null,null,null,null,null,null,null,null,null,null,null,null,null,null,null,null,null,null,null,null,null,null,null,null,null,null,null,null,null,null,null,null,14.939999999999998,73.150000000000006]
[16,null,null,null,null,null,null,null,{"$f":"IF($G408>MAX($G$3:$G407),F408,\"\")","v":""},{"$f":"IF($G408>MAX($G$3:$G407),G408,\"\")","v":""},null,"",""]
[17,null,null,null,null,null,null,null,{"$f":"IF($G409>MAX($G$3:$G408),F409,\"\")","v":""},{"$f":"IF($G409>MAX($G$3:$G408),G409,\"\")","v":""},null,"",""]
[18,null,null,null,null,null,null,null,{"$f":"IF($G410>MAX($G$3:$G409),F410,\"\")","v":""},{"$f":"IF($G410>MAX($G$3:$G409),G410,\"\")","v":""},null,"",""]
[19,null,null,null,null,null,null,null,{"$f":"IF($G411>MAX($G$3:$G410),F411,\"\")","v":""},{"$f":"IF($G411>MAX($G$3:$G410),G411,\"\")","v":""},null,"",""]
[20,null,null,null,null,null,null,null,{"$f":"IF($G412>MAX($G$3:$G411),F412,\"\")","v":""},{"$f":"IF($G412>MAX($G$3:$G411),G412,\"\")","v":""},null,"",""]
[21,null,null,null,null,null,null,null,{"$f":"IF($G413>MAX($G$3:$G412),F413,\"\")","v":""},{"$f":"IF($G413>MAX($G$3:$G412),G413,\"\")","v":""},null,"",""]
[22,null,null,null,null,null,null,null,{"$f":"IF($G414>MAX($G$3:$G413),F414,\"\")","v":""},{"$f":"IF($G414>MAX($G$3:$G413),G414,\"\")","v":""},null,"",""]
[23,null,null,null,null,null,null,null,{"$f":"IF($G415>MAX($G$3:$G414),F415,\"\")","v":""},{"$f":"IF($G415>MAX($G$3:$G414),G415,\"\")","v":""},null,"",""]
[24,null,null,null,null,null,null,null,{"$f":"IF($G416>MAX($G$3:$G415),F416,\"\")","v":""},{"$f":"IF($G416>MAX($G$3:$G415),G416,\"\")","v":""},null,"",""]
[25,null,null,null,null,null,null,null,{"$f":"IF($G417>MAX($G$3:$G416),F417,\"\")","v":""},{"$f":"IF($G417>MAX($G$3:$G416),G417,\"\")","v":""},null,"",""]
[26,null,null,null,null,null,null,null,{"$f":"IF($G418>MAX($G$3:$G417),F418,\"\")","v":""},{"$f":"IF($G418>MAX($G$3:$G417),G418,\"\")","v":""},null,"",""]
[27,null,null,null,null,null,null,null,{"$f":"IF($G419>MAX($G$3:$G418),F419,\"\")","v":""},{"$f":"IF($G419>MAX($G$3:$G418),G419,\"\")","v":""},null,"",""]
[28,null,null,null,null,null,null,null,{"$f":"IF($G420>MAX($G$3:$G419),F420,\"\")","v":""},{"$f":"IF($G420>MAX($G$3:$G419),G420,\"\")","v":""},null,"",""]
[0,null,null,null,null,null,null,null,{"$f":"IF($G421>MAX($G$3:$G420),F421,\"\")","v":""},{"$f":"IF($G421>MAX($G$3:$G420),G421,\"\")","v":""},null,"",""]
[30,null,null,null,null,null,null,null,{"$f":"IF($G422>MAX($G$3:$G421),F422,\"\")","v":""},{"$f":"IF($G422>MAX($G$3:$G421),G422,\"\")","v":""},null,"",""]
[1,0,11.5,null,null,null,null,null,{"$f":"IF($G423>MAX($G$3:$G422),F423,\"\")","v":""},{"$f":"IF($G423>MAX($G$3:$G422),G423,\"\")","v":""},null,"","",null,null,null,null,null,null,null,null,null,null,null,null,null,null,null,null,null,null,null,null,null,null,null,null,null,null,null,null,null,null,null,null,null,null,0,11.5]
[2,1.4,11.5,null,null,null,null,null,{"$f":"IF($G424>MAX($G$3:$G423),F424,\"\")","v":""},{"$f":"IF($G424>MAX($G$3:$G423),G424,\"\")","v":""},null,"","",null,null,null,null,null,null,null,null,null,null,null,null,null,null,null,null,null,null,null,null,null,null,null,null,null,null,null,null,null,null,null,null,null,null,1.4,11.5]
[3,1.4,23,null,null,null,null,null,{"$f":"IF($G425>MAX($G$3:$G424),F425,\"\")","v":""},{"$f":"IF($G425>MAX($G$3:$G424),G425,\"\")","v":""},null,"","",null,null,null,null,null,null,null,null,null,null,null,null,null,null,null,null,null,null,null,null,null,null,null,null,null,null,null,null,null,null,null,null,null,null,1.4,23]
[4,3.7,23,null,null,null,null,null,{"$f":"IF($G426>MAX($G$3:$G425),F426,\"\")","v":""},{"$f":"IF($G426>MAX($G$3:$G425),G426,\"\")","v":""},null,"","",null,null,null,null,null,null,null,null,null,null,null,null,null,null,null,null,null,null,null,null,null,null,null,null,null,null,null,null,null,null,null,null,null,null,3.7,23]
[5,3.7,34.5,null,null,null,null,null,{"$f":"IF($G427>MAX($G$3:$G426),F427,\"\")","v":""},{"$f":"IF($G427>MAX($G$3:$G426),G427,\"\")","v":""},null,"","",null,null,null,null,null,null,null,null,null,null,null,null,null,null,null,null,null,null,null,null,null,null,null,null,null,null,null,null,null,null,null,null,null,null,3.7,34.5]
[6,5.6400000000000006,34.5,null,null,null,null,null,{"$f":"IF($G428>MAX($G$3:$G427),F428,\"\")","v":""},{"$f":"IF($G428>MAX($G$3:$G427),G428,\"\")","v":""},null,"","",null,null,null,null,null,null,null,null,null,null,null,null,null,null,null,null,null,null,null,null,null,null,null,null,null,null,null,null,null,null,null,null,null,null,5.6400000000000006,34.5]
[7,5.6400000000000006,46,null,null,null,null,null,{"$f":"IF($G429>MAX($G$3:$G428),F429,\"\")","v":""},{"$f":"IF($G429>MAX($G$3:$G428),G429,\"\")","v":""},null,"","",null,null,null,null,null,null,null,null,null,null,null,null,null,null,null,null,null,null,null,null,null,null,null,null,null,null,null,null,null,null,null,null,null,null,5.6400000000000006,46]
[8,11.2,46,null,null,null,null,null,{"$f":"IF($G430>MAX($G$3:$G429),F430,\"\")","v":""},{"$f":"IF($G430>MAX($G$3:$G429),G430,\"\")","v":""},null,"","",null,null,null,null,null,null,null,null,null,null,null,null,null,null,null,null,null,null,null,null,null,null,null,null,null,null,null,null,null,null,null,null,null,null,11.2,46]
[9,11.2,57.5,null,null,null,null,null,{"$f":"IF($G431>MAX($G$3:$G430),F431,\"\")","v":""},{"$f":"IF($G431>MAX($G$3:$G430),G431,\"\")","v":""},null,"","",null,null,null,null,null,null,null,null,null,null,null,null,null,null,null,null,null,null,null,null,null,null,null,null,null,null,null,null,null,null,null,null,null,null,11.2,57.5]
[10,13.139999999999999,57.5,null,null,null,null,null,{"$f":"IF($G432>MAX($G$3:$G431),F432,\"\")","v":""},{"$f":"IF($G432>MAX($G$3:$G431),G432,\"\")","v":""},null,"","",null,null,null,null,null,null,null,null,null,null,null,null,null,null,null,null,null,null,null,null,null,null,null,null,null,null,null,null,null,null,null,null,null,null,13.139999999999999,57.5]
[11,13.139999999999999,69,null,null,null,null,null,{"$f":"IF($G433>MAX($G$3:$G432),F433,\"\")","v":""},{"$f":"IF($G433>MAX($G$3:$G432),G433,\"\")","v":""},null,"","",null,null,null,null,null,null,null,null,null,null,null,null,null,null,null,null,null,null,null,null,null,null,null,null,null,null,null,null,null,null,null,null,null,null,13.139999999999999,69]
[12,17.04,69,null,null,null,null,null,{"$f":"IF($G434>MAX($G$3:$G433),F434,\"\")","v":""},{"$f":"IF($G434>MAX($G$3:$G433),G434,\"\")","v":""},null,"","",null,null,null,null,null,null,null,null,null,null,null,null,null,null,null,null,null,null,null,null,null,null,null,null,null,null,null,null,null,null,null,null,null,null,17.04,69]
[13,17.04,77,null,null,null,null,null,{"$f":"IF($G435>MAX($G$3:$G434),F435,\"\")","v":""},{"$f":"IF($G435>MAX($G$3:$G434),G435,\"\")","v":""},null,"","",null,null,null,null,null,null,null,null,null,null,null,null,null,null,null,null,null,null,null,null,null,null,null,null,null,null,null,null,null,null,null,null,null,null,17.04,77]
[14,null,null,null,null,null,null,null,{"$f":"IF($G436>MAX($G$3:$G435),F436,\"\")","v":""},{"$f":"IF($G436>MAX($G$3:$G435),G436,\"\")","v":""},null,"",""]
[15,null,null,null,null,null,null,null,{"$f":"IF($G437>MAX($G$3:$G436),F437,\"\")","v":""},{"$f":"IF($G437>MAX($G$3:$G436),G437,\"\")","v":""},null,"",""]
[16,null,null,null,null,null,null,null,{"$f":"IF($G438>MAX($G$3:$G437),F438,\"\")","v":""},{"$f":"IF($G438>MAX($G$3:$G437),G438,\"\")","v":""},null,"",""]
[17,null,null,null,null,null,null,null,{"$f":"IF($G439>MAX($G$3:$G438),F439,\"\")","v":""},{"$f":"IF($G439>MAX($G$3:$G438),G439,\"\")","v":""},null,"",""]
[18,null,null,null,null,null,null,null,{"$f":"IF($G440>MAX($G$3:$G439),F440,\"\")","v":""},{"$f":"IF($G440>MAX($G$3:$G439),G440,\"\")","v":""},null,"",""]
[19,null,null,null,null,null,null,null,{"$f":"IF($G441>MAX($G$3:$G440),F441,\"\")","v":""},{"$f":"IF($G441>MAX($G$3:$G440),G441,\"\")","v":""},null,"",""]
[20,null,null,null,null,null,null,null,{"$f":"IF($G442>MAX($G$3:$G441),F442,\"\")","v":""},{"$f":"IF($G442>MAX($G$3:$G441),G442,\"\")","v":""},null,"",""]
[21,null,null,null,null,null,null,null,{"$f":"IF($G443>MAX($G$3:$G442),F443,\"\")","v":""},{"$f":"IF($G443>MAX($G$3:$G442),G443,\"\")","v":""},null,"",""]
[22,null,null,null,null,null,null,null,{"$f":"IF($G444>MAX($G$3:$G443),F444,\"\")","v":""},{"$f":"IF($G444>MAX($G$3:$G443),G444,\"\")","v":""},null,"",""]
[23,null,null,null,null,null,null,null,{"$f":"IF($G445>MAX($G$3:$G444),F445,\"\")","v":""},{"$f":"IF($G445>MAX($G$3:$G444),G445,\"\")","v":""},null,"",""]
[24,null,null,null,null,null,null,null,{"$f":"IF($G446>MAX($G$3:$G445),F446,\"\")","v":""},{"$f":"IF($G446>MAX($G$3:$G445),G446,\"\")","v":""},null,"",""]
[25,null,null,null,null,null,null,null,{"$f":"IF($G447>MAX($G$3:$G446),F447,\"\")","v":""},{"$f":"IF($G447>MAX($G$3:$G446),G447,\"\")","v":""},null,"",""]
[26,null,null,null,null,null,null,null,{"$f":"IF($G448>MAX($G$3:$G447),F448,\"\")","v":""},{"$f":"IF($G448>MAX($G$3:$G447),G448,\"\")","v":""},null,"",""]
[27,null,null,null,null,null,null,null,{"$f":"IF($G449>MAX($G$3:$G448),F449,\"\")","v":""},{"$f":"IF($G449>MAX($G$3:$G448),G449,\"\")","v":""},null,"",""]
[28,null,null,null,null,null,null,null,{"$f":"IF($G450>MAX($G$3:$G449),F450,\"\")","v":""},{"$f":"IF($G450>MAX($G$3:$G449),G450,\"\")","v":""},null,"",""]
[29,null,null,null,null,null,null,null,{"$f":"IF($G451>MAX($G$3:$G450),F451,\"\")","v":""},{"$f":"IF($G451>MAX($G$3:$G450),G451,\"\")","v":""},null,"",""]
[30,null,null,null,null,null,null,null,{"$f":"IF($G452>MAX($G$3:$G451),F452,\"\")","v":""},{"$f":"IF($G452>MAX($G$3:$G451),G452,\"\")","v":""},null,"",""]
[1]
[2]
[3]
[4]
[5]
[6]
[7]
[8]
[9]
[10]
[11]
[12]
[13]
[14]
[15]
[16]
[17]
[18]
[19]
[20]
[21]
[22]
[23]
[24]
[25]
[26]
[27]
[28]
[29]
[30]